Workbook

Sheet Apple comps
A1: Market data (edit any cell) | B1: Inputs: edit the blue cells on the 'Market data' sheet; this table follows them.
A2: company | B2: Share price ($) | C2: Diluted shares (M) | D2: Cash & investments | E2: Total debt
A3: Apple | B3: ='Market data'!B2 -> 331.34 | C3: ='Market data'!B3 -> 14590 | D3: ='Market data'!B4 -> 62400 | E3: ='Market data'!B5 -> 84340
A4: Microsoft | B4: ='Market data'!C2 -> 497.75 | C4: ='Market data'!C3 -> 7430 | D4: ='Market data'!C4 -> 76840 | E4: ='Market data'!C5 -> 128810
A5: Alphabet | B5: ='Market data'!D2 -> 347.33 | C5: ='Market data'!D3 -> 12230 | D5: ='Market data'!D4 -> 242470 | E5: ='Market data'!D5 -> 120790
A6: Amazon | B6: ='Market data'!E2 -> 251.19 | C6: ='Market data'!E3 -> 10790 | D6: ='Market data'!E4 -> 122990 | E6: ='Market data'!E5 -> 251640
A7: Meta Platforms | B7: ='Market data'!F2 -> 682.31 | C7: ='Market data'!F3 -> 2520 | D7: ='Market data'!F4 -> 90260 | E7: ='Market data'!F5 -> 112320
A8: NVIDIA | B8: ='Market data'!G2 -> 219.34 | C8: ='Market data'!G3 -> 24150 | D8: ='Market data'!G4 -> 62470 | E8: ='Market data'!G5 -> 38860
A9: Dell Technologies | B9: ='Market data'!H2 -> 543.51 | C9: ='Market data'!H3 -> 636 | D9: ='Market data'!H4 -> 11570 | E9: ='Market data'!H5 -> 31920
A10: HP Inc. | B10: ='Market data'!I2 -> 33.82 | C10: ='Market data'!I3 -> 914.5 | D10: ='Market data'!I4 -> 3700 | E10: ='Market data'!I5 -> 10860
A12: Financial performance, LTM and NTM (edit any input) | B12: Inputs: edit the blue cells on the 'Comparable companies' sheet; this table follows them.
A13: company | B13: Revenue LTM | C13: Revenue NTM | D13: EBITDA LTM | E13: EBITDA NTM | F13: EPS LTM ($) | G13: EPS NTM ($) | H13: Revenue growth LTM | I13: Revenue growth NTM | J13: EBITDA margin LTM | K13: EBITDA margin NTM
A14: Apple | B14: ='Comparable companies'!B5 -> 466820 | C14: ='Comparable companies'!B6 -> 512000 | D14: ='Comparable companies'!B8 -> 167960 | E14: ='Comparable companies'!B9 -> 186000 | F14: ='Comparable companies'!B12 -> 8.73 | G14: ='Comparable companies'!B13 -> 9.8 | H14: ='Comparable companies'!B14 -> 0.16405256 | I14: ='Comparable companies'!B15 -> 0.096782486 | J14: ='Comparable companies'!B16 -> 0.35979607 | K14: ='Comparable companies'!B17 -> 0.36328125
A15: Microsoft | B15: ='Comparable companies'!C5 -> 331840 | C15: ='Comparable companies'!C6 -> 386000 | D15: ='Comparable companies'!C8 -> 194240 | E15: ='Comparable companies'!C9 -> 228000 | F15: ='Comparable companies'!C12 -> 17.94 | G15: ='Comparable companies'!C13 -> 21.1 | H15: ='Comparable companies'!C14 -> 0.17698801 | I15: ='Comparable companies'!C15 -> 0.16321119 | J15: ='Comparable companies'!C16 -> 0.58534233 | K15: ='Comparable companies'!C17 -> 0.59067358
A16: Alphabet | B16: ='Comparable companies'!D5 -> 445870 | C16: ='Comparable companies'!D6 -> 512000 | D16: ='Comparable companies'!D8 -> 173160 | E16: ='Comparable companies'!D9 -> 201000 | F16: ='Comparable companies'!D12 -> 19.92 | G16: ='Comparable companies'!D13 -> 21.6 | H16: ='Comparable companies'!D14 -> 0.24201231 | I16: ='Comparable companies'!D15 -> 0.14831677 | J16: ='Comparable companies'!D16 -> 0.38836432 | K16: ='Comparable companies'!D17 -> 0.39257812
A17: Amazon | B17: ='Comparable companies'!E5 -> 775680 | C17: ='Comparable companies'!E6 -> 905000 | D17: ='Comparable companies'!E8 -> 168910 | E17: ='Comparable companies'!E9 -> 205000 | F17: ='Comparable companies'!E12 -> 12.43 | G17: ='Comparable companies'!E13 -> 15.2 | H17: ='Comparable companies'!E14 -> 0.19600345 | I17: ='Comparable companies'!E15 -> 0.16671823 | J17: ='Comparable companies'!E16 -> 0.21775732 | K17: ='Comparable companies'!E17 -> 0.22651934
A18: Meta Platforms | B18: ='Comparable companies'!F5 -> 228250 | C18: ='Comparable companies'!F6 -> 276000 | D18: ='Comparable companies'!F8 -> 109650 | E18: ='Comparable companies'!F9 -> 134000 | F18: ='Comparable companies'!F12 -> 26.16 | G18: ='Comparable companies'!F13 -> 31.4 | H18: ='Comparable companies'!F14 -> 0.28000224 | I18: ='Comparable companies'!F15 -> 0.20920044 | J18: ='Comparable companies'!F16 -> 0.4803943 | K18: ='Comparable companies'!F17 -> 0.48550725
A19: NVIDIA | B19: ='Comparable companies'!G5 -> 302970 | C19: ='Comparable companies'!G6 -> 423000 | D19: ='Comparable companies'!G8 -> 201270 | E19: ='Comparable companies'!G9 -> 283000 | F19: ='Comparable companies'!G12 -> 7.91 | G19: ='Comparable companies'!G13 -> 10.95 | H19: ='Comparable companies'!G14 -> 1.0590594 | I19: ='Comparable companies'!G15 -> 0.39617784 | J19: ='Comparable companies'!G16 -> 0.6643232 | K19: ='Comparable companies'!G17 -> 0.66903073
A20: Dell Technologies | B20: ='Comparable companies'!H5 -> 151200 | C20: ='Comparable companies'!H6 -> 172000 | D20: ='Comparable companies'!H8 -> 17730 | E20: ='Comparable companies'!H9 -> 20400 | F20: ='Comparable companies'!H12 -> 17.2 | G20: ='Comparable companies'!H13 -> 20.1 | H20: ='Comparable companies'!H14 -> 0.5799373 | I20: ='Comparable companies'!H15 -> 0.13756614 | J20: ='Comparable companies'!H16 -> 0.1172619 | K20: ='Comparable companies'!H17 -> 0.11860465
A21: HP Inc. | B21: ='Comparable companies'!I5 -> 57420 | C21: ='Comparable companies'!I6 -> 59500 | D21: ='Comparable companies'!I8 -> 4710 | E21: ='Comparable companies'!I9 -> 5000 | F21: ='Comparable companies'!I12 -> 2.7 | G21: ='Comparable companies'!I13 -> 2.95 | H21: ='Comparable companies'!I14 -> 0.089977221 | I21: ='Comparable companies'!I15 -> 0.036224312 | J21: ='Comparable companies'!I16 -> 0.082027168 | K21: ='Comparable companies'!I17 -> 0.084033613
A23: Valuation and trading multiples, LTM and NTM
A24: company | B24: Market cap | C24: Net debt (cash) | D24: Enterprise value | E24: EV / Revenue LTM (x) | F24: EV / Revenue NTM (x) | G24: EV / EBITDA LTM (x) | H24: EV / EBITDA NTM (x) | I24: P / E LTM (x) | J24: P / E NTM (x)
A25: Apple | B25: ='Comparable companies'!B2 -> 4834250.6 | C25: ='Comparable companies'!B3 -> 21940 | D25: ='Comparable companies'!B4 -> 4856190.6 | E25: ='Comparable companies'!B18 -> 10.402705 | F25: ='Comparable companies'!B19 -> 9.4847473 | G25: ='Comparable companies'!B20 -> 28.91278 | H25: ='Comparable companies'!B21 -> 26.108552 | I25: ='Comparable companies'!B22 -> 37.954181 | J25: ='Comparable companies'!B23 -> 33.810204
A26: Microsoft | B26: ='Comparable companies'!C2 -> 3698282.5 | C26: ='Comparable companies'!C3 -> 51970 | D26: ='Comparable companies'!C4 -> 3750252.5 | E26: ='Comparable companies'!C18 -> 11.301388 | F26: ='Comparable companies'!C19 -> 9.7156801 | G26: ='Comparable companies'!C20 -> 19.307313 | H26: ='Comparable companies'!C21 -> 16.448476 | I26: ='Comparable companies'!C22 -> 27.745262 | J26: ='Comparable companies'!C23 -> 23.590047
A27: Alphabet | B27: ='Comparable companies'!D2 -> 4247845.9 | C27: ='Comparable companies'!D3 -> -121680 | D27: ='Comparable companies'!D4 -> 4126165.9 | E27: ='Comparable companies'!D18 -> 9.2541905 | F27: ='Comparable companies'!D19 -> 8.0589178 | G27: ='Comparable companies'!D20 -> 23.828632 | H27: ='Comparable companies'!D21 -> 20.528189 | I27: ='Comparable companies'!D22 -> 17.436245 | J27: ='Comparable companies'!D23 -> 16.080093
A28: Amazon | B28: ='Comparable companies'!E2 -> 2710340.1 | C28: ='Comparable companies'!E3 -> 128650 | D28: ='Comparable companies'!E4 -> 2838990.1 | E28: ='Comparable companies'!E18 -> 3.6600017 | F28: ='Comparable companies'!E19 -> 3.1370056 | G28: ='Comparable companies'!E20 -> 16.807709 | H28: ='Comparable companies'!E21 -> 13.848732 | I28: ='Comparable companies'!E22 -> 20.208367 | J28: ='Comparable companies'!E23 -> 16.525658
A29: Meta Platforms | B29: ='Comparable companies'!F2 -> 1719421.2 | C29: ='Comparable companies'!F3 -> 22060 | D29: ='Comparable companies'!F4 -> 1741481.2 | E29: ='Comparable companies'!F18 -> 7.6297095 | F29: ='Comparable companies'!F19 -> 6.3097145 | G29: ='Comparable companies'!F20 -> 15.882181 | H29: ='Comparable companies'!F21 -> 12.996128 | I29: ='Comparable companies'!F22 -> 26.082187 | J29: ='Comparable companies'!F23 -> 21.729618
A30: NVIDIA | B30: ='Comparable companies'!G2 -> 5297061 | C30: ='Comparable companies'!G3 -> -23610 | D30: ='Comparable companies'!G4 -> 5273451 | E30: ='Comparable companies'!G18 -> 17.405852 | F30: ='Comparable companies'!G19 -> 12.466787 | G30: ='Comparable companies'!G20 -> 26.200879 | H30: ='Comparable companies'!G21 -> 18.634102 | I30: ='Comparable companies'!G22 -> 27.729456 | J30: ='Comparable companies'!G23 -> 20.03105
A31: Dell Technologies | B31: ='Comparable companies'!H2 -> 345672.36 | C31: ='Comparable companies'!H3 -> 20350 | D31: ='Comparable companies'!H4 -> 366022.36 | E31: ='Comparable companies'!H18 -> 2.4207828 | F31: ='Comparable companies'!H19 -> 2.128037 | G31: ='Comparable companies'!H20 -> 20.644239 | H31: ='Comparable companies'!H21 -> 17.942273 | I31: ='Comparable companies'!H22 -> 31.599419 | J31: ='Comparable companies'!H23 -> 27.040299
A32: HP Inc. | B32: ='Comparable companies'!I2 -> 30928.39 | C32: ='Comparable companies'!I3 -> 7160 | D32: ='Comparable companies'!I4 -> 38088.39 | E32: ='Comparable companies'!I18 -> 0.66332968 | F32: ='Comparable companies'!I19 -> 0.64014101 | G32: ='Comparable companies'!I20 -> 8.086707 | H32: ='Comparable companies'!I21 -> 7.617678 | I32: ='Comparable companies'!I22 -> 12.525926 | J32: ='Comparable companies'!I23 -> 11.464407
A34: Peer statistics (Apple excluded)
A35: line | B35: Low | C35: Mean | D35: Median | E35: High | F35: Median: platforms | G35: Median: hardware
A36: EV / Revenue LTM (x) | B36: ='Peer statistics'!B18 -> 0.66332968 | C36: ='Peer statistics'!C18 -> 7.4764648 | D36: ='Peer statistics'!D18 -> 7.6297095 | E36: ='Peer statistics'!E18 -> 17.405852 | F36: ='Peer statistics'!F18 -> 9.2541905 | G36: ='Peer statistics'!G18 -> 1.5420562
A37: EV / Revenue NTM (x) | B37: ='Peer statistics'!B19 -> 0.64014101 | C37: ='Peer statistics'!C19 -> 6.0651833 | D37: ='Peer statistics'!D19 -> 6.3097145 | E37: ='Peer statistics'!E19 -> 12.466787 | F37: ='Peer statistics'!F19 -> 8.0589178 | G37: ='Peer statistics'!G19 -> 1.384089
A38: EV / EBITDA LTM (x) | B38: ='Peer statistics'!B20 -> 8.086707 | C38: ='Peer statistics'!C20 -> 18.679666 | D38: ='Peer statistics'!D20 -> 19.307313 | E38: ='Peer statistics'!E20 -> 26.200879 | F38: ='Peer statistics'!F20 -> 19.307313 | G38: ='Peer statistics'!G20 -> 14.365473
A39: EV / EBITDA NTM (x) | B39: ='Peer statistics'!B21 -> 7.617678 | C39: ='Peer statistics'!C21 -> 15.430797 | D39: ='Peer statistics'!D21 -> 16.448476 | E39: ='Peer statistics'!E21 -> 20.528189 | F39: ='Peer statistics'!F21 -> 16.448476 | G39: ='Peer statistics'!G21 -> 12.779975
A40: P / E LTM (x) | B40: ='Peer statistics'!B22 -> 12.525926 | C40: ='Peer statistics'!C22 -> 23.332409 | D40: ='Peer statistics'!D22 -> 26.082187 | E40: ='Peer statistics'!E22 -> 31.599419 | F40: ='Peer statistics'!F22 -> 26.082187 | G40: ='Peer statistics'!G22 -> 22.062672
A41: P / E NTM (x) | B41: ='Peer statistics'!B23 -> 11.464407 | C41: ='Peer statistics'!C23 -> 19.494453 | D41: ='Peer statistics'!D23 -> 20.03105 | E41: ='Peer statistics'!E23 -> 27.040299 | F41: ='Peer statistics'!F23 -> 20.03105 | G41: ='Peer statistics'!G23 -> 19.252353
A42: Revenue growth LTM | B42: ='Peer statistics'!B14 -> 0.089977221 | C42: ='Peer statistics'!C14 -> 0.37485428 | D42: ='Peer statistics'!D14 -> 0.24201231 | E42: ='Peer statistics'!E14 -> 1.0590594 | F42: ='Peer statistics'!F14 -> 0.24201231 | G42: ='Peer statistics'!G14 -> 0.33495726
A43: Revenue growth NTM | B43: ='Peer statistics'!B15 -> 0.036224312 | C43: ='Peer statistics'!C15 -> 0.1796307 | D43: ='Peer statistics'!D15 -> 0.16321119 | E43: ='Peer statistics'!E15 -> 0.39617784 | F43: ='Peer statistics'!F15 -> 0.16671823 | G43: ='Peer statistics'!G15 -> 0.086895225
...

Sheet Market data
A1: line | B1: Apple | C1: Microsoft | D1: Alphabet | E1: Amazon | F1: Meta Platforms | G1: NVIDIA | H1: Dell Technologies | I1: HP Inc.
A2: Share price ($) | B2: 331.34 | C2: 497.75 | D2: 347.33 | E2: 251.19 | F2: 682.31 | G2: 219.34 | H2: 543.51 | I2: 33.82
A3: Diluted shares (M) | B3: 14590 | C3: 7430 | D3: 12230 | E3: 10790 | F3: 2520 | G3: 24150 | H3: 636 | I3: 914.5
A4: Cash & investments | B4: 62400 | C4: 76840 | D4: 242470 | E4: 122990 | F4: 90260 | G4: 62470 | H4: 11570 | I4: 3700
A5: Total debt | B5: 84340 | C5: 128810 | D5: 120790 | E5: 251640 | F5: 112320 | G5: 38860 | H5: 31920 | I5: 10860

Sheet Comparable companies
A1: line | B1: Apple | C1: Microsoft | D1: Alphabet | E1: Amazon | F1: Meta Platforms | G1: NVIDIA | H1: Dell Technologies | I1: HP Inc.
A2: Market cap | B2: =('Market data'!B2*'Market data'!B3) -> 4834250.6 | C2: =('Market data'!C2*'Market data'!C3) -> 3698282.5 | D2: =('Market data'!D2*'Market data'!D3) -> 4247845.9 | E2: =('Market data'!E2*'Market data'!E3) -> 2710340.1 | F2: =('Market data'!F2*'Market data'!F3) -> 1719421.2 | G2: =('Market data'!G2*'Market data'!G3) -> 5297061 | H2: =('Market data'!H2*'Market data'!H3) -> 345672.36 | I2: =('Market data'!I2*'Market data'!I3) -> 30928.39
A3: Net debt (cash) | B3: =('Market data'!B5-'Market data'!B4) -> 21940 | C3: =('Market data'!C5-'Market data'!C4) -> 51970 | D3: =('Market data'!D5-'Market data'!D4) -> -121680 | E3: =('Market data'!E5-'Market data'!E4) -> 128650 | F3: =('Market data'!F5-'Market data'!F4) -> 22060 | G3: =('Market data'!G5-'Market data'!G4) -> -23610 | H3: =('Market data'!H5-'Market data'!H4) -> 20350 | I3: =('Market data'!I5-'Market data'!I4) -> 7160
A4: Enterprise value | B4: =(B2+B3) -> 4856190.6 | C4: =(C2+C3) -> 3750252.5 | D4: =(D2+D3) -> 4126165.9 | E4: =(E2+E3) -> 2838990.1 | F4: =(F2+F3) -> 1741481.2 | G4: =(G2+G3) -> 5273451 | H4: =(H2+H3) -> 366022.36 | I4: =(I2+I3) -> 38088.39
A5: Revenue LTM | B5: 466820 | C5: 331840 | D5: 445870 | E5: 775680 | F5: 228250 | G5: 302970 | H5: 151200 | I5: 57420
A6: Revenue NTM | B6: 512000 | C6: 386000 | D6: 512000 | E6: 905000 | F6: 276000 | G6: 423000 | H6: 172000 | I6: 59500
A7: Revenue, year before LTM | B7: 401030 | C7: 281940 | D7: 358990 | E7: 648560 | F7: 178320 | G7: 147140 | H7: 95700 | I7: 52680
A8: EBITDA LTM | B8: 167960 | C8: 194240 | D8: 173160 | E8: 168910 | F8: 109650 | G8: 201270 | H8: 17730 | I8: 4710
A9: EBITDA NTM | B9: 186000 | C9: 228000 | D9: 201000 | E9: 205000 | F9: 134000 | G9: 283000 | H9: 20400 | I9: 5000
A10: Net income LTM | B10: 128930 | C10: 133750 | D10: 244120 | E10: 135280 | F10: 68100 | G10: 192880 | H10: 11380 | I10: 2550
A11: Net income NTM | B11: 142000 | C11: 156000 | D11: 262000 | E11: 163000 | F11: 80000 | G11: 266000 | H11: 13100 | I11: 2750
A12: EPS LTM ($) | B12: 8.73 | C12: 17.94 | D12: 19.92 | E12: 12.43 | F12: 26.16 | G12: 7.91 | H12: 17.2 | I12: 2.7
A13: EPS NTM ($) | B13: 9.8 | C13: 21.1 | D13: 21.6 | E13: 15.2 | F13: 31.4 | G13: 10.95 | H13: 20.1 | I13: 2.95
A14: Revenue growth LTM | B14: =((B5/B7)-1) -> 0.16405256 | C14: =((C5/C7)-1) -> 0.17698801 | D14: =((D5/D7)-1) -> 0.24201231 | E14: =((E5/E7)-1) -> 0.19600345 | F14: =((F5/F7)-1) -> 0.28000224 | G14: =((G5/G7)-1) -> 1.0590594 | H14: =((H5/H7)-1) -> 0.5799373 | I14: =((I5/I7)-1) -> 0.089977221
A15: Revenue growth NTM | B15: =((B6/B5)-1) -> 0.096782486 | C15: =((C6/C5)-1) -> 0.16321119 | D15: =((D6/D5)-1) -> 0.14831677 | E15: =((E6/E5)-1) -> 0.16671823 | F15: =((F6/F5)-1) -> 0.20920044 | G15: =((G6/G5)-1) -> 0.39617784 | H15: =((H6/H5)-1) -> 0.13756614 | I15: =((I6/I5)-1) -> 0.036224312
A16: EBITDA margin LTM | B16: =(B8/B5) -> 0.35979607 | C16: =(C8/C5) -> 0.58534233 | D16: =(D8/D5) -> 0.38836432 | E16: =(E8/E5) -> 0.21775732 | F16: =(F8/F5) -> 0.4803943 | G16: =(G8/G5) -> 0.6643232 | H16: =(H8/H5) -> 0.1172619 | I16: =(I8/I5) -> 0.082027168
A17: EBITDA margin NTM | B17: =(B9/B6) -> 0.36328125 | C17: =(C9/C6) -> 0.59067358 | D17: =(D9/D6) -> 0.39257812 | E17: =(E9/E6) -> 0.22651934 | F17: =(F9/F6) -> 0.48550725 | G17: =(G9/G6) -> 0.66903073 | H17: =(H9/H6) -> 0.11860465 | I17: =(I9/I6) -> 0.084033613
A18: EV / Revenue LTM (x) | B18: =(B4/B5) -> 10.402705 | C18: =(C4/C5) -> 11.301388 | D18: =(D4/D5) -> 9.2541905 | E18: =(E4/E5) -> 3.6600017 | F18: =(F4/F5) -> 7.6297095 | G18: =(G4/G5) -> 17.405852 | H18: =(H4/H5) -> 2.4207828 | I18: =(I4/I5) -> 0.66332968
A19: EV / Revenue NTM (x) | B19: =(B4/B6) -> 9.4847473 | C19: =(C4/C6) -> 9.7156801 | D19: =(D4/D6) -> 8.0589178 | E19: =(E4/E6) -> 3.1370056 | F19: =(F4/F6) -> 6.3097145 | G19: =(G4/G6) -> 12.466787 | H19: =(H4/H6) -> 2.128037 | I19: =(I4/I6) -> 0.64014101
A20: EV / EBITDA LTM (x) | B20: =(B4/B8) -> 28.91278 | C20: =(C4/C8) -> 19.307313 | D20: =(D4/D8) -> 23.828632 | E20: =(E4/E8) -> 16.807709 | F20: =(F4/F8) -> 15.882181 | G20: =(G4/G8) -> 26.200879 | H20: =(H4/H8) -> 20.644239 | I20: =(I4/I8) -> 8.086707
A21: EV / EBITDA NTM (x) | B21: =(B4/B9) -> 26.108552 | C21: =(C4/C9) -> 16.448476 | D21: =(D4/D9) -> 20.528189 | E21: =(E4/E9) -> 13.848732 | F21: =(F4/F9) -> 12.996128 | G21: =(G4/G9) -> 18.634102 | H21: =(H4/H9) -> 17.942273 | I21: =(I4/I9) -> 7.617678
A22: P / E LTM (x) | B22: =('Market data'!B2/B12) -> 37.954181 | C22: =('Market data'!C2/C12) -> 27.745262 | D22: =('Market data'!D2/D12) -> 17.436245 | E22: =('Market data'!E2/E12) -> 20.208367 | F22: =('Market data'!F2/F12) -> 26.082187 | G22: =('Market data'!G2/G12) -> 27.729456 | H22: =('Market data'!H2/H12) -> 31.599419 | I22: =('Market data'!I2/I12) -> 12.525926
A23: P / E NTM (x) | B23: =('Market data'!B2/B13) -> 33.810204 | C23: =('Market data'!C2/C13) -> 23.590047 | D23: =('Market data'!D2/D13) -> 16.080093 | E23: =('Market data'!E2/E13) -> 16.525658 | F23: =('Market data'!F2/F13) -> 21.729618 | G23: =('Market data'!G2/G13) -> 20.03105 | H23: =('Market data'!H2/H13) -> 27.040299 | I23: =('Market data'!I2/I13) -> 11.464407

Sheet Peer statistics
A1: line | B1: Low | C1: Mean | D1: Median | E1: High | F1: Median: platforms | G1: Median: hardware
A2: Market cap | B2: =MIN('Comparable companies'!C2:I2) -> 30928.39 | C2: =AVERAGE('Comparable companies'!C2:I2) -> 2578507.4 | D2: =MEDIAN('Comparable companies'!C2:I2) -> 2710340.1 | E2: =MAX('Comparable companies'!C2:I2) -> 5297061 | F2: =MEDIAN('Comparable companies'!C2:G2) -> 3698282.5 | G2: =MEDIAN('Comparable companies'!H2:I2) -> 188300.38
A3: Net debt (cash) | B3: =MIN('Comparable companies'!C3:I3) -> -121680 | C3: =AVERAGE('Comparable companies'!C3:I3) -> 12128.571 | D3: =MEDIAN('Comparable companies'!C3:I3) -> 20350 | E3: =MAX('Comparable companies'!C3:I3) -> 128650 | F3: =MEDIAN('Comparable companies'!C3:G3) -> 22060 | G3: =MEDIAN('Comparable companies'!H3:I3) -> 13755
A4: Enterprise value | B4: =MIN('Comparable companies'!C4:I4) -> 38088.39 | C4: =AVERAGE('Comparable companies'!C4:I4) -> 2590635.9 | D4: =MEDIAN('Comparable companies'!C4:I4) -> 2838990.1 | E4: =MAX('Comparable companies'!C4:I4) -> 5273451 | F4: =MEDIAN('Comparable companies'!C4:G4) -> 3750252.5 | G4: =MEDIAN('Comparable companies'!H4:I4) -> 202055.38
A5: Revenue LTM | B5: =MIN('Comparable companies'!C5:I5) -> 57420 | C5: =AVERAGE('Comparable companies'!C5:I5) -> 327604.29 | D5: =MEDIAN('Comparable companies'!C5:I5) -> 302970 | E5: =MAX('Comparable companies'!C5:I5) -> 775680 | F5: =MEDIAN('Comparable companies'!C5:G5) -> 331840 | G5: =MEDIAN('Comparable companies'!H5:I5) -> 104310
A6: Revenue NTM | B6: =MIN('Comparable companies'!C6:I6) -> 59500 | C6: =AVERAGE('Comparable companies'!C6:I6) -> 390500 | D6: =MEDIAN('Comparable companies'!C6:I6) -> 386000 | E6: =MAX('Comparable companies'!C6:I6) -> 905000 | F6: =MEDIAN('Comparable companies'!C6:G6) -> 423000 | G6: =MEDIAN('Comparable companies'!H6:I6) -> 115750
A7: Revenue, year before LTM | B7: =MIN('Comparable companies'!C7:I7) -> 52680 | C7: =AVERAGE('Comparable companies'!C7:I7) -> 251904.29 | D7: =MEDIAN('Comparable companies'!C7:I7) -> 178320 | E7: =MAX('Comparable companies'!C7:I7) -> 648560 | F7: =MEDIAN('Comparable companies'!C7:G7) -> 281940 | G7: =MEDIAN('Comparable companies'!H7:I7) -> 74190
A8: EBITDA LTM | B8: =MIN('Comparable companies'!C8:I8) -> 4710 | C8: =AVERAGE('Comparable companies'!C8:I8) -> 124238.57 | D8: =MEDIAN('Comparable companies'!C8:I8) -> 168910 | E8: =MAX('Comparable companies'!C8:I8) -> 201270 | F8: =MEDIAN('Comparable companies'!C8:G8) -> 173160 | G8: =MEDIAN('Comparable companies'!H8:I8) -> 11220
A9: EBITDA NTM | B9: =MIN('Comparable companies'!C9:I9) -> 5000 | C9: =AVERAGE('Comparable companies'!C9:I9) -> 153771.43 | D9: =MEDIAN('Comparable companies'!C9:I9) -> 201000 | E9: =MAX('Comparable companies'!C9:I9) -> 283000 | F9: =MEDIAN('Comparable companies'!C9:G9) -> 205000 | G9: =MEDIAN('Comparable companies'!H9:I9) -> 12700
A10: Net income LTM | B10: =MIN('Comparable companies'!C10:I10) -> 2550 | C10: =AVERAGE('Comparable companies'!C10:I10) -> 112580 | D10: =MEDIAN('Comparable companies'!C10:I10) -> 133750 | E10: =MAX('Comparable companies'!C10:I10) -> 244120 | F10: =MEDIAN('Comparable companies'!C10:G10) -> 135280 | G10: =MEDIAN('Comparable companies'!H10:I10) -> 6965
A11: Net income NTM | B11: =MIN('Comparable companies'!C11:I11) -> 2750 | C11: =AVERAGE('Comparable companies'!C11:I11) -> 134692.86 | D11: =MEDIAN('Comparable companies'!C11:I11) -> 156000 | E11: =MAX('Comparable companies'!C11:I11) -> 266000 | F11: =MEDIAN('Comparable companies'!C11:G11) -> 163000 | G11: =MEDIAN('Comparable companies'!H11:I11) -> 7925
A12: EPS LTM ($) | B12: =MIN('Comparable companies'!C12:I12) -> 2.7 | C12: =AVERAGE('Comparable companies'!C12:I12) -> 14.894286 | D12: =MEDIAN('Comparable companies'!C12:I12) -> 17.2 | E12: =MAX('Comparable companies'!C12:I12) -> 26.16 | F12: =MEDIAN('Comparable companies'!C12:G12) -> 17.94 | G12: =MEDIAN('Comparable companies'!H12:I12) -> 9.95
A13: EPS NTM ($) | B13: =MIN('Comparable companies'!C13:I13) -> 2.95 | C13: =AVERAGE('Comparable companies'!C13:I13) -> 17.614286 | D13: =MEDIAN('Comparable companies'!C13:I13) -> 20.1 | E13: =MAX('Comparable companies'!C13:I13) -> 31.4 | F13: =MEDIAN('Comparable companies'!C13:G13) -> 21.1 | G13: =MEDIAN('Comparable companies'!H13:I13) -> 11.525
... A23: P / E NTM (x) | B23: =MIN('Comparable companies'!C23:I23) -> 11.464407 | C23: =AVERAGE('Comparable companies'!C23:I23) -> 19.494453 | D23: =MEDIAN('Comparable companies'!C23:I23) -> 20.03105 | E23: =MAX('Comparable companies'!C23:I23) -> 27.040299 | F23: =MEDIAN('Comparable companies'!C23:G23) -> 20.03105 | G23: =MEDIAN('Comparable companies'!H23:I23) -> 19.252353

Sheet Implied Apple valuation
A1: line | B1: Low | C1: Mean | D1: Median | E1: High | F1: Median: platforms | G1: Median: hardware
A2: Price at peer EV / Revenue LTM ($) | B2: =((('Peer statistics'!B18*'Comparable companies'!B5)-'Comparable companies'!B3)/'Market data'!B3) -> 19.720052 | C2: =((('Peer statistics'!C18*'Comparable companies'!B5)-'Comparable companies'!B3)/'Market data'!B3) -> 237.71236 | D2: =((('Peer statistics'!D18*'Comparable companies'!B5)-'Comparable companies'!B3)/'Market data'!B3) -> 242.61556 | E2: =((('Peer statistics'!E18*'Comparable companies'!B5)-'Comparable companies'!B3)/'Market data'!B3) -> 555.41192 | F2: =((('Peer statistics'!F18*'Comparable companies'!B5)-'Comparable companies'!B3)/'Market data'!B3) -> 294.59227 | G2: =((('Peer statistics'!G18*'Comparable companies'!B5)-'Comparable companies'!B3)/'Market data'!B3) -> 47.835688
A3: Price at peer EV / Revenue NTM ($) | B3: =((('Peer statistics'!B19*'Comparable companies'!B6)-'Comparable companies'!B3)/'Market data'!B3) -> 20.960397 | C3: =((('Peer statistics'!C19*'Comparable companies'!B6)-'Comparable companies'!B3)/'Market data'!B3) -> 211.33885 | D3: =((('Peer statistics'!D19*'Comparable companies'!B6)-'Comparable companies'!B3)/'Market data'!B3) -> 219.92007 | E3: =((('Peer statistics'!E19*'Comparable companies'!B6)-'Comparable companies'!B3)/'Market data'!B3) -> 435.98732 | F3: =((('Peer statistics'!F19*'Comparable companies'!B6)-'Comparable companies'!B3)/'Market data'!B3) -> 281.30404 | G3: =((('Peer statistics'!G19*'Comparable companies'!B6)-'Comparable companies'!B3)/'Market data'!B3) -> 47.067414
A4: Price at peer EV / EBITDA LTM ($) | B4: =((('Peer statistics'!B20*'Comparable companies'!B8)-'Comparable companies'!B3)/'Market data'!B3) -> 91.590357 | C4: =((('Peer statistics'!C20*'Comparable companies'!B8)-'Comparable companies'!B3)/'Market data'!B3) -> 213.53644 | D4: =((('Peer statistics'!D20*'Comparable companies'!B8)-'Comparable companies'!B3)/'Market data'!B3) -> 220.76191 | E4: =((('Peer statistics'!E20*'Comparable companies'!B8)-'Comparable companies'!B3)/'Market data'!B3) -> 300.12061 | F4: =((('Peer statistics'!F20*'Comparable companies'!B8)-'Comparable companies'!B3)/'Market data'!B3) -> 220.76191 | G4: =((('Peer statistics'!G20*'Comparable companies'!B8)-'Comparable companies'!B3)/'Market data'!B3) -> 163.87148
A5: Price at peer EV / EBITDA NTM ($) | B5: =((('Peer statistics'!B21*'Comparable companies'!B9)-'Comparable companies'!B3)/'Market data'!B3) -> 95.609877 | C5: =((('Peer statistics'!C21*'Comparable companies'!B9)-'Comparable companies'!B3)/'Market data'!B3) -> 195.21509 | D5: =((('Peer statistics'!D21*'Comparable companies'!B9)-'Comparable companies'!B3)/'Market data'!B3) -> 208.18893 | E5: =((('Peer statistics'!E21*'Comparable companies'!B9)-'Comparable companies'!B3)/'Market data'!B3) -> 260.19898 | F5: =((('Peer statistics'!F21*'Comparable companies'!B9)-'Comparable companies'!B3)/'Market data'!B3) -> 208.18893 | G5: =((('Peer statistics'!G21*'Comparable companies'!B9)-'Comparable companies'!B3)/'Market data'!B3) -> 161.42121
A6: Price at peer P / E LTM ($) | B6: =('Peer statistics'!B22*'Comparable companies'!B12) -> 109.35133 | C6: =('Peer statistics'!C22*'Comparable companies'!B12) -> 203.69193 | D6: =('Peer statistics'!D22*'Comparable companies'!B12) -> 227.69749 | E6: =('Peer statistics'!E22*'Comparable companies'!B12) -> 275.86292 | F6: =('Peer statistics'!F22*'Comparable companies'!B12) -> 227.69749 | G6: =('Peer statistics'!G22*'Comparable companies'!B12) -> 192.60713
A7: Price at peer P / E NTM ($) | B7: =('Peer statistics'!B23*'Comparable companies'!B13) -> 112.35119 | C7: =('Peer statistics'!C23*'Comparable companies'!B13) -> 191.04564 | D7: =('Peer statistics'!D23*'Comparable companies'!B13) -> 196.30429 | E7: =('Peer statistics'!E23*'Comparable companies'!B13) -> 264.99493 | F7: =('Peer statistics'!F23*'Comparable companies'!B13) -> 196.30429 | G7: =('Peer statistics'!G23*'Comparable companies'!B13) -> 188.67306
A8: Current Apple price ($) | B8: ='Market data'!B2 -> 331.34 | C8: ='Market data'!B2 -> 331.34 | D8: ='Market data'!B2 -> 331.34 | E8: ='Market data'!B2 -> 331.34 | F8: ='Market data'!B2 -> 331.34 | G8: ='Market data'!B2 -> 331.34
A9: vs current: EV / Revenue LTM | B9: =((B2/B8)-1) -> -0.94048394 | C9: =((C2/C8)-1) -> -0.28257271 | D9: =((D2/D8)-1) -> -0.26777462 | E9: =((E2/E8)-1) -> 0.67625978 | F9: =((F2/F8)-1) -> -0.11090642 | G9: =((G2/G8)-1) -> -0.8556296
A10: vs current: EV / Revenue NTM | B10: =((B3/B8)-1) -> -0.93674052 | C10: =((C3/C8)-1) -> -0.36216922 | D10: =((D3/D8)-1) -> -0.33627069 | E10: =((E3/E8)-1) -> 0.31583064 | F10: =((F3/F8)-1) -> -0.15101093 | G10: =((G3/G8)-1) -> -0.85794829
A11: vs current: EV / EBITDA LTM | B11: =((B4/B8)-1) -> -0.72357591 | C11: =((C4/C8)-1) -> -0.35553679 | D11: =((D4/D8)-1) -> -0.33372997 | E11: =((E4/E8)-1) -> -0.094221614 | F11: =((F4/F8)-1) -> -0.33372997 | G11: =((G4/G8)-1) -> -0.50542803
A12: vs current: EV / EBITDA NTM | B12: =((B5/B8)-1) -> -0.71144481 | C12: =((C5/C8)-1) -> -0.41083149 | D12: =((D5/D8)-1) -> -0.37167583 | E12: =((E5/E8)-1) -> -0.21470702 | F12: =((F5/F8)-1) -> -0.37167583 | G12: =((G5/G8)-1) -> -0.51282306
A13: vs current: P / E LTM | B13: =((B6/B8)-1) -> -0.66997244 | C13: =((C6/C8)-1) -> -0.385248 | D13: =((D6/D8)-1) -> -0.31279807 | E13: =((E6/E8)-1) -> -0.16743247 | F13: =((F6/F8)-1) -> -0.31279807 | G13: =((G6/G8)-1) -> -0.41870245
A14: vs current: P / E NTM | B14: =((B7/B8)-1) -> -0.66091873 | C14: =((C7/C8)-1) -> -0.4234151 | D14: =((D7/D8)-1) -> -0.40754424 | E14: =((E7/E8)-1) -> -0.20023261 | F14: =((F7/F8)-1) -> -0.40754424 | G14: =((G7/G8)-1) -> -0.43057567

Sheet Companies
A1: ID | B1: name | C1: ticker | D1: group | E1: peer
A2: aapl | B2: Apple | C2: AAPL | D2: target | E2: 0
A3: msft | B3: Microsoft | C3: MSFT | D3: platform | E3: 1
A4: googl | B4: Alphabet | C4: GOOGL | D4: platform | E4: 1
A5: amzn | B5: Amazon | C5: AMZN | D5: platform | E5: 1
A6: meta | B6: Meta Platforms | C6: META | D6: platform | E6: 1
A7: nvda | B7: NVIDIA | C7: NVDA | D7: platform | E7: 1
A8: dell | B8: Dell Technologies | C8: DELL | D8: hardware | E8: 1
A9: hpq | B9: HP Inc. | C9: HPQ | D9: hardware | E9: 1

Sheet Statistics
A1: ID | B1: name
A2: low | B2: Low
A3: mean | B3: Mean
A4: median | B4: Median
A5: high | B5: High
A6: median_platform | B6: Median: platforms
A7: median_hardware | B7: Median: hardware

Sheet Market data lines
A1: ID | B1: name | C1: format
A2: price | B2: Share price ($)
A3: shares | B3: Diluted shares (M)
A4: cash | B4: Cash & investments
A5: debt | B5: Total debt

Sheet Comparable companies lines
A1: ID | B1: name | C1: format
A2: market_cap | B2: Market cap
A3: net_debt | B3: Net debt (cash)
A4: ev | B4: Enterprise value
A5: revenue_ltm | B5: Revenue LTM
A6: revenue_ntm | B6: Revenue NTM
A7: revenue_prior | B7: Revenue, year before LTM
A8: ebitda_ltm | B8: EBITDA LTM
A9: ebitda_ntm | B9: EBITDA NTM
A10: net_income_ltm | B10: Net income LTM
A11: net_income_ntm | B11: Net income NTM
A12: eps_ltm | B12: EPS LTM ($)
A13: eps_ntm | B13: EPS NTM ($)
A14: rev_growth_ltm | B14: Revenue growth LTM | C14: percent
A15: rev_growth_ntm | B15: Revenue growth NTM | C15: percent
A16: ebitda_margin_ltm | B16: EBITDA margin LTM | C16: percent
A17: ebitda_margin_ntm | B17: EBITDA margin NTM | C17: percent
A18: ev_revenue_ltm | B18: EV / Revenue LTM (x)
A19: ev_revenue_ntm | B19: EV / Revenue NTM (x)
A20: ev_ebitda_ltm | B20: EV / EBITDA LTM (x)
A21: ev_ebitda_ntm | B21: EV / EBITDA NTM (x)
A22: pe_ltm | B22: P / E LTM (x)
A23: pe_ntm | B23: P / E NTM (x)

Sheet Implied Apple valuation lines
A1: ID | B1: name | C1: format
A2: price_ev_revenue_ltm | B2: Price at peer EV / Revenue LTM ($)
A3: price_ev_revenue_ntm | B3: Price at peer EV / Revenue NTM ($)
A4: price_ev_ebitda_ltm | B4: Price at peer EV / EBITDA LTM ($)
A5: price_ev_ebitda_ntm | B5: Price at peer EV / EBITDA NTM ($)
A6: price_pe_ltm | B6: Price at peer P / E LTM ($)
A7: price_pe_ntm | B7: Price at peer P / E NTM ($)
A8: current_price | B8: Current Apple price ($)
A9: upside_ev_revenue_ltm | B9: vs current: EV / Revenue LTM | C9: percent
A10: upside_ev_revenue_ntm | B10: vs current: EV / Revenue NTM | C10: percent
A11: upside_ev_ebitda_ltm | B11: vs current: EV / EBITDA LTM | C11: percent
A12: upside_ev_ebitda_ntm | B12: vs current: EV / EBITDA NTM | C12: percent
A13: upside_pe_ltm | B13: vs current: P / E LTM | C13: percent
A14: upside_pe_ntm | B14: vs current: P / E NTM | C14: percent

Sheet Rules
A1: Table | B1: Target | C1: When | D1: Formula | E1: Status
A2: comps | B2: value | C2: line = market_cap | D2: market_data.price * market_data.shares | E2: ok
A3: comps | B3: value | C3: line = net_debt | D3: market_data.debt - market_data.cash | E3: ok
A4: comps | B4: value | C4: line = ev | D4: market_cap + net_debt | E4: ok
A5: comps | B5: value | C5: line = rev_growth_ltm | D5: revenue_ltm / revenue_prior - 1 | E5: ok
A6: comps | B6: value | C6: line = rev_growth_ntm | D6: revenue_ntm / revenue_ltm - 1 | E6: ok
A7: comps | B7: value | C7: line = ebitda_margin_ltm | D7: ebitda_ltm / revenue_ltm | E7: ok
A8: comps | B8: value | C8: line = ebitda_margin_ntm | D8: ebitda_ntm / revenue_ntm | E8: ok
A9: comps | B9: value | C9: line = ev_revenue_ltm | D9: ev / revenue_ltm | E9: ok
A10: comps | B10: value | C10: line = ev_revenue_ntm | D10: ev / revenue_ntm | E10: ok
A11: comps | B11: value | C11: line = ev_ebitda_ltm | D11: ev / ebitda_ltm | E11: ok
A12: comps | B12: value | C12: line = ev_ebitda_ntm | D12: ev / ebitda_ntm | E12: ok
... A33: implied | B33: value | C33: line = upside_pe_ntm | D33: price_pe_ntm / current_price - 1 | E33: ok
A35: Rules are what the model is made of; the cell formulas on the other sheets were compiled from them. Inputs are blue, formulas black.
