Workbook

Sheet Intel under five CEOs
A1: INTC, latest month-end close
A2: line | B2: Sep-26
A3: Month-end close ($) | B3: ='INTC by month'!FJ2 -> 122.6
A5: Return since January 2013
A6: line | B6: Sep-26
A7: Return since January 2013 | B7: ='INTC by month'!FJ7 -> 4.8269962
A9: Return under Lip-Bu Tan (vs Gelsinger)
A10: line | B10: Lip-Bu Tan
A11: Total return | B11: ='Tenure scorecard'!G5 -> 4.3985029
A13: Annualised, Lip-Bu Tan (vs Gelsinger)
A14: line | B14: Lip-Bu Tan
A15: Annualised return | B15: ='Tenure scorecard'!G6 -> 2.0773878
A17: INTC month-end close, with each CEO appointment
A18: line | B18: Jan-13 | C18: Feb-13 | D18: Mar-13 | E18: Apr-13 | F18: May-13 | G18: Jun-13 | H18: Jul-13 | I18: Aug-13 | J18: Sep-13 | K18: Oct-13 | L18: Nov-13 | M18: Dec-13 | N18: Jan-14 | O18: Feb-14 | P18: Mar-14 | Q18: Apr-14 | R18: May-14 | S18: Jun-14 | T18: Jul-14 | U18: Aug-14 | V18: Sep-14 | W18: Oct-14 | X18: Nov-14 | Y18: Dec-14 | Z18: Jan-15 | AA18: Feb-15 | AB18: Mar-15 | AC18: Apr-15 | AD18: May-15 | AE18: Jun-15 | AF18: Jul-15 | AG18: Aug-15 | AH18: Sep-15 | AI18: Oct-15 | AJ18: Nov-15 | AK18: Dec-15 | AL18: Jan-16 | AM18: Feb-16 | AN18: Mar-16 | AO18: Apr-16 | AP18: May-16 | AQ18: Jun-16 | AR18: Jul-16 | AS18: Aug-16 | AT18: Sep-16 | AU18: Oct-16 | AV18: Nov-16 | AW18: Dec-16 | AX18: Jan-17 | AY18: Feb-17 | AZ18: Mar-17 | BA18: Apr-17 | BB18: May-17 | BC18: Jun-17 | BD18: Jul-17 | BE18: Aug-17 | BF18: Sep-17 | BG18: Oct-17 | BH18: Nov-17 | BI18: Dec-17 | BJ18: Jan-18 | BK18: Feb-18 | BL18: Mar-18 | BM18: Apr-18 | BN18: May-18 | BO18: Jun-18 | BP18: Jul-18 | BQ18: Aug-18 | BR18: Sep-18 | BS18: Oct-18 | BT18: Nov-18 | BU18: Dec-18 | BV18: Jan-19 | BW18: Feb-19 | BX18: Mar-19 | BY18: Apr-19 | BZ18: May-19 | CA18: Jun-19 | CB18: Jul-19 | CC18: Aug-19 | CD18: Sep-19 | CE18: Oct-19 | CF18: Nov-19 | CG18: Dec-19 | CH18: Jan-20 | CI18: Feb-20 | CJ18: Mar-20 | CK18: Apr-20 | CL18: May-20 | CM18: Jun-20 | CN18: Jul-20 | CO18: Aug-20 | CP18: Sep-20 | CQ18: Oct-20 | CR18: Nov-20 | CS18: Dec-20 | CT18: Jan-21 | CU18: Feb-21 | CV18: Mar-21 | CW18: Apr-21 | CX18: May-21 | CY18: Jun-21 | CZ18: Jul-21 | DA18: Aug-21 | DB18: Sep-21 | DC18: Oct-21 | DD18: Nov-21 | DE18: Dec-21 | DF18: Jan-22 | DG18: Feb-22 | DH18: Mar-22 | DI18: Apr-22 | DJ18: May-22 | DK18: Jun-22 | DL18: Jul-22 | DM18: Aug-22 | DN18: Sep-22 | DO18: Oct-22 | DP18: Nov-22 | DQ18: Dec-22 | DR18: Jan-23 | DS18: Feb-23 | DT18: Mar-23 | DU18: Apr-23 | DV18: May-23 | DW18: Jun-23 | DX18: Jul-23 | DY18: Aug-23 | DZ18: Sep-23 | EA18: Oct-23 | EB18: Nov-23 | EC18: Dec-23 | ED18: Jan-24 | EE18: Feb-24 | EF18: Mar-24 | EG18: Apr-24 | EH18: May-24 | EI18: Jun-24 | EJ18: Jul-24 | EK18: Aug-24 | EL18: Sep-24 | EM18: Oct-24 | EN18: Nov-24 | EO18: Dec-24 | EP18: Jan-25 | EQ18: Feb-25 | ER18: Mar-25 | ES18: Apr-25 | ET18: May-25 | EU18: Jun-25 | EV18: Jul-25 | EW18: Aug-25 | EX18: Sep-25 | EY18: Oct-25 | EZ18: Nov-25 | FA18: Dec-25 | FB18: Jan-26 | FC18: Feb-26 | FD18: Mar-26 | FE18: Apr-26 | FF18: May-26 | FG18: Jun-26 | FH18: Jul-26 | FI18: Aug-26 | FJ18: Sep-26
A19: Month-end close ($) | B19: ='INTC by month'!B2 -> 21.04 | C19: ='INTC by month'!C2 -> 20.88 | D19: ='INTC by month'!D2 -> 21.84 | E19: ='INTC by month'!E2 -> 23.95 | F19: ='INTC by month'!F2 -> 24.28 | G19: ='INTC by month'!G2 -> 24.23 | H19: ='INTC by month'!H2 -> 23.34 | I19: ='INTC by month'!I2 -> 21.98 | ... FJ19: ='INTC by month'!FJ2 -> 122.6
A38: Tenure scorecard: price at appointment, at handover, and the return in between
A39: ceo | B39: Close, month of appointment ($) | C39: Close, end of tenure ($) | D39: Months in the role | E39: Total return | F39: Annualised return
A40: Brian Krzanich | B40: ='Tenure scorecard'!B2 -> 24.28 | C40: ='Tenure scorecard'!B3 -> 49.71 | D40: ='Tenure scorecard'!B4 -> 61 | E40: ='Tenure scorecard'!B5 -> 1.0473641 | F40: ='Tenure scorecard'!B6 -> 0.15138006
A41: Bob Swan (interim) | B41: ='Tenure scorecard'!C2 -> 49.71 | C41: ='Tenure scorecard'!C3 -> 47.12 | D41: ='Tenure scorecard'!C4 -> 7 | E41: ='Tenure scorecard'!C5 -> -0.052102193 | F41: ='Tenure scorecard'!C6 -> -0.087647632
A42: Bob Swan | B42: ='Tenure scorecard'!D2 -> 47.12 | C42: ='Tenure scorecard'!D3 -> 60.78 | D42: ='Tenure scorecard'!D4 -> 25 | E42: ='Tenure scorecard'!D5 -> 0.28989813 | F42: ='Tenure scorecard'!D6 -> 0.12996918
A43: Pat Gelsinger | B43: ='Tenure scorecard'!E2 -> 60.78 | C43: ='Tenure scorecard'!E3 -> 20.05 | D43: ='Tenure scorecard'!E4 -> 46 | E43: ='Tenure scorecard'!E5 -> -0.67012175 | F43: ='Tenure scorecard'!E6 -> -0.2512219
A44: Zinsner and Holthaus (interim) | B44: ='Tenure scorecard'!F2 -> 20.05 | C44: ='Tenure scorecard'!F3 -> 22.71 | D44: ='Tenure scorecard'!F4 -> 3 | E44: ='Tenure scorecard'!F5 -> 0.13266833 | F44: ='Tenure scorecard'!F6 -> 0.64592874
A45: Lip-Bu Tan | B45: ='Tenure scorecard'!G2 -> 22.71 | C45: ='Tenure scorecard'!G3 -> 122.6 | D45: ='Tenure scorecard'!G4 -> 18 | E45: ='Tenure scorecard'!G5 -> 4.3985029 | F45: ='Tenure scorecard'!G6 -> 2.0773878
A47: Annualised return by tenure
A48: ceo | B48: Annualised return
A49: Brian Krzanich | B49: ='Tenure scorecard'!B6 -> 0.15138006
A50: Bob Swan (interim) | B50: ='Tenure scorecard'!C6 -> -0.087647632
A51: Bob Swan | B51: ='Tenure scorecard'!D6 -> 0.12996918
A52: Pat Gelsinger | B52: ='Tenure scorecard'!E6 -> -0.2512219
A53: Zinsner and Holthaus (interim) | B53: ='Tenure scorecard'!F6 -> 0.64592874
A54: Lip-Bu Tan | B54: ='Tenure scorecard'!G6 -> 2.0773878
A73: Monthly returns
A74: line | B74: Jan-13 | C74: Feb-13 | D74: Mar-13 | E74: Apr-13 | F74: May-13 | G74: Jun-13 | H74: Jul-13 | I74: Aug-13 | J74: Sep-13 | K74: Oct-13 | L74: Nov-13 | M74: Dec-13 | N74: Jan-14 | O74: Feb-14 | P74: Mar-14 | Q74: Apr-14 | R74: May-14 | S74: Jun-14 | T74: Jul-14 | U74: Aug-14 | V74: Sep-14 | W74: Oct-14 | X74: Nov-14 | Y74: Dec-14 | Z74: Jan-15 | AA74: Feb-15 | AB74: Mar-15 | AC74: Apr-15 | AD74: May-15 | AE74: Jun-15 | AF74: Jul-15 | AG74: Aug-15 | AH74: Sep-15 | AI74: Oct-15 | AJ74: Nov-15 | AK74: Dec-15 | AL74: Jan-16 | AM74: Feb-16 | AN74: Mar-16 | AO74: Apr-16 | AP74: May-16 | AQ74: Jun-16 | AR74: Jul-16 | AS74: Aug-16 | AT74: Sep-16 | AU74: Oct-16 | AV74: Nov-16 | AW74: Dec-16 | AX74: Jan-17 | AY74: Feb-17 | AZ74: Mar-17 | BA74: Apr-17 | BB74: May-17 | BC74: Jun-17 | BD74: Jul-17 | BE74: Aug-17 | BF74: Sep-17 | BG74: Oct-17 | BH74: Nov-17 | BI74: Dec-17 | BJ74: Jan-18 | BK74: Feb-18 | BL74: Mar-18 | BM74: Apr-18 | BN74: May-18 | BO74: Jun-18 | BP74: Jul-18 | BQ74: Aug-18 | BR74: Sep-18 | BS74: Oct-18 | BT74: Nov-18 | BU74: Dec-18 | BV74: Jan-19 | BW74: Feb-19 | BX74: Mar-19 | BY74: Apr-19 | BZ74: May-19 | CA74: Jun-19 | CB74: Jul-19 | CC74: Aug-19 | CD74: Sep-19 | CE74: Oct-19 | CF74: Nov-19 | CG74: Dec-19 | CH74: Jan-20 | CI74: Feb-20 | CJ74: Mar-20 | CK74: Apr-20 | CL74: May-20 | CM74: Jun-20 | CN74: Jul-20 | CO74: Aug-20 | CP74: Sep-20 | CQ74: Oct-20 | CR74: Nov-20 | CS74: Dec-20 | CT74: Jan-21 | CU74: Feb-21 | CV74: Mar-21 | CW74: Apr-21 | CX74: May-21 | CY74: Jun-21 | CZ74: Jul-21 | DA74: Aug-21 | DB74: Sep-21 | DC74: Oct-21 | DD74: Nov-21 | DE74: Dec-21 | DF74: Jan-22 | DG74: Feb-22 | DH74: Mar-22 | DI74: Apr-22 | DJ74: May-22 | DK74: Jun-22 | DL74: Jul-22 | DM74: Aug-22 | DN74: Sep-22 | DO74: Oct-22 | DP74: Nov-22 | DQ74: Dec-22 | DR74: Jan-23 | DS74: Feb-23 | DT74: Mar-23 | DU74: Apr-23 | DV74: May-23 | DW74: Jun-23 | DX74: Jul-23 | DY74: Aug-23 | DZ74: Sep-23 | EA74: Oct-23 | EB74: Nov-23 | EC74: Dec-23 | ED74: Jan-24 | EE74: Feb-24 | EF74: Mar-24 | EG74: Apr-24 | EH74: May-24 | EI74: Jun-24 | EJ74: Jul-24 | EK74: Aug-24 | EL74: Sep-24 | EM74: Oct-24 | EN74: Nov-24 | EO74: Dec-24 | EP74: Jan-25 | EQ74: Feb-25 | ER74: Mar-25 | ES74: Apr-25 | ET74: May-25 | EU74: Jun-25 | EV74: Jul-25 | EW74: Aug-25 | EX74: Sep-25 | EY74: Oct-25 | EZ74: Nov-25 | FA74: Dec-25 | FB74: Jan-26 | FC74: Feb-26 | FD74: Mar-26 | FE74: Apr-26 | FF74: May-26 | FG74: Jun-26 | FH74: Jul-26 | FI74: Aug-26 | FJ74: Sep-26
A75: Return, month over month | B75: ='INTC by month'!B6 | C75: ='INTC by month'!C6 -> -0.0076045627 | D75: ='INTC by month'!D6 -> 0.045977011 | E75: ='INTC by month'!E6 -> 0.096611722 | F75: ='INTC by month'!F6 -> 0.013778706 | G75: ='INTC by month'!G6 -> -0.0020593081 | H75: ='INTC by month'!H6 -> -0.036731325 | I75: ='INTC by month'!I6 -> -0.058269066 | ... FJ75: ='INTC by month'!FJ6 -> 0.36967937
A94: Every cell on this sheet refers to the statement sheets; edit inputs there (blue) and this dashboard follows.

Sheet Daily closes (2)
A1: Every cell on this sheet refers to the statement sheets; edit inputs there (blue) and this dashboard follows.

Sheet INTC by month
A1: line | B1: Jan-13 | C1: Feb-13 | D1: Mar-13 | E1: Apr-13 | F1: May-13 | G1: Jun-13 | H1: Jul-13 | I1: Aug-13 | J1: Sep-13 | K1: Oct-13 | L1: Nov-13 | M1: Dec-13 | N1: Jan-14 | O1: Feb-14 | P1: Mar-14 | Q1: Apr-14 | R1: May-14 | S1: Jun-14 | T1: Jul-14 | U1: Aug-14 | V1: Sep-14 | W1: Oct-14 | X1: Nov-14 | Y1: Dec-14 | Z1: Jan-15 | AA1: Feb-15 | AB1: Mar-15 | AC1: Apr-15 | AD1: May-15 | AE1: Jun-15 | AF1: Jul-15 | AG1: Aug-15 | AH1: Sep-15 | AI1: Oct-15 | AJ1: Nov-15 | AK1: Dec-15 | AL1: Jan-16 | AM1: Feb-16 | AN1: Mar-16 | AO1: Apr-16 | AP1: May-16 | AQ1: Jun-16 | AR1: Jul-16 | AS1: Aug-16 | AT1: Sep-16 | AU1: Oct-16 | AV1: Nov-16 | AW1: Dec-16 | AX1: Jan-17 | AY1: Feb-17 | AZ1: Mar-17 | BA1: Apr-17 | BB1: May-17 | BC1: Jun-17 | BD1: Jul-17 | BE1: Aug-17 | BF1: Sep-17 | BG1: Oct-17 | BH1: Nov-17 | BI1: Dec-17 | BJ1: Jan-18 | BK1: Feb-18 | BL1: Mar-18 | BM1: Apr-18 | BN1: May-18 | BO1: Jun-18 | BP1: Jul-18 | BQ1: Aug-18 | BR1: Sep-18 | BS1: Oct-18 | BT1: Nov-18 | BU1: Dec-18 | BV1: Jan-19 | BW1: Feb-19 | BX1: Mar-19 | BY1: Apr-19 | BZ1: May-19 | CA1: Jun-19 | CB1: Jul-19 | CC1: Aug-19 | CD1: Sep-19 | CE1: Oct-19 | CF1: Nov-19 | CG1: Dec-19 | CH1: Jan-20 | CI1: Feb-20 | CJ1: Mar-20 | CK1: Apr-20 | CL1: May-20 | CM1: Jun-20 | CN1: Jul-20 | CO1: Aug-20 | CP1: Sep-20 | CQ1: Oct-20 | CR1: Nov-20 | CS1: Dec-20 | CT1: Jan-21 | CU1: Feb-21 | CV1: Mar-21 | CW1: Apr-21 | CX1: May-21 | CY1: Jun-21 | CZ1: Jul-21 | DA1: Aug-21 | DB1: Sep-21 | DC1: Oct-21 | DD1: Nov-21 | DE1: Dec-21 | DF1: Jan-22 | DG1: Feb-22 | DH1: Mar-22 | DI1: Apr-22 | DJ1: May-22 | DK1: Jun-22 | DL1: Jul-22 | DM1: Aug-22 | DN1: Sep-22 | DO1: Oct-22 | DP1: Nov-22 | DQ1: Dec-22 | DR1: Jan-23 | DS1: Feb-23 | DT1: Mar-23 | DU1: Apr-23 | DV1: May-23 | DW1: Jun-23 | DX1: Jul-23 | DY1: Aug-23 | DZ1: Sep-23 | EA1: Oct-23 | EB1: Nov-23 | EC1: Dec-23 | ED1: Jan-24 | EE1: Feb-24 | EF1: Mar-24 | EG1: Apr-24 | EH1: May-24 | EI1: Jun-24 | EJ1: Jul-24 | EK1: Aug-24 | EL1: Sep-24 | EM1: Oct-24 | EN1: Nov-24 | EO1: Dec-24 | EP1: Jan-25 | EQ1: Feb-25 | ER1: Mar-25 | ES1: Apr-25 | ET1: May-25 | EU1: Jun-25 | EV1: Jul-25 | EW1: Aug-25 | EX1: Sep-25 | EY1: Oct-25 | EZ1: Nov-25 | FA1: Dec-25 | FB1: Jan-26 | FC1: Feb-26 | FD1: Mar-26 | FE1: Apr-26 | FF1: May-26 | FG1: Jun-26 | FH1: Jul-26 | FI1: Aug-26 | FJ1: Sep-26
A2: Month-end close ($) | B2: =SUMIFS('Daily closes'!$C$2:$C$3453,'Daily closes'!$E$2:$E$3453,"=jan13",'Daily closes'!$F$2:$F$3453,"=1") -> 21.04 | C2: =SUMIFS('Daily closes'!$C$2:$C$3453,'Daily closes'!$E$2:$E$3453,"=feb13",'Daily closes'!$F$2:$F$3453,"=1") -> 20.88 | D2: =SUMIFS('Daily closes'!$C$2:$C$3453,'Daily closes'!$E$2:$E$3453,"=mar13",'Daily closes'!$F$2:$F$3453,"=1") -> 21.84 | E2: =SUMIFS('Daily closes'!$C$2:$C$3453,'Daily closes'!$E$2:$E$3453,"=apr13",'Daily closes'!$F$2:$F$3453,"=1") -> 23.95 | F2: =SUMIFS('Daily closes'!$C$2:$C$3453,'Daily closes'!$E$2:$E$3453,"=may13",'Daily closes'!$F$2:$F$3453,"=1") -> 24.28 | G2: =SUMIFS('Daily closes'!$C$2:$C$3453,'Daily closes'!$E$2:$E$3453,"=jun13",'Daily closes'!$F$2:$F$3453,"=1") -> 24.23 | H2: =SUMIFS('Daily closes'!$C$2:$C$3453,'Daily closes'!$E$2:$E$3453,"=jul13",'Daily closes'!$F$2:$F$3453,"=1") -> 23.34 | I2: =SUMIFS('Daily closes'!$C$2:$C$3453,'Daily closes'!$E$2:$E$3453,"=aug13",'Daily closes'!$F$2:$F$3453,"=1") -> 21.98 | J2: =SUMIFS('Daily closes'!$C$2:$C$3453,'Daily closes'!$E$2:$E$3453,"=sep13",'Daily closes'!$F$2:$F$3453,"=1") -> 22.92 | K2: =SUMIFS('Daily closes'!$C$2:$C$3453,'Daily closes'!$E$2:$E$3453,"=oct13",'Daily closes'!$F$2:$F$3453,"=1") -> 24.47 | L2: =SUMIFS('Daily closes'!$C$2:$C$3453,'Daily closes'!$E$2:$E$3453,"=nov13",'Daily closes'!$F$2:$F$3453,"=1") -> 23.84 | M2: =SUMIFS('Daily closes'!$C$2:$C$3453,'Daily closes'!$E$2:$E$3453,"=dec13",'Daily closes'!$F$2:$F$3453,"=1") -> 25.96 | N2: =SUMIFS('Daily closes'!$C$2:$C$3453,'Daily closes'!$E$2:$E$3453,"=jan14",'Daily closes'!$F$2:$F$3453,"=1") -> 24.54 | O2: =SUMIFS('Daily closes'!$C$2:$C$3453,'Daily closes'!$E$2:$E$3453,"=feb14",'Daily closes'!$F$2:$F$3453,"=1") -> 24.76 | P2: =SUMIFS('Daily closes'!$C$2:$C$3453,'Daily closes'!$E$2:$E$3453,"=mar14",'Daily closes'!$F$2:$F$3453,"=1") -> 25.81 | Q2: =SUMIFS('Daily closes'!$C$2:$C$3453,'Daily closes'!$E$2:$E$3453,"=apr14",'Daily closes'!$F$2:$F$3453,"=1") -> 26.69 | R2: =SUMIFS('Daily closes'!$C$2:$C$3453,'Daily closes'!$E$2:$E$3453,"=may14",'Daily closes'!$F$2:$F$3453,"=1") -> 27.32 | S2: =SUMIFS('Daily closes'!$C$2:$C$3453,'Daily closes'!$E$2:$E$3453,"=jun14",'Daily closes'!$F$2:$F$3453,"=1") -> 30.9 | T2: =SUMIFS('Daily closes'!$C$2:$C$3453,'Daily closes'!$E$2:$E$3453,"=jul14",'Daily closes'!$F$2:$F$3453,"=1") -> 33.89 | U2: =SUMIFS('Daily closes'!$C$2:$C$3453,'Daily closes'!$E$2:$E$3453,"=aug14",'Daily closes'!$F$2:$F$3453,"=1") -> 34.92 | V2: =SUMIFS('Daily closes'!$C$2:$C$3453,'Daily closes'!$E$2:$E$3453,"=sep14",'Daily closes'!$F$2:$F$3453,"=1") -> 34.82 | W2: =SUMIFS('Daily closes'!$C$2:$C$3453,'Daily closes'!$E$2:$E$3453,"=oct14",'Daily closes'!$F$2:$F$3453,"=1") -> 34.01 | X2: =SUMIFS('Daily closes'!$C$2:$C$3453,'Daily closes'!$E$2:$E$3453,"=nov14",'Daily closes'!$F$2:$F$3453,"=1") -> 37.25 | Y2: =SUMIFS('Daily closes'!$C$2:$C$3453,'Daily closes'!$E$2:$E$3453,"=dec14",'Daily closes'!$F$2:$F$3453,"=1") -> 36.29 | Z2: =SUMIFS('Daily closes'!$C$2:$C$3453,'Daily closes'!$E$2:$E$3453,"=jan15",'Daily closes'!$F$2:$F$3453,"=1") -> 33.04 | AA2: =SUMIFS('Daily closes'!$C$2:$C$3453,'Daily closes'!$E$2:$E$3453,"=feb15",'Daily closes'!$F$2:$F$3453,"=1") -> 33.25 | AB2: =SUMIFS('Daily closes'!$C$2:$C$3453,'Daily closes'!$E$2:$E$3453,"=mar15",'Daily closes'!$F$2:$F$3453,"=1") -> 31.27 | AC2: =SUMIFS('Daily closes'!$C$2:$C$3453,'Daily closes'!$E$2:$E$3453,"=apr15",'Daily closes'!$F$2:$F$3453,"=1") -> 32.55 | AD2: =SUMIFS('Daily closes'!$C$2:$C$3453,'Daily closes'!$E$2:$E$3453,"=may15",'Daily closes'!$F$2:$F$3453,"=1") -> 34.46 | AE2: =SUMIFS('Daily closes'!$C$2:$C$3453,'Daily closes'!$E$2:$E$3453,"=jun15",'Daily closes'!$F$2:$F$3453,"=1") -> 30.42 | AF2: =SUMIFS('Daily closes'!$C$2:$C$3453,'Daily closes'!$E$2:$E$3453,"=jul15",'Daily closes'!$F$2:$F$3453,"=1") -> 28.95 | AG2: =SUMIFS('Daily closes'!$C$2:$C$3453,'Daily closes'!$E$2:$E$3453,"=aug15",'Daily closes'!$F$2:$F$3453,"=1") -> 28.54 | AH2: =SUMIFS('Daily closes'!$C$2:$C$3453,'Daily closes'!$E$2:$E$3453,"=sep15",'Daily closes'!$F$2:$F$3453,"=1") -> 30.14 | AI2: =SUMIFS('Daily closes'!$C$2:$C$3453,'Daily closes'!$E$2:$E$3453,"=oct15",'Daily closes'!$F$2:$F$3453,"=1") -> 33.86 | AJ2: =SUMIFS('Daily closes'!$C$2:$C$3453,'Daily closes'!$E$2:$E$3453,"=nov15",'Daily closes'!$F$2:$F$3453,"=1") -> 34.77 | AK2: =SUMIFS('Daily closes'!$C$2:$C$3453,'Daily closes'!$E$2:$E$3453,"=dec15",'Daily closes'!$F$2:$F$3453,"=1") -> 34.45 | AL2: =SUMIFS('Daily closes'!$C$2:$C$3453,'Daily closes'!$E$2:$E$3453,"=jan16",'Daily closes'!$F$2:$F$3453,"=1") -> 31.02 | AM2: =SUMIFS('Daily closes'!$C$2:$C$3453,'Daily closes'!$E$2:$E$3453,"=feb16",'Daily closes'!$F$2:$F$3453,"=1") -> 29.59 | AN2: =SUMIFS('Daily closes'!$C$2:$C$3453,'Daily closes'!$E$2:$E$3453,"=mar16",'Daily closes'!$F$2:$F$3453,"=1") -> 32.35 | AO2: =SUMIFS('Daily closes'!$C$2:$C$3453,'Daily closes'!$E$2:$E$3453,"=apr16",'Daily closes'!$F$2:$F$3453,"=1") -> 30.28 | AP2: =SUMIFS('Daily closes'!$C$2:$C$3453,'Daily closes'!$E$2:$E$3453,"=may16",'Daily closes'!$F$2:$F$3453,"=1") -> 31.59 | AQ2: =SUMIFS('Daily closes'!$C$2:$C$3453,'Daily closes'!$E$2:$E$3453,"=jun16",'Daily closes'!$F$2:$F$3453,"=1") -> 32.8 | AR2: =SUMIFS('Daily closes'!$C$2:$C$3453,'Daily closes'!$E$2:$E$3453,"=jul16",'Daily closes'!$F$2:$F$3453,"=1") -> 34.86 | AS2: =SUMIFS('Daily closes'!$C$2:$C$3453,'Daily closes'!$E$2:$E$3453,"=aug16",'Daily closes'!$F$2:$F$3453,"=1") -> 35.89 | AT2: =SUMIFS('Daily closes'!$C$2:$C$3453,'Daily closes'!$E$2:$E$3453,"=sep16",'Daily closes'!$F$2:$F$3453,"=1") -> 37.75 | AU2: =SUMIFS('Daily closes'!$C$2:$C$3453,'Daily closes'!$E$2:$E$3453,"=oct16",'Daily closes'!$F$2:$F$3453,"=1") -> 34.87 | AV2: =SUMIFS('Daily closes'!$C$2:$C$3453,'Daily closes'!$E$2:$E$3453,"=nov16",'Daily closes'!$F$2:$F$3453,"=1") -> 34.7 | AW2: =SUMIFS('Daily closes'!$C$2:$C$3453,'Daily closes'!$E$2:$E$3453,"=dec16",'Daily closes'!$F$2:$F$3453,"=1") -> 36.27 | AX2: =SUMIFS('Daily closes'!$C$2:$C$3453,'Daily closes'!$E$2:$E$3453,"=jan17",'Daily closes'!$F$2:$F$3453,"=1") -> 36.82 | AY2: =SUMIFS('Daily closes'!$C$2:$C$3453,'Daily closes'!$E$2:$E$3453,"=feb17",'Daily closes'!$F$2:$F$3453,"=1") -> 36.2 | AZ2: =SUMIFS('Daily closes'!$C$2:$C$3453,'Daily closes'!$E$2:$E$3453,"=mar17",'Daily closes'!$F$2:$F$3453,"=1") -> 36.07 | BA2: =SUMIFS('Daily closes'!$C$2:$C$3453,'Daily closes'!$E$2:$E$3453,"=apr17",'Daily closes'!$F$2:$F$3453,"=1") -> 36.15 | BB2: =SUMIFS('Daily closes'!$C$2:$C$3453,'Daily closes'!$E$2:$E$3453,"=may17",'Daily closes'!$F$2:$F$3453,"=1") -> 36.11 | BC2: =SUMIFS('Daily closes'!$C$2:$C$3453,'Daily closes'!$E$2:$E$3453,"=jun17",'Daily closes'!$F$2:$F$3453,"=1") -> 33.74 | BD2: =SUMIFS('Daily closes'!$C$2:$C$3453,'Daily closes'!$E$2:$E$3453,"=jul17",'Daily closes'!$F$2:$F$3453,"=1") -> 35.47 | BE2: =SUMIFS('Daily closes'!$C$2:$C$3453,'Daily closes'!$E$2:$E$3453,"=aug17",'Daily closes'!$F$2:$F$3453,"=1") -> 35.07 | BF2: =SUMIFS('Daily closes'!$C$2:$C$3453,'Daily closes'!$E$2:$E$3453,"=sep17",'Daily closes'!$F$2:$F$3453,"=1") -> 38.08 | BG2: =SUMIFS('Daily closes'!$C$2:$C$3453,'Daily closes'!$E$2:$E$3453,"=oct17",'Daily closes'!$F$2:$F$3453,"=1") -> 45.49 | BH2: =SUMIFS('Daily closes'!$C$2:$C$3453,'Daily closes'!$E$2:$E$3453,"=nov17",'Daily closes'!$F$2:$F$3453,"=1") -> 44.84 | BI2: =SUMIFS('Daily closes'!$C$2:$C$3453,'Daily closes'!$E$2:$E$3453,"=dec17",'Daily closes'!$F$2:$F$3453,"=1") -> 46.16 | BJ2: =SUMIFS('Daily closes'!$C$2:$C$3453,'Daily closes'!$E$2:$E$3453,"=jan18",'Daily closes'!$F$2:$F$3453,"=1") -> 48.14 | BK2: =SUMIFS('Daily closes'!$C$2:$C$3453,'Daily closes'!$E$2:$E$3453,"=feb18",'Daily closes'!$F$2:$F$3453,"=1") -> 49.29 | BL2: =SUMIFS('Daily closes'!$C$2:$C$3453,'Daily closes'!$E$2:$E$3453,"=mar18",'Daily closes'!$F$2:$F$3453,"=1") -> 52.08 | BM2: =SUMIFS('Daily closes'!$C$2:$C$3453,'Daily closes'!$E$2:$E$3453,"=apr18",'Daily closes'!$F$2:$F$3453,"=1") -> 51.62 | BN2: =SUMIFS('Daily closes'!$C$2:$C$3453,'Daily closes'!$E$2:$E$3453,"=may18",'Daily closes'!$F$2:$F$3453,"=1") -> 55.2 | BO2: =SUMIFS('Daily closes'!$C$2:$C$3453,'Daily closes'!$E$2:$E$3453,"=jun18",'Daily closes'!$F$2:$F$3453,"=1") -> 49.71 | BP2: =SUMIFS('Daily closes'!$C$2:$C$3453,'Daily closes'!$E$2:$E$3453,"=jul18",'Daily closes'!$F$2:$F$3453,"=1") -> 48.1 | BQ2: =SUMIFS('Daily closes'!$C$2:$C$3453,'Daily closes'!$E$2:$E$3453,"=aug18",'Daily closes'!$F$2:$F$3453,"=1") -> 48.43 | BR2: =SUMIFS('Daily closes'!$C$2:$C$3453,'Daily closes'!$E$2:$E$3453,"=sep18",'Daily closes'!$F$2:$F$3453,"=1") -> 47.29 | BS2: =SUMIFS('Daily closes'!$C$2:$C$3453,'Daily closes'!$E$2:$E$3453,"=oct18",'Daily closes'!$F$2:$F$3453,"=1") -> 46.88 | BT2: =SUMIFS('Daily closes'!$C$2:$C$3453,'Daily closes'!$E$2:$E$3453,"=nov18",'Daily closes'!$F$2:$F$3453,"=1") -> 49.31 | BU2: =SUMIFS('Daily closes'!$C$2:$C$3453,'Daily closes'!$E$2:$E$3453,"=dec18",'Daily closes'!$F$2:$F$3453,"=1") -> 46.93 | BV2: =SUMIFS('Daily closes'!$C$2:$C$3453,'Daily closes'!$E$2:$E$3453,"=jan19",'Daily closes'!$F$2:$F$3453,"=1") -> 47.12 | BW2: =SUMIFS('Daily closes'!$C$2:$C$3453,'Daily closes'!$E$2:$E$3453,"=feb19",'Daily closes'!$F$2:$F$3453,"=1") -> 52.96 | BX2: =SUMIFS('Daily closes'!$C$2:$C$3453,'Daily closes'!$E$2:$E$3453,"=mar19",'Daily closes'!$F$2:$F$3453,"=1") -> 53.7 | BY2: =SUMIFS('Daily closes'!$C$2:$C$3453,'Daily closes'!$E$2:$E$3453,"=apr19",'Daily closes'!$F$2:$F$3453,"=1") -> 51.04 | BZ2: =SUMIFS('Daily closes'!$C$2:$C$3453,'Daily closes'!$E$2:$E$3453,"=may19",'Daily closes'!$F$2:$F$3453,"=1") -> 44.04 | CA2: =SUMIFS('Daily closes'!$C$2:$C$3453,'Daily closes'!$E$2:$E$3453,"=jun19",'Daily closes'!$F$2:$F$3453,"=1") -> 47.87 | CB2: =SUMIFS('Daily closes'!$C$2:$C$3453,'Daily closes'!$E$2:$E$3453,"=jul19",'Daily closes'!$F$2:$F$3453,"=1") -> 50.55 | CC2: =SUMIFS('Daily closes'!$C$2:$C$3453,'Daily closes'!$E$2:$E$3453,"=aug19",'Daily closes'!$F$2:$F$3453,"=1") -> 47.41 | CD2: =SUMIFS('Daily closes'!$C$2:$C$3453,'Daily closes'!$E$2:$E$3453,"=sep19",'Daily closes'!$F$2:$F$3453,"=1") -> 51.53 | CE2: =SUMIFS('Daily closes'!$C$2:$C$3453,'Daily closes'!$E$2:$E$3453,"=oct19",'Daily closes'!$F$2:$F$3453,"=1") -> 56.53 | CF2: =SUMIFS('Daily closes'!$C$2:$C$3453,'Daily closes'!$E$2:$E$3453,"=nov19",'Daily closes'!$F$2:$F$3453,"=1") -> 58.05 | CG2: =SUMIFS('Daily closes'!$C$2:$C$3453,'Daily closes'!$E$2:$E$3453,"=dec19",'Daily closes'!$F$2:$F$3453,"=1") -> 59.85 | CH2: =SUMIFS('Daily closes'!$C$2:$C$3453,'Daily closes'!$E$2:$E$3453,"=jan20",'Daily closes'!$F$2:$F$3453,"=1") -> 63.93 | CI2: =SUMIFS('Daily closes'!$C$2:$C$3453,'Daily closes'!$E$2:$E$3453,"=feb20",'Daily closes'!$F$2:$F$3453,"=1") -> 55.52 | CJ2: =SUMIFS('Daily closes'!$C$2:$C$3453,'Daily closes'!$E$2:$E$3453,"=mar20",'Daily closes'!$F$2:$F$3453,"=1") -> 54.12 | CK2: =SUMIFS('Daily closes'!$C$2:$C$3453,'Daily closes'!$E$2:$E$3453,"=apr20",'Daily closes'!$F$2:$F$3453,"=1") -> 59.98 | CL2: =SUMIFS('Daily closes'!$C$2:$C$3453,'Daily closes'!$E$2:$E$3453,"=may20",'Daily closes'!$F$2:$F$3453,"=1") -> 62.93 | CM2: =SUMIFS('Daily closes'!$C$2:$C$3453,'Daily closes'!$E$2:$E$3453,"=jun20",'Daily closes'!$F$2:$F$3453,"=1") -> 59.83 | CN2: =SUMIFS('Daily closes'!$C$2:$C$3453,'Daily closes'!$E$2:$E$3453,"=jul20",'Daily closes'!$F$2:$F$3453,"=1") -> 47.73 | CO2: =SUMIFS('Daily closes'!$C$2:$C$3453,'Daily closes'!$E$2:$E$3453,"=aug20",'Daily closes'!$F$2:$F$3453,"=1") -> 50.95 | CP2: =SUMIFS('Daily closes'!$C$2:$C$3453,'Daily closes'!$E$2:$E$3453,"=sep20",'Daily closes'!$F$2:$F$3453,"=1") -> 51.78 | CQ2: =SUMIFS('Daily closes'!$C$2:$C$3453,'Daily closes'!$E$2:$E$3453,"=oct20",'Daily closes'!$F$2:$F$3453,"=1") -> 44.28 | CR2: =SUMIFS('Daily closes'!$C$2:$C$3453,'Daily closes'!$E$2:$E$3453,"=nov20",'Daily closes'!$F$2:$F$3453,"=1") -> 48.35 | CS2: =SUMIFS('Daily closes'!$C$2:$C$3453,'Daily closes'!$E$2:$E$3453,"=dec20",'Daily closes'!$F$2:$F$3453,"=1") -> 49.82 | CT2: =SUMIFS('Daily closes'!$C$2:$C$3453,'Daily closes'!$E$2:$E$3453,"=jan21",'Daily closes'!$F$2:$F$3453,"=1") -> 55.51 | CU2: =SUMIFS('Daily closes'!$C$2:$C$3453,'Daily closes'!$E$2:$E$3453,"=feb21",'Daily closes'!$F$2:$F$3453,"=1") -> 60.78 | CV2: =SUMIFS('Daily closes'!$C$2:$C$3453,'Daily closes'!$E$2:$E$3453,"=mar21",'Daily closes'!$F$2:$F$3453,"=1") -> 64 | CW2: =SUMIFS('Daily closes'!$C$2:$C$3453,'Daily closes'!$E$2:$E$3453,"=apr21",'Daily closes'!$F$2:$F$3453,"=1") -> 57.53 | CX2: =SUMIFS('Daily closes'!$C$2:$C$3453,'Daily closes'!$E$2:$E$3453,"=may21",'Daily closes'!$F$2:$F$3453,"=1") -> 57.12 | CY2: =SUMIFS('Daily closes'!$C$2:$C$3453,'Daily closes'!$E$2:$E$3453,"=jun21",'Daily closes'!$F$2:$F$3453,"=1") -> 56.14 | CZ2: =SUMIFS('Daily closes'!$C$2:$C$3453,'Daily closes'!$E$2:$E$3453,"=jul21",'Daily closes'!$F$2:$F$3453,"=1") -> 53.72 | DA2: =SUMIFS('Daily closes'!$C$2:$C$3453,'Daily closes'!$E$2:$E$3453,"=aug21",'Daily closes'!$F$2:$F$3453,"=1") -> 54.06 | DB2: =SUMIFS('Daily closes'!$C$2:$C$3453,'Daily closes'!$E$2:$E$3453,"=sep21",'Daily closes'!$F$2:$F$3453,"=1") -> 53.28 | DC2: =SUMIFS('Daily closes'!$C$2:$C$3453,'Daily closes'!$E$2:$E$3453,"=oct21",'Daily closes'!$F$2:$F$3453,"=1") -> 49 | DD2: =SUMIFS('Daily closes'!$C$2:$C$3453,'Daily closes'!$E$2:$E$3453,"=nov21",'Daily closes'!$F$2:$F$3453,"=1") -> 49.2 | DE2: =SUMIFS('Daily closes'!$C$2:$C$3453,'Daily closes'!$E$2:$E$3453,"=dec21",'Daily closes'!$F$2:$F$3453,"=1") -> 51.5 | DF2: =SUMIFS('Daily closes'!$C$2:$C$3453,'Daily closes'!$E$2:$E$3453,"=jan22",'Daily closes'!$F$2:$F$3453,"=1") -> 48.82 | DG2: =SUMIFS('Daily closes'!$C$2:$C$3453,'Daily closes'!$E$2:$E$3453,"=feb22",'Daily closes'!$F$2:$F$3453,"=1") -> 47.7 | DH2: =SUMIFS('Daily closes'!$C$2:$C$3453,'Daily closes'!$E$2:$E$3453,"=mar22",'Daily closes'!$F$2:$F$3453,"=1") -> 49.56 | DI2: =SUMIFS('Daily closes'!$C$2:$C$3453,'Daily closes'!$E$2:$E$3453,"=apr22",'Daily closes'!$F$2:$F$3453,"=1") -> 43.59 | DJ2: =SUMIFS('Daily closes'!$C$2:$C$3453,'Daily closes'!$E$2:$E$3453,"=may22",'Daily closes'!$F$2:$F$3453,"=1") -> 44.42 | DK2: =SUMIFS('Daily closes'!$C$2:$C$3453,'Daily closes'!$E$2:$E$3453,"=jun22",'Daily closes'!$F$2:$F$3453,"=1") -> 37.41 | DL2: =SUMIFS('Daily closes'!$C$2:$C$3453,'Daily closes'!$E$2:$E$3453,"=jul22",'Daily closes'!$F$2:$F$3453,"=1") -> 36.31 | DM2: =SUMIFS('Daily closes'!$C$2:$C$3453,'Daily closes'!$E$2:$E$3453,"=aug22",'Daily closes'!$F$2:$F$3453,"=1") -> 31.92 | DN2: =SUMIFS('Daily closes'!$C$2:$C$3453,'Daily closes'!$E$2:$E$3453,"=sep22",'Daily closes'!$F$2:$F$3453,"=1") -> 25.77 | DO2: =SUMIFS('Daily closes'!$C$2:$C$3453,'Daily closes'!$E$2:$E$3453,"=oct22",'Daily closes'!$F$2:$F$3453,"=1") -> 28.43 | DP2: =SUMIFS('Daily closes'!$C$2:$C$3453,'Daily closes'!$E$2:$E$3453,"=nov22",'Daily closes'!$F$2:$F$3453,"=1") -> 30.07 | DQ2: =SUMIFS('Daily closes'!$C$2:$C$3453,'Daily closes'!$E$2:$E$3453,"=dec22",'Daily closes'!$F$2:$F$3453,"=1") -> 26.43 | DR2: =SUMIFS('Daily closes'!$C$2:$C$3453,'Daily closes'!$E$2:$E$3453,"=jan23",'Daily closes'!$F$2:$F$3453,"=1") -> 28.26 | DS2: =SUMIFS('Daily closes'!$C$2:$C$3453,'Daily closes'!$E$2:$E$3453,"=feb23",'Daily closes'!$F$2:$F$3453,"=1") -> 24.93 | DT2: =SUMIFS('Daily closes'!$C$2:$C$3453,'Daily closes'!$E$2:$E$3453,"=mar23",'Daily closes'!$F$2:$F$3453,"=1") -> 32.67 | DU2: =SUMIFS('Daily closes'!$C$2:$C$3453,'Daily closes'!$E$2:$E$3453,"=apr23",'Daily closes'!$F$2:$F$3453,"=1") -> 31.06 | DV2: =SUMIFS('Daily closes'!$C$2:$C$3453,'Daily closes'!$E$2:$E$3453,"=may23",'Daily closes'!$F$2:$F$3453,"=1") -> 31.44 | DW2: =SUMIFS('Daily closes'!$C$2:$C$3453,'Daily closes'!$E$2:$E$3453,"=jun23",'Daily closes'!$F$2:$F$3453,"=1") -> 33.44 | DX2: =SUMIFS('Daily closes'!$C$2:$C$3453,'Daily closes'!$E$2:$E$3453,"=jul23",'Daily closes'!$F$2:$F$3453,"=1") -> 35.77 | DY2: =SUMIFS('Daily closes'!$C$2:$C$3453,'Daily closes'!$E$2:$E$3453,"=aug23",'Daily closes'!$F$2:$F$3453,"=1") -> 35.14 | DZ2: =SUMIFS('Daily closes'!$C$2:$C$3453,'Daily closes'!$E$2:$E$3453,"=sep23",'Daily closes'!$F$2:$F$3453,"=1") -> 35.55 | EA2: =SUMIFS('Daily closes'!$C$2:$C$3453,'Daily closes'!$E$2:$E$3453,"=oct23",'Daily closes'!$F$2:$F$3453,"=1") -> 36.5 | EB2: =SUMIFS('Daily closes'!$C$2:$C$3453,'Daily closes'!$E$2:$E$3453,"=nov23",'Daily closes'!$F$2:$F$3453,"=1") -> 44.7 | EC2: =SUMIFS('Daily closes'!$C$2:$C$3453,'Daily closes'!$E$2:$E$3453,"=dec23",'Daily closes'!$F$2:$F$3453,"=1") -> 50.25 | ED2: =SUMIFS('Daily closes'!$C$2:$C$3453,'Daily closes'!$E$2:$E$3453,"=jan24",'Daily closes'!$F$2:$F$3453,"=1") -> 43.08 | EE2: =SUMIFS('Daily closes'!$C$2:$C$3453,'Daily closes'!$E$2:$E$3453,"=feb24",'Daily closes'!$F$2:$F$3453,"=1") -> 43.05 | EF2: =SUMIFS('Daily closes'!$C$2:$C$3453,'Daily closes'!$E$2:$E$3453,"=mar24",'Daily closes'!$F$2:$F$3453,"=1") -> 44.17 | EG2: =SUMIFS('Daily closes'!$C$2:$C$3453,'Daily closes'!$E$2:$E$3453,"=apr24",'Daily closes'!$F$2:$F$3453,"=1") -> 30.47 | EH2: =SUMIFS('Daily closes'!$C$2:$C$3453,'Daily closes'!$E$2:$E$3453,"=may24",'Daily closes'!$F$2:$F$3453,"=1") -> 30.85 | EI2: =SUMIFS('Daily closes'!$C$2:$C$3453,'Daily closes'!$E$2:$E$3453,"=jun24",'Daily closes'!$F$2:$F$3453,"=1") -> 30.97 | EJ2: =SUMIFS('Daily closes'!$C$2:$C$3453,'Daily closes'!$E$2:$E$3453,"=jul24",'Daily closes'!$F$2:$F$3453,"=1") -> 30.74 | EK2: =SUMIFS('Daily closes'!$C$2:$C$3453,'Daily closes'!$E$2:$E$3453,"=aug24",'Daily closes'!$F$2:$F$3453,"=1") -> 22.04 | EL2: =SUMIFS('Daily closes'!$C$2:$C$3453,'Daily closes'!$E$2:$E$3453,"=sep24",'Daily closes'!$F$2:$F$3453,"=1") -> 23.46 | EM2: =SUMIFS('Daily closes'!$C$2:$C$3453,'Daily closes'!$E$2:$E$3453,"=oct24",'Daily closes'!$F$2:$F$3453,"=1") -> 21.52 | EN2: =SUMIFS('Daily closes'!$C$2:$C$3453,'Daily closes'!$E$2:$E$3453,"=nov24",'Daily closes'!$F$2:$F$3453,"=1") -> 24.05 | EO2: =SUMIFS('Daily closes'!$C$2:$C$3453,'Daily closes'!$E$2:$E$3453,"=dec24",'Daily closes'!$F$2:$F$3453,"=1") -> 20.05 | EP2: =SUMIFS('Daily closes'!$C$2:$C$3453,'Daily closes'!$E$2:$E$3453,"=jan25",'Daily closes'!$F$2:$F$3453,"=1") -> 19.43 | EQ2: =SUMIFS('Daily closes'!$C$2:$C$3453,'Daily closes'!$E$2:$E$3453,"=feb25",'Daily closes'!$F$2:$F$3453,"=1") -> 23.73 | ER2: =SUMIFS('Daily closes'!$C$2:$C$3453,'Daily closes'!$E$2:$E$3453,"=mar25",'Daily closes'!$F$2:$F$3453,"=1") -> 22.71 | ES2: =SUMIFS('Daily closes'!$C$2:$C$3453,'Daily closes'!$E$2:$E$3453,"=apr25",'Daily closes'!$F$2:$F$3453,"=1") -> 20.1 | ET2: =SUMIFS('Daily closes'!$C$2:$C$3453,'Daily closes'!$E$2:$E$3453,"=may25",'Daily closes'!$F$2:$F$3453,"=1") -> 19.55 | EU2: =SUMIFS('Daily closes'!$C$2:$C$3453,'Daily closes'!$E$2:$E$3453,"=jun25",'Daily closes'!$F$2:$F$3453,"=1") -> 22.4 | EV2: =SUMIFS('Daily closes'!$C$2:$C$3453,'Daily closes'!$E$2:$E$3453,"=jul25",'Daily closes'!$F$2:$F$3453,"=1") -> 19.8 | EW2: =SUMIFS('Daily closes'!$C$2:$C$3453,'Daily closes'!$E$2:$E$3453,"=aug25",'Daily closes'!$F$2:$F$3453,"=1") -> 24.35 | EX2: =SUMIFS('Daily closes'!$C$2:$C$3453,'Daily closes'!$E$2:$E$3453,"=sep25",'Daily closes'!$F$2:$F$3453,"=1") -> 33.55 | EY2: =SUMIFS('Daily closes'!$C$2:$C$3453,'Daily closes'!$E$2:$E$3453,"=oct25",'Daily closes'!$F$2:$F$3453,"=1") -> 39.99 | EZ2: =SUMIFS('Daily closes'!$C$2:$C$3453,'Daily closes'!$E$2:$E$3453,"=nov25",'Daily closes'!$F$2:$F$3453,"=1") -> 40.56 | FA2: =SUMIFS('Daily closes'!$C$2:$C$3453,'Daily closes'!$E$2:$E$3453,"=dec25",'Daily closes'!$F$2:$F$3453,"=1") -> 36.9 | FB2: =SUMIFS('Daily closes'!$C$2:$C$3453,'Daily closes'!$E$2:$E$3453,"=jan26",'Daily closes'!$F$2:$F$3453,"=1") -> 46.47 | FC2: =SUMIFS('Daily closes'!$C$2:$C$3453,'Daily closes'!$E$2:$E$3453,"=feb26",'Daily closes'!$F$2:$F$3453,"=1") -> 45.61 | FD2: =SUMIFS('Daily closes'!$C$2:$C$3453,'Daily closes'!$E$2:$E$3453,"=mar26",'Daily closes'!$F$2:$F$3453,"=1") -> 44.13 | FE2: =SUMIFS('Daily closes'!$C$2:$C$3453,'Daily closes'!$E$2:$E$3453,"=apr26",'Daily closes'!$F$2:$F$3453,"=1") -> 94.48 | FF2: =SUMIFS('Daily closes'!$C$2:$C$3453,'Daily closes'!$E$2:$E$3453,"=may26",'Daily closes'!$F$2:$F$3453,"=1") -> 114.68 | FG2: =SUMIFS('Daily closes'!$C$2:$C$3453,'Daily closes'!$E$2:$E$3453,"=jun26",'Daily closes'!$F$2:$F$3453,"=1") -> 139.63 | FH2: =SUMIFS('Daily closes'!$C$2:$C$3453,'Daily closes'!$E$2:$E$3453,"=jul26",'Daily closes'!$F$2:$F$3453,"=1") -> 90.2 | FI2: =SUMIFS('Daily closes'!$C$2:$C$3453,'Daily closes'!$E$2:$E$3453,"=aug26",'Daily closes'!$F$2:$F$3453,"=1") -> 89.51 | FJ2: =SUMIFS('Daily closes'!$C$2:$C$3453,'Daily closes'!$E$2:$E$3453,"=sep26",'Daily closes'!$F$2:$F$3453,"=1") -> 122.6
A3: Monthly high ($) | B3: =MAXIFS('Daily closes'!$C$2:$C$3453,'Daily closes'!$E$2:$E$3453,"=jan13") -> 22.68 | C3: =MAXIFS('Daily closes'!$C$2:$C$3453,'Daily closes'!$E$2:$E$3453,"=feb13") -> 21.36 | D3: =MAXIFS('Daily closes'!$C$2:$C$3453,'Daily closes'!$E$2:$E$3453,"=mar13") -> 21.89 | E3: =MAXIFS('Daily closes'!$C$2:$C$3453,'Daily closes'!$E$2:$E$3453,"=apr13") -> 23.95 | F3: =MAXIFS('Daily closes'!$C$2:$C$3453,'Daily closes'!$E$2:$E$3453,"=may13") -> 24.5 | G3: =MAXIFS('Daily closes'!$C$2:$C$3453,'Daily closes'!$E$2:$E$3453,"=jun13") -> 25.47 | H3: =MAXIFS('Daily closes'!$C$2:$C$3453,'Daily closes'!$E$2:$E$3453,"=jul13") -> 24.25 | I3: =MAXIFS('Daily closes'!$C$2:$C$3453,'Daily closes'!$E$2:$E$3453,"=aug13") -> 23.22 | J3: =MAXIFS('Daily closes'!$C$2:$C$3453,'Daily closes'!$E$2:$E$3453,"=sep13") -> 23.91 | K3: =MAXIFS('Daily closes'!$C$2:$C$3453,'Daily closes'!$E$2:$E$3453,"=oct13") -> 24.52 | L3: =MAXIFS('Daily closes'!$C$2:$C$3453,'Daily closes'!$E$2:$E$3453,"=nov13") -> 25.23 | M3: =MAXIFS('Daily closes'!$C$2:$C$3453,'Daily closes'!$E$2:$E$3453,"=dec13") -> 25.96 | N3: =MAXIFS('Daily closes'!$C$2:$C$3453,'Daily closes'!$E$2:$E$3453,"=jan14") -> 26.67 | O3: =MAXIFS('Daily closes'!$C$2:$C$3453,'Daily closes'!$E$2:$E$3453,"=feb14") -> 24.8 | P3: =MAXIFS('Daily closes'!$C$2:$C$3453,'Daily closes'!$E$2:$E$3453,"=mar14") -> 25.81 | Q3: =MAXIFS('Daily closes'!$C$2:$C$3453,'Daily closes'!$E$2:$E$3453,"=apr14") -> 27.04 | R3: =MAXIFS('Daily closes'!$C$2:$C$3453,'Daily closes'!$E$2:$E$3453,"=may14") -> 27.32 | S3: =MAXIFS('Daily closes'!$C$2:$C$3453,'Daily closes'!$E$2:$E$3453,"=jun14") -> 30.93 | T3: =MAXIFS('Daily closes'!$C$2:$C$3453,'Daily closes'!$E$2:$E$3453,"=jul14") -> 34.79 | U3: =MAXIFS('Daily closes'!$C$2:$C$3453,'Daily closes'!$E$2:$E$3453,"=aug14") -> 35.15 | V3: =MAXIFS('Daily closes'!$C$2:$C$3453,'Daily closes'!$E$2:$E$3453,"=sep14") -> 35.33 | W3: =MAXIFS('Daily closes'!$C$2:$C$3453,'Daily closes'!$E$2:$E$3453,"=oct14") -> 34.27 | X3: =MAXIFS('Daily closes'!$C$2:$C$3453,'Daily closes'!$E$2:$E$3453,"=nov14") -> 37.25 | Y3: =MAXIFS('Daily closes'!$C$2:$C$3453,'Daily closes'!$E$2:$E$3453,"=dec14") -> 37.67 | Z3: =MAXIFS('Daily closes'!$C$2:$C$3453,'Daily closes'!$E$2:$E$3453,"=jan15") -> 36.91 | AA3: =MAXIFS('Daily closes'!$C$2:$C$3453,'Daily closes'!$E$2:$E$3453,"=feb15") -> 34.74 | AB3: =MAXIFS('Daily closes'!$C$2:$C$3453,'Daily closes'!$E$2:$E$3453,"=mar15") -> 34.12 | AC3: =MAXIFS('Daily closes'!$C$2:$C$3453,'Daily closes'!$E$2:$E$3453,"=apr15") -> 33.02 | AD3: =MAXIFS('Daily closes'!$C$2:$C$3453,'Daily closes'!$E$2:$E$3453,"=may15") -> 34.46 | AE3: =MAXIFS('Daily closes'!$C$2:$C$3453,'Daily closes'!$E$2:$E$3453,"=jun15") -> 33.91 | AF3: =MAXIFS('Daily closes'!$C$2:$C$3453,'Daily closes'!$E$2:$E$3453,"=jul15") -> 30.56 | AG3: =MAXIFS('Daily closes'!$C$2:$C$3453,'Daily closes'!$E$2:$E$3453,"=aug15") -> 29.64 | AH3: =MAXIFS('Daily closes'!$C$2:$C$3453,'Daily closes'!$E$2:$E$3453,"=sep15") -> 30.14 | AI3: =MAXIFS('Daily closes'!$C$2:$C$3453,'Daily closes'!$E$2:$E$3453,"=oct15") -> 34.9 | AJ3: =MAXIFS('Daily closes'!$C$2:$C$3453,'Daily closes'!$E$2:$E$3453,"=nov15") -> 34.77 | AK3: =MAXIFS('Daily closes'!$C$2:$C$3453,'Daily closes'!$E$2:$E$3453,"=dec15") -> 35.44 | AL3: =MAXIFS('Daily closes'!$C$2:$C$3453,'Daily closes'!$E$2:$E$3453,"=jan16") -> 33.99 | AM3: =MAXIFS('Daily closes'!$C$2:$C$3453,'Daily closes'!$E$2:$E$3453,"=feb16") -> 30.82 | AN3: =MAXIFS('Daily closes'!$C$2:$C$3453,'Daily closes'!$E$2:$E$3453,"=mar16") -> 32.71 | AO3: =MAXIFS('Daily closes'!$C$2:$C$3453,'Daily closes'!$E$2:$E$3453,"=apr16") -> 32.45 | AP3: =MAXIFS('Daily closes'!$C$2:$C$3453,'Daily closes'!$E$2:$E$3453,"=may16") -> 31.59 | AQ3: =MAXIFS('Daily closes'!$C$2:$C$3453,'Daily closes'!$E$2:$E$3453,"=jun16") -> 32.99 | AR3: =MAXIFS('Daily closes'!$C$2:$C$3453,'Daily closes'!$E$2:$E$3453,"=jul16") -> 35.69 | AS3: =MAXIFS('Daily closes'!$C$2:$C$3453,'Daily closes'!$E$2:$E$3453,"=aug16") -> 35.89 | AT3: =MAXIFS('Daily closes'!$C$2:$C$3453,'Daily closes'!$E$2:$E$3453,"=sep16") -> 37.75 | AU3: =MAXIFS('Daily closes'!$C$2:$C$3453,'Daily closes'!$E$2:$E$3453,"=oct16") -> 38.1 | AV3: =MAXIFS('Daily closes'!$C$2:$C$3453,'Daily closes'!$E$2:$E$3453,"=nov16") -> 35.51 | AW3: =MAXIFS('Daily closes'!$C$2:$C$3453,'Daily closes'!$E$2:$E$3453,"=dec16") -> 37.21 | AX3: =MAXIFS('Daily closes'!$C$2:$C$3453,'Daily closes'!$E$2:$E$3453,"=jan17") -> 37.98 | AY3: =MAXIFS('Daily closes'!$C$2:$C$3453,'Daily closes'!$E$2:$E$3453,"=feb17") -> 36.68 | AZ3: =MAXIFS('Daily closes'!$C$2:$C$3453,'Daily closes'!$E$2:$E$3453,"=mar17") -> 36.07 | BA3: =MAXIFS('Daily closes'!$C$2:$C$3453,'Daily closes'!$E$2:$E$3453,"=apr17") -> 37.43 | BB3: =MAXIFS('Daily closes'!$C$2:$C$3453,'Daily closes'!$E$2:$E$3453,"=may17") -> 36.98 | BC3: =MAXIFS('Daily closes'!$C$2:$C$3453,'Daily closes'!$E$2:$E$3453,"=jun17") -> 36.48 | BD3: =MAXIFS('Daily closes'!$C$2:$C$3453,'Daily closes'!$E$2:$E$3453,"=jul17") -> 35.47 | BE3: =MAXIFS('Daily closes'!$C$2:$C$3453,'Daily closes'!$E$2:$E$3453,"=aug17") -> 36.64 | BF3: =MAXIFS('Daily closes'!$C$2:$C$3453,'Daily closes'!$E$2:$E$3453,"=sep17") -> 38.08 | BG3: =MAXIFS('Daily closes'!$C$2:$C$3453,'Daily closes'!$E$2:$E$3453,"=oct17") -> 45.49 | BH3: =MAXIFS('Daily closes'!$C$2:$C$3453,'Daily closes'!$E$2:$E$3453,"=nov17") -> 47.1 | BI3: =MAXIFS('Daily closes'!$C$2:$C$3453,'Daily closes'!$E$2:$E$3453,"=dec17") -> 47.56 | BJ3: =MAXIFS('Daily closes'!$C$2:$C$3453,'Daily closes'!$E$2:$E$3453,"=jan18") -> 50.08 | BK3: =MAXIFS('Daily closes'!$C$2:$C$3453,'Daily closes'!$E$2:$E$3453,"=feb18") -> 49.91 | BL3: =MAXIFS('Daily closes'!$C$2:$C$3453,'Daily closes'!$E$2:$E$3453,"=mar18") -> 52.48 | BM3: =MAXIFS('Daily closes'!$C$2:$C$3453,'Daily closes'!$E$2:$E$3453,"=apr18") -> 53.61 | BN3: =MAXIFS('Daily closes'!$C$2:$C$3453,'Daily closes'!$E$2:$E$3453,"=may18") -> 55.68 | BO3: =MAXIFS('Daily closes'!$C$2:$C$3453,'Daily closes'!$E$2:$E$3453,"=jun18") -> 57.08 | BP3: =MAXIFS('Daily closes'!$C$2:$C$3453,'Daily closes'!$E$2:$E$3453,"=jul18") -> 52.43 | BQ3: =MAXIFS('Daily closes'!$C$2:$C$3453,'Daily closes'!$E$2:$E$3453,"=aug18") -> 50.14 | BR3: =MAXIFS('Daily closes'!$C$2:$C$3453,'Daily closes'!$E$2:$E$3453,"=sep18") -> 47.96 | BS3: =MAXIFS('Daily closes'!$C$2:$C$3453,'Daily closes'!$E$2:$E$3453,"=oct18") -> 48.76 | BT3: =MAXIFS('Daily closes'!$C$2:$C$3453,'Daily closes'!$E$2:$E$3453,"=nov18") -> 49.31 | BU3: =MAXIFS('Daily closes'!$C$2:$C$3453,'Daily closes'!$E$2:$E$3453,"=dec18") -> 50.13 | BV3: =MAXIFS('Daily closes'!$C$2:$C$3453,'Daily closes'!$E$2:$E$3453,"=jan19") -> 49.76 | BW3: =MAXIFS('Daily closes'!$C$2:$C$3453,'Daily closes'!$E$2:$E$3453,"=feb19") -> 53.24 | BX3: =MAXIFS('Daily closes'!$C$2:$C$3453,'Daily closes'!$E$2:$E$3453,"=mar19") -> 54.64 | BY3: =MAXIFS('Daily closes'!$C$2:$C$3453,'Daily closes'!$E$2:$E$3453,"=apr19") -> 58.82 | BZ3: =MAXIFS('Daily closes'!$C$2:$C$3453,'Daily closes'!$E$2:$E$3453,"=may19") -> 51.75 | CA3: =MAXIFS('Daily closes'!$C$2:$C$3453,'Daily closes'!$E$2:$E$3453,"=jun19") -> 48.19 | CB3: =MAXIFS('Daily closes'!$C$2:$C$3453,'Daily closes'!$E$2:$E$3453,"=jul19") -> 52.92 | CC3: =MAXIFS('Daily closes'!$C$2:$C$3453,'Daily closes'!$E$2:$E$3453,"=aug19") -> 49.5 | CD3: =MAXIFS('Daily closes'!$C$2:$C$3453,'Daily closes'!$E$2:$E$3453,"=sep19") -> 53.01 | CE3: =MAXIFS('Daily closes'!$C$2:$C$3453,'Daily closes'!$E$2:$E$3453,"=oct19") -> 56.76 | CF3: =MAXIFS('Daily closes'!$C$2:$C$3453,'Daily closes'!$E$2:$E$3453,"=nov19") -> 58.9 | CG3: =MAXIFS('Daily closes'!$C$2:$C$3453,'Daily closes'!$E$2:$E$3453,"=dec19") -> 60.08 | CH3: =MAXIFS('Daily closes'!$C$2:$C$3453,'Daily closes'!$E$2:$E$3453,"=jan20") -> 68.47 | CI3: =MAXIFS('Daily closes'!$C$2:$C$3453,'Daily closes'!$E$2:$E$3453,"=feb20") -> 67.46 | CJ3: =MAXIFS('Daily closes'!$C$2:$C$3453,'Daily closes'!$E$2:$E$3453,"=mar20") -> 58.68 | CK3: =MAXIFS('Daily closes'!$C$2:$C$3453,'Daily closes'!$E$2:$E$3453,"=apr20") -> 61.8 | CL3: =MAXIFS('Daily closes'!$C$2:$C$3453,'Daily closes'!$E$2:$E$3453,"=may20") -> 63.56 | CM3: =MAXIFS('Daily closes'!$C$2:$C$3453,'Daily closes'!$E$2:$E$3453,"=jun20") -> 64.34 | CN3: =MAXIFS('Daily closes'!$C$2:$C$3453,'Daily closes'!$E$2:$E$3453,"=jul20") -> 61.15 | CO3: =MAXIFS('Daily closes'!$C$2:$C$3453,'Daily closes'!$E$2:$E$3453,"=aug20") -> 50.95 | CP3: =MAXIFS('Daily closes'!$C$2:$C$3453,'Daily closes'!$E$2:$E$3453,"=sep20") -> 52.25 | CQ3: =MAXIFS('Daily closes'!$C$2:$C$3453,'Daily closes'!$E$2:$E$3453,"=oct20") -> 54.58 | CR3: =MAXIFS('Daily closes'!$C$2:$C$3453,'Daily closes'!$E$2:$E$3453,"=nov20") -> 48.35 | CS3: =MAXIFS('Daily closes'!$C$2:$C$3453,'Daily closes'!$E$2:$E$3453,"=dec20") -> 51.99 | CT3: =MAXIFS('Daily closes'!$C$2:$C$3453,'Daily closes'!$E$2:$E$3453,"=jan21") -> 62.46 | CU3: =MAXIFS('Daily closes'!$C$2:$C$3453,'Daily closes'!$E$2:$E$3453,"=feb21") -> 63.19 | CV3: =MAXIFS('Daily closes'!$C$2:$C$3453,'Daily closes'!$E$2:$E$3453,"=mar21") -> 65.78 | CW3: =MAXIFS('Daily closes'!$C$2:$C$3453,'Daily closes'!$E$2:$E$3453,"=apr21") -> 68.26 | CX3: =MAXIFS('Daily closes'!$C$2:$C$3453,'Daily closes'!$E$2:$E$3453,"=may21") -> 57.73 | CY3: =MAXIFS('Daily closes'!$C$2:$C$3453,'Daily closes'!$E$2:$E$3453,"=jun21") -> 58.19 | CZ3: =MAXIFS('Daily closes'!$C$2:$C$3453,'Daily closes'!$E$2:$E$3453,"=jul21") -> 56.87 | DA3: =MAXIFS('Daily closes'!$C$2:$C$3453,'Daily closes'!$E$2:$E$3453,"=aug21") -> 54.14 | DB3: =MAXIFS('Daily closes'!$C$2:$C$3453,'Daily closes'!$E$2:$E$3453,"=sep21") -> 55.12 | DC3: =MAXIFS('Daily closes'!$C$2:$C$3453,'Daily closes'!$E$2:$E$3453,"=oct21") -> 56 | DD3: =MAXIFS('Daily closes'!$C$2:$C$3453,'Daily closes'!$E$2:$E$3453,"=nov21") -> 51.55 | DE3: =MAXIFS('Daily closes'!$C$2:$C$3453,'Daily closes'!$E$2:$E$3453,"=dec21") -> 52.57 | DF3: =MAXIFS('Daily closes'!$C$2:$C$3453,'Daily closes'!$E$2:$E$3453,"=jan22") -> 55.91 | DG3: =MAXIFS('Daily closes'!$C$2:$C$3453,'Daily closes'!$E$2:$E$3453,"=feb22") -> 49.91 | DH3: =MAXIFS('Daily closes'!$C$2:$C$3453,'Daily closes'!$E$2:$E$3453,"=mar22") -> 52.25 | DI3: =MAXIFS('Daily closes'!$C$2:$C$3453,'Daily closes'!$E$2:$E$3453,"=apr22") -> 49.2 | DJ3: =MAXIFS('Daily closes'!$C$2:$C$3453,'Daily closes'!$E$2:$E$3453,"=may22") -> 46.54 | DK3: =MAXIFS('Daily closes'!$C$2:$C$3453,'Daily closes'!$E$2:$E$3453,"=jun22") -> 44.84 | DL3: =MAXIFS('Daily closes'!$C$2:$C$3453,'Daily closes'!$E$2:$E$3453,"=jul22") -> 40.61 | DM3: =MAXIFS('Daily closes'!$C$2:$C$3453,'Daily closes'!$E$2:$E$3453,"=aug22") -> 36.96 | DN3: =MAXIFS('Daily closes'!$C$2:$C$3453,'Daily closes'!$E$2:$E$3453,"=sep22") -> 31.76 | DO3: =MAXIFS('Daily closes'!$C$2:$C$3453,'Daily closes'!$E$2:$E$3453,"=oct22") -> 29.07 | DP3: =MAXIFS('Daily closes'!$C$2:$C$3453,'Daily closes'!$E$2:$E$3453,"=nov22") -> 30.71 | DQ3: =MAXIFS('Daily closes'!$C$2:$C$3453,'Daily closes'!$E$2:$E$3453,"=dec22") -> 29.83 | DR3: =MAXIFS('Daily closes'!$C$2:$C$3453,'Daily closes'!$E$2:$E$3453,"=jan23") -> 30.29 | DS3: =MAXIFS('Daily closes'!$C$2:$C$3453,'Daily closes'!$E$2:$E$3453,"=feb23") -> 30.32 | DT3: =MAXIFS('Daily closes'!$C$2:$C$3453,'Daily closes'!$E$2:$E$3453,"=mar23") -> 32.67 | DU3: =MAXIFS('Daily closes'!$C$2:$C$3453,'Daily closes'!$E$2:$E$3453,"=apr23") -> 33.1 | DV3: =MAXIFS('Daily closes'!$C$2:$C$3453,'Daily closes'!$E$2:$E$3453,"=may23") -> 31.44 | DW3: =MAXIFS('Daily closes'!$C$2:$C$3453,'Daily closes'!$E$2:$E$3453,"=jun23") -> 36.37 | DX3: =MAXIFS('Daily closes'!$C$2:$C$3453,'Daily closes'!$E$2:$E$3453,"=jul23") -> 36.83 | DY3: =MAXIFS('Daily closes'!$C$2:$C$3453,'Daily closes'!$E$2:$E$3453,"=aug23") -> 35.8 | DZ3: =MAXIFS('Daily closes'!$C$2:$C$3453,'Daily closes'!$E$2:$E$3453,"=sep23") -> 38.86 | EA3: =MAXIFS('Daily closes'!$C$2:$C$3453,'Daily closes'!$E$2:$E$3453,"=oct23") -> 36.88 | EB3: =MAXIFS('Daily closes'!$C$2:$C$3453,'Daily closes'!$E$2:$E$3453,"=nov23") -> 44.94 | EC3: =MAXIFS('Daily closes'!$C$2:$C$3453,'Daily closes'!$E$2:$E$3453,"=dec23") -> 50.76 | ED3: =MAXIFS('Daily closes'!$C$2:$C$3453,'Daily closes'!$E$2:$E$3453,"=jan24") -> 49.55 | EE3: =MAXIFS('Daily closes'!$C$2:$C$3453,'Daily closes'!$E$2:$E$3453,"=feb24") -> 44.52 | EF3: =MAXIFS('Daily closes'!$C$2:$C$3453,'Daily closes'!$E$2:$E$3453,"=mar24") -> 46.15 | EG3: =MAXIFS('Daily closes'!$C$2:$C$3453,'Daily closes'!$E$2:$E$3453,"=apr24") -> 44.52 | EH3: =MAXIFS('Daily closes'!$C$2:$C$3453,'Daily closes'!$E$2:$E$3453,"=may24") -> 32.1 | EI3: =MAXIFS('Daily closes'!$C$2:$C$3453,'Daily closes'!$E$2:$E$3453,"=jun24") -> 31.09 | EJ3: =MAXIFS('Daily closes'!$C$2:$C$3453,'Daily closes'!$E$2:$E$3453,"=jul24") -> 34.87 | EK3: =MAXIFS('Daily closes'!$C$2:$C$3453,'Daily closes'!$E$2:$E$3453,"=aug24") -> 29.05 | EL3: =MAXIFS('Daily closes'!$C$2:$C$3453,'Daily closes'!$E$2:$E$3453,"=sep24") -> 23.92 | EM3: =MAXIFS('Daily closes'!$C$2:$C$3453,'Daily closes'!$E$2:$E$3453,"=oct24") -> 23.56 | EN3: =MAXIFS('Daily closes'!$C$2:$C$3453,'Daily closes'!$E$2:$E$3453,"=nov24") -> 26.23 | EO3: =MAXIFS('Daily closes'!$C$2:$C$3453,'Daily closes'!$E$2:$E$3453,"=dec24") -> 23.93 | EP3: =MAXIFS('Daily closes'!$C$2:$C$3453,'Daily closes'!$E$2:$E$3453,"=jan25") -> 21.86 | EQ3: =MAXIFS('Daily closes'!$C$2:$C$3453,'Daily closes'!$E$2:$E$3453,"=feb25") -> 27.39 | ER3: =MAXIFS('Daily closes'!$C$2:$C$3453,'Daily closes'!$E$2:$E$3453,"=mar25") -> 25.92 | ES3: =MAXIFS('Daily closes'!$C$2:$C$3453,'Daily closes'!$E$2:$E$3453,"=apr25") -> 22.43 | ET3: =MAXIFS('Daily closes'!$C$2:$C$3453,'Daily closes'!$E$2:$E$3453,"=may25") -> 22.56 | EU3: =MAXIFS('Daily closes'!$C$2:$C$3453,'Daily closes'!$E$2:$E$3453,"=jun25") -> 22.69 | EV3: =MAXIFS('Daily closes'!$C$2:$C$3453,'Daily closes'!$E$2:$E$3453,"=jul25") -> 23.82 | EW3: =MAXIFS('Daily closes'!$C$2:$C$3453,'Daily closes'!$E$2:$E$3453,"=aug25") -> 25.31 | EX3: =MAXIFS('Daily closes'!$C$2:$C$3453,'Daily closes'!$E$2:$E$3453,"=sep25") -> 35.5 | EY3: =MAXIFS('Daily closes'!$C$2:$C$3453,'Daily closes'!$E$2:$E$3453,"=oct25") -> 41.53 | EZ3: =MAXIFS('Daily closes'!$C$2:$C$3453,'Daily closes'!$E$2:$E$3453,"=nov25") -> 40.56 | FA3: =MAXIFS('Daily closes'!$C$2:$C$3453,'Daily closes'!$E$2:$E$3453,"=dec25") -> 43.76 | FB3: =MAXIFS('Daily closes'!$C$2:$C$3453,'Daily closes'!$E$2:$E$3453,"=jan26") -> 54.32 | FC3: =MAXIFS('Daily closes'!$C$2:$C$3453,'Daily closes'!$E$2:$E$3453,"=feb26") -> 50.59 | FD3: =MAXIFS('Daily closes'!$C$2:$C$3453,'Daily closes'!$E$2:$E$3453,"=mar26") -> 47.98 | FE3: =MAXIFS('Daily closes'!$C$2:$C$3453,'Daily closes'!$E$2:$E$3453,"=apr26") -> 94.75 | FF3: =MAXIFS('Daily closes'!$C$2:$C$3453,'Daily closes'!$E$2:$E$3453,"=may26") -> 129.44 | FG3: =MAXIFS('Daily closes'!$C$2:$C$3453,'Daily closes'!$E$2:$E$3453,"=jun26") -> 140.94 | FH3: =MAXIFS('Daily closes'!$C$2:$C$3453,'Daily closes'!$E$2:$E$3453,"=jul26") -> 127.02 | FI3: =MAXIFS('Daily closes'!$C$2:$C$3453,'Daily closes'!$E$2:$E$3453,"=aug26") -> 104.56 | FJ3: =MAXIFS('Daily closes'!$C$2:$C$3453,'Daily closes'!$E$2:$E$3453,"=sep26") -> 123.86
A4: Monthly low ($) | B4: =MINIFS('Daily closes'!$C$2:$C$3453,'Daily closes'!$E$2:$E$3453,"=jan13") -> 20.95 | C4: =MINIFS('Daily closes'!$C$2:$C$3453,'Daily closes'!$E$2:$E$3453,"=feb13") -> 20.23 | D4: =MINIFS('Daily closes'!$C$2:$C$3453,'Daily closes'!$E$2:$E$3453,"=mar13") -> 21.03 | E4: =MINIFS('Daily closes'!$C$2:$C$3453,'Daily closes'!$E$2:$E$3453,"=apr13") -> 20.94 | F4: =MINIFS('Daily closes'!$C$2:$C$3453,'Daily closes'!$E$2:$E$3453,"=may13") -> 23.84 | G4: =MINIFS('Daily closes'!$C$2:$C$3453,'Daily closes'!$E$2:$E$3453,"=jun13") -> 23.58 | H4: =MINIFS('Daily closes'!$C$2:$C$3453,'Daily closes'!$E$2:$E$3453,"=jul13") -> 22.75 | I4: =MINIFS('Daily closes'!$C$2:$C$3453,'Daily closes'!$E$2:$E$3453,"=aug13") -> 21.91 | J4: =MINIFS('Daily closes'!$C$2:$C$3453,'Daily closes'!$E$2:$E$3453,"=sep13") -> 22.07 | K4: =MINIFS('Daily closes'!$C$2:$C$3453,'Daily closes'!$E$2:$E$3453,"=oct13") -> 22.48 | L4: =MINIFS('Daily closes'!$C$2:$C$3453,'Daily closes'!$E$2:$E$3453,"=nov13") -> 23.65 | M4: =MINIFS('Daily closes'!$C$2:$C$3453,'Daily closes'!$E$2:$E$3453,"=dec13") -> 23.55 | N4: =MINIFS('Daily closes'!$C$2:$C$3453,'Daily closes'!$E$2:$E$3453,"=jan14") -> 24.54 | O4: =MINIFS('Daily closes'!$C$2:$C$3453,'Daily closes'!$E$2:$E$3453,"=feb14") -> 23.52 | P4: =MINIFS('Daily closes'!$C$2:$C$3453,'Daily closes'!$E$2:$E$3453,"=mar14") -> 24.5 | Q4: =MINIFS('Daily closes'!$C$2:$C$3453,'Daily closes'!$E$2:$E$3453,"=apr14") -> 25.89 | R4: =MINIFS('Daily closes'!$C$2:$C$3453,'Daily closes'!$E$2:$E$3453,"=may14") -> 25.82 | S4: =MINIFS('Daily closes'!$C$2:$C$3453,'Daily closes'!$E$2:$E$3453,"=jun14") -> 27.26 | T4: =MINIFS('Daily closes'!$C$2:$C$3453,'Daily closes'!$E$2:$E$3453,"=jul14") -> 30.79 | U4: =MINIFS('Daily closes'!$C$2:$C$3453,'Daily closes'!$E$2:$E$3453,"=aug14") -> 32.6 | V4: =MINIFS('Daily closes'!$C$2:$C$3453,'Daily closes'!$E$2:$E$3453,"=sep14") -> 34.14 | W4: =MINIFS('Daily closes'!$C$2:$C$3453,'Daily closes'!$E$2:$E$3453,"=oct14") -> 30.85 | X4: =MINIFS('Daily closes'!$C$2:$C$3453,'Daily closes'!$E$2:$E$3453,"=nov14") -> 33.26 | Y4: =MINIFS('Daily closes'!$C$2:$C$3453,'Daily closes'!$E$2:$E$3453,"=dec14") -> 35.56 | Z4: =MINIFS('Daily closes'!$C$2:$C$3453,'Daily closes'!$E$2:$E$3453,"=jan15") -> 33.04 | AA4: =MINIFS('Daily closes'!$C$2:$C$3453,'Daily closes'!$E$2:$E$3453,"=feb15") -> 32.93 | AB4: =MINIFS('Daily closes'!$C$2:$C$3453,'Daily closes'!$E$2:$E$3453,"=mar15") -> 29.89 | AC4: =MINIFS('Daily closes'!$C$2:$C$3453,'Daily closes'!$E$2:$E$3453,"=apr15") -> 30.81 | AD4: =MINIFS('Daily closes'!$C$2:$C$3453,'Daily closes'!$E$2:$E$3453,"=may15") -> 32.22 | AE4: =MINIFS('Daily closes'!$C$2:$C$3453,'Daily closes'!$E$2:$E$3453,"=jun15") -> 30.39 | AF4: =MINIFS('Daily closes'!$C$2:$C$3453,'Daily closes'!$E$2:$E$3453,"=jul15") -> 28.06 | AG4: =MINIFS('Daily closes'!$C$2:$C$3453,'Daily closes'!$E$2:$E$3453,"=aug15") -> 25.87 | AH4: =MINIFS('Daily closes'!$C$2:$C$3453,'Daily closes'!$E$2:$E$3453,"=sep15") -> 27.82 | AI4: =MINIFS('Daily closes'!$C$2:$C$3453,'Daily closes'!$E$2:$E$3453,"=oct15") -> 30 | AJ4: =MINIFS('Daily closes'!$C$2:$C$3453,'Daily closes'!$E$2:$E$3453,"=nov15") -> 32.1 | AK4: =MINIFS('Daily closes'!$C$2:$C$3453,'Daily closes'!$E$2:$E$3453,"=dec15") -> 33.87 | AL4: =MINIFS('Daily closes'!$C$2:$C$3453,'Daily closes'!$E$2:$E$3453,"=jan16") -> 29.59 | AM4: =MINIFS('Daily closes'!$C$2:$C$3453,'Daily closes'!$E$2:$E$3453,"=feb16") -> 28.22 | AN4: =MINIFS('Daily closes'!$C$2:$C$3453,'Daily closes'!$E$2:$E$3453,"=mar16") -> 30.37 | AO4: =MINIFS('Daily closes'!$C$2:$C$3453,'Daily closes'!$E$2:$E$3453,"=apr16") -> 30.28 | AP4: =MINIFS('Daily closes'!$C$2:$C$3453,'Daily closes'!$E$2:$E$3453,"=may16") -> 29.63 | AQ4: =MINIFS('Daily closes'!$C$2:$C$3453,'Daily closes'!$E$2:$E$3453,"=jun16") -> 30.72 | AR4: =MINIFS('Daily closes'!$C$2:$C$3453,'Daily closes'!$E$2:$E$3453,"=jul16") -> 32.68 | AS4: =MINIFS('Daily closes'!$C$2:$C$3453,'Daily closes'!$E$2:$E$3453,"=aug16") -> 34.25 | AT4: =MINIFS('Daily closes'!$C$2:$C$3453,'Daily closes'!$E$2:$E$3453,"=sep16") -> 35.44 | AU4: =MINIFS('Daily closes'!$C$2:$C$3453,'Daily closes'!$E$2:$E$3453,"=oct16") -> 34.74 | AV4: =MINIFS('Daily closes'!$C$2:$C$3453,'Daily closes'!$E$2:$E$3453,"=nov16") -> 33.61 | AW4: =MINIFS('Daily closes'!$C$2:$C$3453,'Daily closes'!$E$2:$E$3453,"=dec16") -> 33.76 | AX4: =MINIFS('Daily closes'!$C$2:$C$3453,'Daily closes'!$E$2:$E$3453,"=jan17") -> 36.35 | AY4: =MINIFS('Daily closes'!$C$2:$C$3453,'Daily closes'!$E$2:$E$3453,"=feb17") -> 35.34 | AZ4: =MINIFS('Daily closes'!$C$2:$C$3453,'Daily closes'!$E$2:$E$3453,"=mar17") -> 35.04 | BA4: =MINIFS('Daily closes'!$C$2:$C$3453,'Daily closes'!$E$2:$E$3453,"=apr17") -> 35.25 | BB4: =MINIFS('Daily closes'!$C$2:$C$3453,'Daily closes'!$E$2:$E$3453,"=may17") -> 35.04 | BC4: =MINIFS('Daily closes'!$C$2:$C$3453,'Daily closes'!$E$2:$E$3453,"=jun17") -> 33.54 | BD4: =MINIFS('Daily closes'!$C$2:$C$3453,'Daily closes'!$E$2:$E$3453,"=jul17") -> 33.46 | BE4: =MINIFS('Daily closes'!$C$2:$C$3453,'Daily closes'!$E$2:$E$3453,"=aug17") -> 34.65 | BF4: =MINIFS('Daily closes'!$C$2:$C$3453,'Daily closes'!$E$2:$E$3453,"=sep17") -> 35.02 | BG4: =MINIFS('Daily closes'!$C$2:$C$3453,'Daily closes'!$E$2:$E$3453,"=oct17") -> 39.04 | BH4: =MINIFS('Daily closes'!$C$2:$C$3453,'Daily closes'!$E$2:$E$3453,"=nov17") -> 43.95 | BI4: =MINIFS('Daily closes'!$C$2:$C$3453,'Daily closes'!$E$2:$E$3453,"=dec17") -> 43.08 | BJ4: =MINIFS('Daily closes'!$C$2:$C$3453,'Daily closes'!$E$2:$E$3453,"=jan18") -> 42.5 | BK4: =MINIFS('Daily closes'!$C$2:$C$3453,'Daily closes'!$E$2:$E$3453,"=feb18") -> 42.75 | BL4: =MINIFS('Daily closes'!$C$2:$C$3453,'Daily closes'!$E$2:$E$3453,"=mar18") -> 47.84 | BM4: =MINIFS('Daily closes'!$C$2:$C$3453,'Daily closes'!$E$2:$E$3453,"=apr18") -> 48.79 | BN4: =MINIFS('Daily closes'!$C$2:$C$3453,'Daily closes'!$E$2:$E$3453,"=may18") -> 52.28 | BO4: =MINIFS('Daily closes'!$C$2:$C$3453,'Daily closes'!$E$2:$E$3453,"=jun18") -> 48.76 | BP4: =MINIFS('Daily closes'!$C$2:$C$3453,'Daily closes'!$E$2:$E$3453,"=jul18") -> 47.68 | BQ4: =MINIFS('Daily closes'!$C$2:$C$3453,'Daily closes'!$E$2:$E$3453,"=aug18") -> 46.5 | BR4: =MINIFS('Daily closes'!$C$2:$C$3453,'Daily closes'!$E$2:$E$3453,"=sep18") -> 44.93 | BS4: =MINIFS('Daily closes'!$C$2:$C$3453,'Daily closes'!$E$2:$E$3453,"=oct18") -> 42.42 | BT4: =MINIFS('Daily closes'!$C$2:$C$3453,'Daily closes'!$E$2:$E$3453,"=nov18") -> 46.54 | BU4: =MINIFS('Daily closes'!$C$2:$C$3453,'Daily closes'!$E$2:$E$3453,"=dec18") -> 43.59 | BV4: =MINIFS('Daily closes'!$C$2:$C$3453,'Daily closes'!$E$2:$E$3453,"=jan19") -> 44.49 | BW4: =MINIFS('Daily closes'!$C$2:$C$3453,'Daily closes'!$E$2:$E$3453,"=feb19") -> 48.73 | BX4: =MINIFS('Daily closes'!$C$2:$C$3453,'Daily closes'!$E$2:$E$3453,"=mar19") -> 52.48 | BY4: =MINIFS('Daily closes'!$C$2:$C$3453,'Daily closes'!$E$2:$E$3453,"=apr19") -> 51.04 | BZ4: =MINIFS('Daily closes'!$C$2:$C$3453,'Daily closes'!$E$2:$E$3453,"=may19") -> 43.56 | CA4: =MINIFS('Daily closes'!$C$2:$C$3453,'Daily closes'!$E$2:$E$3453,"=jun19") -> 43.46 | CB4: =MINIFS('Daily closes'!$C$2:$C$3453,'Daily closes'!$E$2:$E$3453,"=jul19") -> 47.75 | CC4: =MINIFS('Daily closes'!$C$2:$C$3453,'Daily closes'!$E$2:$E$3453,"=aug19") -> 44.96 | CD4: =MINIFS('Daily closes'!$C$2:$C$3453,'Daily closes'!$E$2:$E$3453,"=sep19") -> 46.98 | CE4: =MINIFS('Daily closes'!$C$2:$C$3453,'Daily closes'!$E$2:$E$3453,"=oct19") -> 49.39 | CF4: =MINIFS('Daily closes'!$C$2:$C$3453,'Daily closes'!$E$2:$E$3453,"=nov19") -> 56.51 | CG4: =MINIFS('Daily closes'!$C$2:$C$3453,'Daily closes'!$E$2:$E$3453,"=dec19") -> 56.02 | CH4: =MINIFS('Daily closes'!$C$2:$C$3453,'Daily closes'!$E$2:$E$3453,"=jan20") -> 58.93 | CI4: =MINIFS('Daily closes'!$C$2:$C$3453,'Daily closes'!$E$2:$E$3453,"=feb20") -> 55.52 | CJ4: =MINIFS('Daily closes'!$C$2:$C$3453,'Daily closes'!$E$2:$E$3453,"=mar20") -> 44.61 | CK4: =MINIFS('Daily closes'!$C$2:$C$3453,'Daily closes'!$E$2:$E$3453,"=apr20") -> 51.88 | CL4: =MINIFS('Daily closes'!$C$2:$C$3453,'Daily closes'!$E$2:$E$3453,"=may20") -> 57.47 | CM4: =MINIFS('Daily closes'!$C$2:$C$3453,'Daily closes'!$E$2:$E$3453,"=jun20") -> 57.5 | CN4: =MINIFS('Daily closes'!$C$2:$C$3453,'Daily closes'!$E$2:$E$3453,"=jul20") -> 47.73 | CO4: =MINIFS('Daily closes'!$C$2:$C$3453,'Daily closes'!$E$2:$E$3453,"=aug20") -> 48.03 | CP4: =MINIFS('Daily closes'!$C$2:$C$3453,'Daily closes'!$E$2:$E$3453,"=sep20") -> 48.82 | CQ4: =MINIFS('Daily closes'!$C$2:$C$3453,'Daily closes'!$E$2:$E$3453,"=oct20") -> 44.11 | CR4: =MINIFS('Daily closes'!$C$2:$C$3453,'Daily closes'!$E$2:$E$3453,"=nov20") -> 44.46 | CS4: =MINIFS('Daily closes'!$C$2:$C$3453,'Daily closes'!$E$2:$E$3453,"=dec20") -> 46.17 | CT4: =MINIFS('Daily closes'!$C$2:$C$3453,'Daily closes'!$E$2:$E$3453,"=jan21") -> 49.67 | CU4: =MINIFS('Daily closes'!$C$2:$C$3453,'Daily closes'!$E$2:$E$3453,"=feb21") -> 56.69 | CV4: =MINIFS('Daily closes'!$C$2:$C$3453,'Daily closes'!$E$2:$E$3453,"=mar21") -> 58.33 | CW4: =MINIFS('Daily closes'!$C$2:$C$3453,'Daily closes'!$E$2:$E$3453,"=apr21") -> 57.53 | CX4: =MINIFS('Daily closes'!$C$2:$C$3453,'Daily closes'!$E$2:$E$3453,"=may21") -> 53.62 | CY4: =MINIFS('Daily closes'!$C$2:$C$3453,'Daily closes'!$E$2:$E$3453,"=jun21") -> 55.26 | CZ4: =MINIFS('Daily closes'!$C$2:$C$3453,'Daily closes'!$E$2:$E$3453,"=jul21") -> 53 | DA4: =MINIFS('Daily closes'!$C$2:$C$3453,'Daily closes'!$E$2:$E$3453,"=aug21") -> 52.01 | DB4: =MINIFS('Daily closes'!$C$2:$C$3453,'Daily closes'!$E$2:$E$3453,"=sep21") -> 52.87 | DC4: =MINIFS('Daily closes'!$C$2:$C$3453,'Daily closes'!$E$2:$E$3453,"=oct21") -> 47.89 | DD4: =MINIFS('Daily closes'!$C$2:$C$3453,'Daily closes'!$E$2:$E$3453,"=nov21") -> 48.78 | DE4: =MINIFS('Daily closes'!$C$2:$C$3453,'Daily closes'!$E$2:$E$3453,"=dec21") -> 48.6 | DF4: =MINIFS('Daily closes'!$C$2:$C$3453,'Daily closes'!$E$2:$E$3453,"=jan22") -> 47.73 | DG4: =MINIFS('Daily closes'!$C$2:$C$3453,'Daily closes'!$E$2:$E$3453,"=feb22") -> 44.65 | DH4: =MINIFS('Daily closes'!$C$2:$C$3453,'Daily closes'!$E$2:$E$3453,"=mar22") -> 44.4 | DI4: =MINIFS('Daily closes'!$C$2:$C$3453,'Daily closes'!$E$2:$E$3453,"=apr22") -> 43.59 | DJ4: =MINIFS('Daily closes'!$C$2:$C$3453,'Daily closes'!$E$2:$E$3453,"=may22") -> 41.65 | DK4: =MINIFS('Daily closes'!$C$2:$C$3453,'Daily closes'!$E$2:$E$3453,"=jun22") -> 36.97 | DL4: =MINIFS('Daily closes'!$C$2:$C$3453,'Daily closes'!$E$2:$E$3453,"=jul22") -> 36.31 | DM4: =MINIFS('Daily closes'!$C$2:$C$3453,'Daily closes'!$E$2:$E$3453,"=aug22") -> 31.92 | DN4: =MINIFS('Daily closes'!$C$2:$C$3453,'Daily closes'!$E$2:$E$3453,"=sep22") -> 25.77 | DO4: =MINIFS('Daily closes'!$C$2:$C$3453,'Daily closes'!$E$2:$E$3453,"=oct22") -> 25.04 | DP4: =MINIFS('Daily closes'!$C$2:$C$3453,'Daily closes'!$E$2:$E$3453,"=nov22") -> 27.39 | DQ4: =MINIFS('Daily closes'!$C$2:$C$3453,'Daily closes'!$E$2:$E$3453,"=dec22") -> 25.54 | DR4: =MINIFS('Daily closes'!$C$2:$C$3453,'Daily closes'!$E$2:$E$3453,"=jan23") -> 26.73 | DS4: =MINIFS('Daily closes'!$C$2:$C$3453,'Daily closes'!$E$2:$E$3453,"=feb23") -> 24.9 | DT4: =MINIFS('Daily closes'!$C$2:$C$3453,'Daily closes'!$E$2:$E$3453,"=mar23") -> 25.33 | DU4: =MINIFS('Daily closes'!$C$2:$C$3453,'Daily closes'!$E$2:$E$3453,"=apr23") -> 28.88 | DV4: =MINIFS('Daily closes'!$C$2:$C$3453,'Daily closes'!$E$2:$E$3453,"=may23") -> 27.4 | DW4: =MINIFS('Daily closes'!$C$2:$C$3453,'Daily closes'!$E$2:$E$3453,"=jun23") -> 29.86 | DX4: =MINIFS('Daily closes'!$C$2:$C$3453,'Daily closes'!$E$2:$E$3453,"=jul23") -> 31.85 | DY4: =MINIFS('Daily closes'!$C$2:$C$3453,'Daily closes'!$E$2:$E$3453,"=aug23") -> 32.58 | DZ4: =MINIFS('Daily closes'!$C$2:$C$3453,'Daily closes'!$E$2:$E$3453,"=sep23") -> 33.83 | EA4: =MINIFS('Daily closes'!$C$2:$C$3453,'Daily closes'!$E$2:$E$3453,"=oct23") -> 32.52 | EB4: =MINIFS('Daily closes'!$C$2:$C$3453,'Daily closes'!$E$2:$E$3453,"=nov23") -> 37.29 | EC4: =MINIFS('Daily closes'!$C$2:$C$3453,'Daily closes'!$E$2:$E$3453,"=dec23") -> 41.27 | ED4: =MINIFS('Daily closes'!$C$2:$C$3453,'Daily closes'!$E$2:$E$3453,"=jan24") -> 42.92 | EE4: =MINIFS('Daily closes'!$C$2:$C$3453,'Daily closes'!$E$2:$E$3453,"=feb24") -> 41.99 | EF4: =MINIFS('Daily closes'!$C$2:$C$3453,'Daily closes'!$E$2:$E$3453,"=mar24") -> 41.83 | EG4: =MINIFS('Daily closes'!$C$2:$C$3453,'Daily closes'!$E$2:$E$3453,"=apr24") -> 30.47 | EH4: =MINIFS('Daily closes'!$C$2:$C$3453,'Daily closes'!$E$2:$E$3453,"=may24") -> 29.85 | EI4: =MINIFS('Daily closes'!$C$2:$C$3453,'Daily closes'!$E$2:$E$3453,"=jun24") -> 30.03 | EJ4: =MINIFS('Daily closes'!$C$2:$C$3453,'Daily closes'!$E$2:$E$3453,"=jul24") -> 30.13 | EK4: =MINIFS('Daily closes'!$C$2:$C$3453,'Daily closes'!$E$2:$E$3453,"=aug24") -> 18.99 | EL4: =MINIFS('Daily closes'!$C$2:$C$3453,'Daily closes'!$E$2:$E$3453,"=sep24") -> 18.89 | EM4: =MINIFS('Daily closes'!$C$2:$C$3453,'Daily closes'!$E$2:$E$3453,"=oct24") -> 21.52 | EN4: =MINIFS('Daily closes'!$C$2:$C$3453,'Daily closes'!$E$2:$E$3453,"=nov24") -> 22.52 | EO4: =MINIFS('Daily closes'!$C$2:$C$3453,'Daily closes'!$E$2:$E$3453,"=dec24") -> 19.06 | EP4: =MINIFS('Daily closes'!$C$2:$C$3453,'Daily closes'!$E$2:$E$3453,"=jan25") -> 19.15 | EQ4: =MINIFS('Daily closes'!$C$2:$C$3453,'Daily closes'!$E$2:$E$3453,"=feb25") -> 19.1 | ER4: =MINIFS('Daily closes'!$C$2:$C$3453,'Daily closes'!$E$2:$E$3453,"=mar25") -> 19.78 | ES4: =MINIFS('Daily closes'!$C$2:$C$3453,'Daily closes'!$E$2:$E$3453,"=apr25") -> 18.13 | ET4: =MINIFS('Daily closes'!$C$2:$C$3453,'Daily closes'!$E$2:$E$3453,"=may25") -> 19.55 | EU4: =MINIFS('Daily closes'!$C$2:$C$3453,'Daily closes'!$E$2:$E$3453,"=jun25") -> 19.74 | EV4: =MINIFS('Daily closes'!$C$2:$C$3453,'Daily closes'!$E$2:$E$3453,"=jul25") -> 19.8 | EW4: =MINIFS('Daily closes'!$C$2:$C$3453,'Daily closes'!$E$2:$E$3453,"=aug25") -> 19.31 | EX4: =MINIFS('Daily closes'!$C$2:$C$3453,'Daily closes'!$E$2:$E$3453,"=sep25") -> 24 | EY4: =MINIFS('Daily closes'!$C$2:$C$3453,'Daily closes'!$E$2:$E$3453,"=oct25") -> 35.63 | EZ4: =MINIFS('Daily closes'!$C$2:$C$3453,'Daily closes'!$E$2:$E$3453,"=nov25") -> 33.62 | FA4: =MINIFS('Daily closes'!$C$2:$C$3453,'Daily closes'!$E$2:$E$3453,"=dec25") -> 36.05 | FB4: =MINIFS('Daily closes'!$C$2:$C$3453,'Daily closes'!$E$2:$E$3453,"=jan26") -> 39.37 | FC4: =MINIFS('Daily closes'!$C$2:$C$3453,'Daily closes'!$E$2:$E$3453,"=feb26") -> 43.63 | FD4: =MINIFS('Daily closes'!$C$2:$C$3453,'Daily closes'!$E$2:$E$3453,"=mar26") -> 41.19 | FE4: =MINIFS('Daily closes'!$C$2:$C$3453,'Daily closes'!$E$2:$E$3453,"=apr26") -> 48.03 | FF4: =MINIFS('Daily closes'!$C$2:$C$3453,'Daily closes'!$E$2:$E$3453,"=may26") -> 95.78 | FG4: =MINIFS('Daily closes'!$C$2:$C$3453,'Daily closes'!$E$2:$E$3453,"=jun26") -> 99.17 | FH4: =MINIFS('Daily closes'!$C$2:$C$3453,'Daily closes'!$E$2:$E$3453,"=jul26") -> 81.88 | FI4: =MINIFS('Daily closes'!$C$2:$C$3453,'Daily closes'!$E$2:$E$3453,"=aug26") -> 87.26 | FJ4: =MINIFS('Daily closes'!$C$2:$C$3453,'Daily closes'!$E$2:$E$3453,"=sep26") -> 88.97
A5: Monthly average ($) | B5: =AVERAGEIFS('Daily closes'!$C$2:$C$3453,'Daily closes'!$E$2:$E$3453,"=jan13") -> 21.442857 | C5: =AVERAGEIFS('Daily closes'!$C$2:$C$3453,'Daily closes'!$E$2:$E$3453,"=feb13") -> 20.917368 | D5: =AVERAGEIFS('Daily closes'!$C$2:$C$3453,'Daily closes'!$E$2:$E$3453,"=mar13") -> 21.4795 | E5: =AVERAGEIFS('Daily closes'!$C$2:$C$3453,'Daily closes'!$E$2:$E$3453,"=apr13") -> 22.224091 | F5: =AVERAGEIFS('Daily closes'!$C$2:$C$3453,'Daily closes'!$E$2:$E$3453,"=may13") -> 24.110909 | G5: =AVERAGEIFS('Daily closes'!$C$2:$C$3453,'Daily closes'!$E$2:$E$3453,"=jun13") -> 24.617 | H5: =AVERAGEIFS('Daily closes'!$C$2:$C$3453,'Daily closes'!$E$2:$E$3453,"=jul13") -> 23.465455 | I5: =AVERAGEIFS('Daily closes'!$C$2:$C$3453,'Daily closes'!$E$2:$E$3453,"=aug13") -> 22.451364 | J5: =AVERAGEIFS('Daily closes'!$C$2:$C$3453,'Daily closes'!$E$2:$E$3453,"=sep13") -> 23.19 | K5: =AVERAGEIFS('Daily closes'!$C$2:$C$3453,'Daily closes'!$E$2:$E$3453,"=oct13") -> 23.544783 | L5: =AVERAGEIFS('Daily closes'!$C$2:$C$3453,'Daily closes'!$E$2:$E$3453,"=nov13") -> 24.2615 | M5: =AVERAGEIFS('Daily closes'!$C$2:$C$3453,'Daily closes'!$E$2:$E$3453,"=dec13") -> 24.824762 | N5: =AVERAGEIFS('Daily closes'!$C$2:$C$3453,'Daily closes'!$E$2:$E$3453,"=jan14") -> 25.446667 | O5: =AVERAGEIFS('Daily closes'!$C$2:$C$3453,'Daily closes'!$E$2:$E$3453,"=feb14") -> 24.434211 | P5: =AVERAGEIFS('Daily closes'!$C$2:$C$3453,'Daily closes'!$E$2:$E$3453,"=mar14") -> 24.958095 | Q5: =AVERAGEIFS('Daily closes'!$C$2:$C$3453,'Daily closes'!$E$2:$E$3453,"=apr14") -> 26.561429 | R5: =AVERAGEIFS('Daily closes'!$C$2:$C$3453,'Daily closes'!$E$2:$E$3453,"=may14") -> 26.371905 | S5: =AVERAGEIFS('Daily closes'!$C$2:$C$3453,'Daily closes'!$E$2:$E$3453,"=jun14") -> 29.269524 | T5: =AVERAGEIFS('Daily closes'!$C$2:$C$3453,'Daily closes'!$E$2:$E$3453,"=jul14") -> 32.821818 | U5: =AVERAGEIFS('Daily closes'!$C$2:$C$3453,'Daily closes'!$E$2:$E$3453,"=aug14") -> 34.019524 | V5: =AVERAGEIFS('Daily closes'!$C$2:$C$3453,'Daily closes'!$E$2:$E$3453,"=sep14") -> 34.780476 | W5: =AVERAGEIFS('Daily closes'!$C$2:$C$3453,'Daily closes'!$E$2:$E$3453,"=oct14") -> 32.861739 | X5: =AVERAGEIFS('Daily closes'!$C$2:$C$3453,'Daily closes'!$E$2:$E$3453,"=nov14") -> 34.692105 | Y5: =AVERAGEIFS('Daily closes'!$C$2:$C$3453,'Daily closes'!$E$2:$E$3453,"=dec14") -> 36.897273 | Z5: =AVERAGEIFS('Daily closes'!$C$2:$C$3453,'Daily closes'!$E$2:$E$3453,"=jan15") -> 35.8055 | AA5: =AVERAGEIFS('Daily closes'!$C$2:$C$3453,'Daily closes'!$E$2:$E$3453,"=feb15") -> 33.868947 | AB5: =AVERAGEIFS('Daily closes'!$C$2:$C$3453,'Daily closes'!$E$2:$E$3453,"=mar15") -> 31.760455 | AC5: =AVERAGEIFS('Daily closes'!$C$2:$C$3453,'Daily closes'!$E$2:$E$3453,"=apr15") -> 32.049524 | AD5: =AVERAGEIFS('Daily closes'!$C$2:$C$3453,'Daily closes'!$E$2:$E$3453,"=may15") -> 33.125 | AE5: =AVERAGEIFS('Daily closes'!$C$2:$C$3453,'Daily closes'!$E$2:$E$3453,"=jun15") -> 31.868636 | AF5: =AVERAGEIFS('Daily closes'!$C$2:$C$3453,'Daily closes'!$E$2:$E$3453,"=jul15") -> 29.272273 | AG5: =AVERAGEIFS('Daily closes'!$C$2:$C$3453,'Daily closes'!$E$2:$E$3453,"=aug15") -> 28.36619 | AH5: =AVERAGEIFS('Daily closes'!$C$2:$C$3453,'Daily closes'!$E$2:$E$3453,"=sep15") -> 29.100952 | AI5: =AVERAGEIFS('Daily closes'!$C$2:$C$3453,'Daily closes'!$E$2:$E$3453,"=oct15") -> 32.938182 | AJ5: =AVERAGEIFS('Daily closes'!$C$2:$C$3453,'Daily closes'!$E$2:$E$3453,"=nov15") -> 33.686 | AK5: =AVERAGEIFS('Daily closes'!$C$2:$C$3453,'Daily closes'!$E$2:$E$3453,"=dec15") -> 34.771818 | AL5: =AVERAGEIFS('Daily closes'!$C$2:$C$3453,'Daily closes'!$E$2:$E$3453,"=jan16") -> 31.195789 | AM5: =AVERAGEIFS('Daily closes'!$C$2:$C$3453,'Daily closes'!$E$2:$E$3453,"=feb16") -> 29.211 | AN5: =AVERAGEIFS('Daily closes'!$C$2:$C$3453,'Daily closes'!$E$2:$E$3453,"=mar16") -> 31.582273 | AO5: =AVERAGEIFS('Daily closes'!$C$2:$C$3453,'Daily closes'!$E$2:$E$3453,"=apr16") -> 31.681905 | AP5: =AVERAGEIFS('Daily closes'!$C$2:$C$3453,'Daily closes'!$E$2:$E$3453,"=may16") -> 30.37619 | AQ5: =AVERAGEIFS('Daily closes'!$C$2:$C$3453,'Daily closes'!$E$2:$E$3453,"=jun16") -> 31.9 | AR5: =AVERAGEIFS('Daily closes'!$C$2:$C$3453,'Daily closes'!$E$2:$E$3453,"=jul16") -> 34.463 | AS5: =AVERAGEIFS('Daily closes'!$C$2:$C$3453,'Daily closes'!$E$2:$E$3453,"=aug16") -> 35.03087 | AT5: =AVERAGEIFS('Daily closes'!$C$2:$C$3453,'Daily closes'!$E$2:$E$3453,"=sep16") -> 36.732381 | AU5: =AVERAGEIFS('Daily closes'!$C$2:$C$3453,'Daily closes'!$E$2:$E$3453,"=oct16") -> 36.525238 | AV5: =AVERAGEIFS('Daily closes'!$C$2:$C$3453,'Daily closes'!$E$2:$E$3453,"=nov16") -> 34.798571 | AW5: =AVERAGEIFS('Daily closes'!$C$2:$C$3453,'Daily closes'!$E$2:$E$3453,"=dec16") -> 36.09619 | AX5: =AVERAGEIFS('Daily closes'!$C$2:$C$3453,'Daily closes'!$E$2:$E$3453,"=jan17") -> 36.924 | AY5: =AVERAGEIFS('Daily closes'!$C$2:$C$3453,'Daily closes'!$E$2:$E$3453,"=feb17") -> 36.221053 | AZ5: =AVERAGEIFS('Daily closes'!$C$2:$C$3453,'Daily closes'!$E$2:$E$3453,"=mar17") -> 35.52 | BA5: =AVERAGEIFS('Daily closes'!$C$2:$C$3453,'Daily closes'!$E$2:$E$3453,"=apr17") -> 36.154211 | BB5: =AVERAGEIFS('Daily closes'!$C$2:$C$3453,'Daily closes'!$E$2:$E$3453,"=may17") -> 36.079091 | BC5: =AVERAGEIFS('Daily closes'!$C$2:$C$3453,'Daily closes'!$E$2:$E$3453,"=jun17") -> 35.169091 | BD5: =AVERAGEIFS('Daily closes'!$C$2:$C$3453,'Daily closes'!$E$2:$E$3453,"=jul17") -> 34.438 | BE5: =AVERAGEIFS('Daily closes'!$C$2:$C$3453,'Daily closes'!$E$2:$E$3453,"=aug17") -> 35.586957 | BF5: =AVERAGEIFS('Daily closes'!$C$2:$C$3453,'Daily closes'!$E$2:$E$3453,"=sep17") -> 36.6015 | BG5: =AVERAGEIFS('Daily closes'!$C$2:$C$3453,'Daily closes'!$E$2:$E$3453,"=oct17") -> 40.594545 | BH5: =AVERAGEIFS('Daily closes'!$C$2:$C$3453,'Daily closes'!$E$2:$E$3453,"=nov17") -> 45.549048 | BI5: =AVERAGEIFS('Daily closes'!$C$2:$C$3453,'Daily closes'!$E$2:$E$3453,"=dec17") -> 44.9765 | BJ5: =AVERAGEIFS('Daily closes'!$C$2:$C$3453,'Daily closes'!$E$2:$E$3453,"=jan18") -> 45.487143 | BK5: =AVERAGEIFS('Daily closes'!$C$2:$C$3453,'Daily closes'!$E$2:$E$3453,"=feb18") -> 46.072632 | BL5: =AVERAGEIFS('Daily closes'!$C$2:$C$3453,'Daily closes'!$E$2:$E$3453,"=mar18") -> 50.867619 | BM5: =AVERAGEIFS('Daily closes'!$C$2:$C$3453,'Daily closes'!$E$2:$E$3453,"=apr18") -> 51.379048 | BN5: =AVERAGEIFS('Daily closes'!$C$2:$C$3453,'Daily closes'!$E$2:$E$3453,"=may18") -> 54.263182 | BO5: =AVERAGEIFS('Daily closes'!$C$2:$C$3453,'Daily closes'!$E$2:$E$3453,"=jun18") -> 53.610476 | BP5: =AVERAGEIFS('Daily closes'!$C$2:$C$3453,'Daily closes'!$E$2:$E$3453,"=jul18") -> 51.119048 | BQ5: =AVERAGEIFS('Daily closes'!$C$2:$C$3453,'Daily closes'!$E$2:$E$3453,"=aug18") -> 48.361739 | BR5: =AVERAGEIFS('Daily closes'!$C$2:$C$3453,'Daily closes'!$E$2:$E$3453,"=sep18") -> 46.309474 | BS5: =AVERAGEIFS('Daily closes'!$C$2:$C$3453,'Daily closes'!$E$2:$E$3453,"=oct18") -> 45.793913 | BT5: =AVERAGEIFS('Daily closes'!$C$2:$C$3453,'Daily closes'!$E$2:$E$3453,"=nov18") -> 47.847143 | BU5: =AVERAGEIFS('Daily closes'!$C$2:$C$3453,'Daily closes'!$E$2:$E$3453,"=dec18") -> 46.928947 | BV5: =AVERAGEIFS('Daily closes'!$C$2:$C$3453,'Daily closes'!$E$2:$E$3453,"=jan19") -> 47.768095 | BW5: =AVERAGEIFS('Daily closes'!$C$2:$C$3453,'Daily closes'!$E$2:$E$3453,"=feb19") -> 50.887895 | BX5: =AVERAGEIFS('Daily closes'!$C$2:$C$3453,'Daily closes'!$E$2:$E$3453,"=mar19") -> 53.532857 | BY5: =AVERAGEIFS('Daily closes'!$C$2:$C$3453,'Daily closes'!$E$2:$E$3453,"=apr19") -> 55.875714 | BZ5: =AVERAGEIFS('Daily closes'!$C$2:$C$3453,'Daily closes'!$E$2:$E$3453,"=may19") -> 46.385455 | CA5: =AVERAGEIFS('Daily closes'!$C$2:$C$3453,'Daily closes'!$E$2:$E$3453,"=jun19") -> 46.5005 | CB5: =AVERAGEIFS('Daily closes'!$C$2:$C$3453,'Daily closes'!$E$2:$E$3453,"=jul19") -> 49.931364 | CC5: =AVERAGEIFS('Daily closes'!$C$2:$C$3453,'Daily closes'!$E$2:$E$3453,"=aug19") -> 46.665455 | CD5: =AVERAGEIFS('Daily closes'!$C$2:$C$3453,'Daily closes'!$E$2:$E$3453,"=sep19") -> 51.091 | CE5: =AVERAGEIFS('Daily closes'!$C$2:$C$3453,'Daily closes'!$E$2:$E$3453,"=oct19") -> 52.42913 | CF5: =AVERAGEIFS('Daily closes'!$C$2:$C$3453,'Daily closes'!$E$2:$E$3453,"=nov19") -> 58.02 | CG5: =AVERAGEIFS('Daily closes'!$C$2:$C$3453,'Daily closes'!$E$2:$E$3453,"=dec19") -> 57.869524 | CH5: =AVERAGEIFS('Daily closes'!$C$2:$C$3453,'Daily closes'!$E$2:$E$3453,"=jan20") -> 61.858571 | CI5: =AVERAGEIFS('Daily closes'!$C$2:$C$3453,'Daily closes'!$E$2:$E$3453,"=feb20") -> 64.306842 | CJ5: =AVERAGEIFS('Daily closes'!$C$2:$C$3453,'Daily closes'!$E$2:$E$3453,"=mar20") -> 52.129545 | CK5: =AVERAGEIFS('Daily closes'!$C$2:$C$3453,'Daily closes'!$E$2:$E$3453,"=apr20") -> 58.410952 | CL5: =AVERAGEIFS('Daily closes'!$C$2:$C$3453,'Daily closes'!$E$2:$E$3453,"=may20") -> 60.1965 | CM5: =AVERAGEIFS('Daily closes'!$C$2:$C$3453,'Daily closes'!$E$2:$E$3453,"=jun20") -> 60.760455 | CN5: =AVERAGEIFS('Daily closes'!$C$2:$C$3453,'Daily closes'!$E$2:$E$3453,"=jul20") -> 56.571364 | CO5: =AVERAGEIFS('Daily closes'!$C$2:$C$3453,'Daily closes'!$E$2:$E$3453,"=aug20") -> 49.06 | CP5: =AVERAGEIFS('Daily closes'!$C$2:$C$3453,'Daily closes'!$E$2:$E$3453,"=sep20") -> 50.107619 | CQ5: =AVERAGEIFS('Daily closes'!$C$2:$C$3453,'Daily closes'!$E$2:$E$3453,"=oct20") -> 51.047727 | CR5: =AVERAGEIFS('Daily closes'!$C$2:$C$3453,'Daily closes'!$E$2:$E$3453,"=nov20") -> 45.8795 | CS5: =AVERAGEIFS('Daily closes'!$C$2:$C$3453,'Daily closes'!$E$2:$E$3453,"=dec20") -> 49.316364 | CT5: =AVERAGEIFS('Daily closes'!$C$2:$C$3453,'Daily closes'!$E$2:$E$3453,"=jan21") -> 55.02 | CU5: =AVERAGEIFS('Daily closes'!$C$2:$C$3453,'Daily closes'!$E$2:$E$3453,"=feb21") -> 60.197368 | CV5: =AVERAGEIFS('Daily closes'!$C$2:$C$3453,'Daily closes'!$E$2:$E$3453,"=mar21") -> 62.87913 | CW5: =AVERAGEIFS('Daily closes'!$C$2:$C$3453,'Daily closes'!$E$2:$E$3453,"=apr21") -> 63.085714 | CX5: =AVERAGEIFS('Daily closes'!$C$2:$C$3453,'Daily closes'!$E$2:$E$3453,"=may21") -> 56.151 | CY5: =AVERAGEIFS('Daily closes'!$C$2:$C$3453,'Daily closes'!$E$2:$E$3453,"=jun21") -> 56.813636 | CZ5: =AVERAGEIFS('Daily closes'!$C$2:$C$3453,'Daily closes'!$E$2:$E$3453,"=jul21") -> 55.245238 | DA5: =AVERAGEIFS('Daily closes'!$C$2:$C$3453,'Daily closes'!$E$2:$E$3453,"=aug21") -> 53.512727 | DB5: =AVERAGEIFS('Daily closes'!$C$2:$C$3453,'Daily closes'!$E$2:$E$3453,"=sep21") -> 53.910476 | DC5: =AVERAGEIFS('Daily closes'!$C$2:$C$3453,'Daily closes'!$E$2:$E$3453,"=oct21") -> 52.507143 | DD5: =AVERAGEIFS('Daily closes'!$C$2:$C$3453,'Daily closes'!$E$2:$E$3453,"=nov21") -> 50.114762 | DE5: =AVERAGEIFS('Daily closes'!$C$2:$C$3453,'Daily closes'!$E$2:$E$3453,"=dec21") -> 50.771364 | DF5: =AVERAGEIFS('Daily closes'!$C$2:$C$3453,'Daily closes'!$E$2:$E$3453,"=jan22") -> 52.843 | DG5: =AVERAGEIFS('Daily closes'!$C$2:$C$3453,'Daily closes'!$E$2:$E$3453,"=feb22") -> 47.708947 | DH5: =AVERAGEIFS('Daily closes'!$C$2:$C$3453,'Daily closes'!$E$2:$E$3453,"=mar22") -> 48.246522 | DI5: =AVERAGEIFS('Daily closes'!$C$2:$C$3453,'Daily closes'!$E$2:$E$3453,"=apr22") -> 46.913 | DJ5: =AVERAGEIFS('Daily closes'!$C$2:$C$3453,'Daily closes'!$E$2:$E$3453,"=may22") -> 43.505714 | DK5: =AVERAGEIFS('Daily closes'!$C$2:$C$3453,'Daily closes'!$E$2:$E$3453,"=jun22") -> 39.549048 | DL5: =AVERAGEIFS('Daily closes'!$C$2:$C$3453,'Daily closes'!$E$2:$E$3453,"=jul22") -> 38.386 | DM5: =AVERAGEIFS('Daily closes'!$C$2:$C$3453,'Daily closes'!$E$2:$E$3453,"=aug22") -> 34.974783 | DN5: =AVERAGEIFS('Daily closes'!$C$2:$C$3453,'Daily closes'!$E$2:$E$3453,"=sep22") -> 29.043333 | DO5: =AVERAGEIFS('Daily closes'!$C$2:$C$3453,'Daily closes'!$E$2:$E$3453,"=oct22") -> 26.667619 | DP5: =AVERAGEIFS('Daily closes'!$C$2:$C$3453,'Daily closes'!$E$2:$E$3453,"=nov22") -> 29.13 | DQ5: =AVERAGEIFS('Daily closes'!$C$2:$C$3453,'Daily closes'!$E$2:$E$3453,"=dec22") -> 27.524286 | DR5: =AVERAGEIFS('Daily closes'!$C$2:$C$3453,'Daily closes'!$E$2:$E$3453,"=jan23") -> 29.005 | DS5: =AVERAGEIFS('Daily closes'!$C$2:$C$3453,'Daily closes'!$E$2:$E$3453,"=feb23") -> 27.634211 | DT5: =AVERAGEIFS('Daily closes'!$C$2:$C$3453,'Daily closes'!$E$2:$E$3453,"=mar23") -> 28.31913 | DU5: =AVERAGEIFS('Daily closes'!$C$2:$C$3453,'Daily closes'!$E$2:$E$3453,"=apr23") -> 31.438421 | DV5: =AVERAGEIFS('Daily closes'!$C$2:$C$3453,'Daily closes'!$E$2:$E$3453,"=may23") -> 29.805455 | DW5: =AVERAGEIFS('Daily closes'!$C$2:$C$3453,'Daily closes'!$E$2:$E$3453,"=jun23") -> 33.02 | DX5: =AVERAGEIFS('Daily closes'!$C$2:$C$3453,'Daily closes'!$E$2:$E$3453,"=jul23") -> 33.8475 | DY5: =AVERAGEIFS('Daily closes'!$C$2:$C$3453,'Daily closes'!$E$2:$E$3453,"=aug23") -> 34.22 | DZ5: =AVERAGEIFS('Daily closes'!$C$2:$C$3453,'Daily closes'!$E$2:$E$3453,"=sep23") -> 36.5255 | EA5: =AVERAGEIFS('Daily closes'!$C$2:$C$3453,'Daily closes'!$E$2:$E$3453,"=oct23") -> 35.532273 | EB5: =AVERAGEIFS('Daily closes'!$C$2:$C$3453,'Daily closes'!$E$2:$E$3453,"=nov23") -> 41.133333 | EC5: =AVERAGEIFS('Daily closes'!$C$2:$C$3453,'Daily closes'!$E$2:$E$3453,"=dec23") -> 45.6855 | ED5: =AVERAGEIFS('Daily closes'!$C$2:$C$3453,'Daily closes'!$E$2:$E$3453,"=jan24") -> 46.885238 | EE5: =AVERAGEIFS('Daily closes'!$C$2:$C$3453,'Daily closes'!$E$2:$E$3453,"=feb24") -> 43.186 | EF5: =AVERAGEIFS('Daily closes'!$C$2:$C$3453,'Daily closes'!$E$2:$E$3453,"=mar24") -> 43.484 | EG5: =AVERAGEIFS('Daily closes'!$C$2:$C$3453,'Daily closes'!$E$2:$E$3453,"=apr24") -> 36.525455 | EH5: =AVERAGEIFS('Daily closes'!$C$2:$C$3453,'Daily closes'!$E$2:$E$3453,"=may24") -> 30.834091 | EI5: =AVERAGEIFS('Daily closes'!$C$2:$C$3453,'Daily closes'!$E$2:$E$3453,"=jun24") -> 30.657368 | EJ5: =AVERAGEIFS('Daily closes'!$C$2:$C$3453,'Daily closes'!$E$2:$E$3453,"=jul24") -> 32.721818 | EK5: =AVERAGEIFS('Daily closes'!$C$2:$C$3453,'Daily closes'!$E$2:$E$3453,"=aug24") -> 20.795909 | EL5: =AVERAGEIFS('Daily closes'!$C$2:$C$3453,'Daily closes'!$E$2:$E$3453,"=sep24") -> 21.043 | EM5: =AVERAGEIFS('Daily closes'!$C$2:$C$3453,'Daily closes'!$E$2:$E$3453,"=oct24") -> 22.668261 | EN5: =AVERAGEIFS('Daily closes'!$C$2:$C$3453,'Daily closes'!$E$2:$E$3453,"=nov24") -> 24.432 | EO5: =AVERAGEIFS('Daily closes'!$C$2:$C$3453,'Daily closes'!$E$2:$E$3453,"=dec24") -> 20.602381 | EP5: =AVERAGEIFS('Daily closes'!$C$2:$C$3453,'Daily closes'!$E$2:$E$3453,"=jan25") -> 20.214 | EQ5: =AVERAGEIFS('Daily closes'!$C$2:$C$3453,'Daily closes'!$E$2:$E$3453,"=feb25") -> 22.601053 | ER5: =AVERAGEIFS('Daily closes'!$C$2:$C$3453,'Daily closes'!$E$2:$E$3453,"=mar25") -> 22.820952 | ES5: =AVERAGEIFS('Daily closes'!$C$2:$C$3453,'Daily closes'!$E$2:$E$3453,"=apr25") -> 20.23381 | ET5: =AVERAGEIFS('Daily closes'!$C$2:$C$3453,'Daily closes'!$E$2:$E$3453,"=may25") -> 20.841429 | EU5: =AVERAGEIFS('Daily closes'!$C$2:$C$3453,'Daily closes'!$E$2:$E$3453,"=jun25") -> 21.106 | EV5: =AVERAGEIFS('Daily closes'!$C$2:$C$3453,'Daily closes'!$E$2:$E$3453,"=jul25") -> 22.402727 | EW5: =AVERAGEIFS('Daily closes'!$C$2:$C$3453,'Daily closes'!$E$2:$E$3453,"=aug25") -> 22.67 | EX5: =AVERAGEIFS('Daily closes'!$C$2:$C$3453,'Daily closes'!$E$2:$E$3453,"=sep25") -> 27.69619 | EY5: =AVERAGEIFS('Daily closes'!$C$2:$C$3453,'Daily closes'!$E$2:$E$3453,"=oct25") -> 37.887826 | EZ5: =AVERAGEIFS('Daily closes'!$C$2:$C$3453,'Daily closes'!$E$2:$E$3453,"=nov25") -> 36.694211 | FA5: =AVERAGEIFS('Daily closes'!$C$2:$C$3453,'Daily closes'!$E$2:$E$3453,"=dec25") -> 38.544545 | FB5: =AVERAGEIFS('Daily closes'!$C$2:$C$3453,'Daily closes'!$E$2:$E$3453,"=jan26") -> 45.798 | FC5: =AVERAGEIFS('Daily closes'!$C$2:$C$3453,'Daily closes'!$E$2:$E$3453,"=feb26") -> 46.973158 | FD5: =AVERAGEIFS('Daily closes'!$C$2:$C$3453,'Daily closes'!$E$2:$E$3453,"=mar26") -> 44.891364 | FE5: =AVERAGEIFS('Daily closes'!$C$2:$C$3453,'Daily closes'!$E$2:$E$3453,"=apr26") -> 67.684286 | FF5: =AVERAGEIFS('Daily closes'!$C$2:$C$3453,'Daily closes'!$E$2:$E$3453,"=may26") -> 115.1635 | FG5: =AVERAGEIFS('Daily closes'!$C$2:$C$3453,'Daily closes'!$E$2:$E$3453,"=jun26") -> 121.19476 | FH5: =AVERAGEIFS('Daily closes'!$C$2:$C$3453,'Daily closes'!$E$2:$E$3453,"=jul26") -> 102.60591 | FI5: =AVERAGEIFS('Daily closes'!$C$2:$C$3453,'Daily closes'!$E$2:$E$3453,"=aug26") -> 95.564286 | FJ5: =AVERAGEIFS('Daily closes'!$C$2:$C$3453,'Daily closes'!$E$2:$E$3453,"=sep26") -> 103.8425
A6: Return, month over month | B6: =IFERROR(((B2/0)-1),"") | C6: =IFERROR(((C2/B2)-1),"") -> -0.0076045627 | D6: =IFERROR(((D2/C2)-1),"") -> 0.045977011 | E6: =IFERROR(((E2/D2)-1),"") -> 0.096611722 | F6: =IFERROR(((F2/E2)-1),"") -> 0.013778706 | G6: =IFERROR(((G2/F2)-1),"") -> -0.0020593081 | H6: =IFERROR(((H2/G2)-1),"") -> -0.036731325 | I6: =IFERROR(((I2/H2)-1),"") -> -0.058269066 | J6: =IFERROR(((J2/I2)-1),"") -> 0.042766151 | ... FJ6: =IFERROR(((FJ2/FI2)-1),"") -> 0.36967937
A7: Return since January 2013 | B7: =((B2/B2)-1) -> 0 | C7: =((C2/B2)-1) -> -0.0076045627 | D7: =((D2/B2)-1) -> 0.038022814 | E7: =((E2/B2)-1) -> 0.13830798 | F7: =((F2/B2)-1) -> 0.1539924 | G7: =((G2/B2)-1) -> 0.15161597 | H7: =((H2/B2)-1) -> 0.10931559 | I7: =((I2/B2)-1) -> 0.044676806 | J7: =((J2/B2)-1) -> 0.089353612 | K7: =((K2/B2)-1) -> 0.16302281 | L7: =((L2/B2)-1) -> 0.13307985 | M7: =((M2/B2)-1) -> 0.2338403 | N7: =((N2/B2)-1) -> 0.16634981 | O7: =((O2/B2)-1) -> 0.17680608 | P7: =((P2/B2)-1) -> 0.22671103 | Q7: =((Q2/B2)-1) -> 0.26853612 | R7: =((R2/B2)-1) -> 0.29847909 | S7: =((S2/B2)-1) -> 0.46863118 | T7: =((T2/B2)-1) -> 0.61074144 | U7: =((U2/B2)-1) -> 0.65969582 | V7: =((V2/B2)-1) -> 0.65494297 | W7: =((W2/B2)-1) -> 0.61644487 | X7: =((X2/B2)-1) -> 0.77043726 | Y7: =((Y2/B2)-1) -> 0.72480989 | Z7: =((Z2/B2)-1) -> 0.57034221 | AA7: =((AA2/B2)-1) -> 0.58032319 | AB7: =((AB2/B2)-1) -> 0.48621673 | AC7: =((AC2/B2)-1) -> 0.54705323 | AD7: =((AD2/B2)-1) -> 0.6378327 | AE7: =((AE2/B2)-1) -> 0.44581749 | AF7: =((AF2/B2)-1) -> 0.37595057 | AG7: =((AG2/B2)-1) -> 0.35646388 | AH7: =((AH2/B2)-1) -> 0.43250951 | AI7: =((AI2/B2)-1) -> 0.60931559 | AJ7: =((AJ2/B2)-1) -> 0.65256654 | AK7: =((AK2/B2)-1) -> 0.63735741 | AL7: =((AL2/B2)-1) -> 0.4743346 | AM7: =((AM2/B2)-1) -> 0.40636882 | AN7: =((AN2/B2)-1) -> 0.53754753 | AO7: =((AO2/B2)-1) -> 0.4391635 | AP7: =((AP2/B2)-1) -> 0.50142586 | AQ7: =((AQ2/B2)-1) -> 0.55893536 | AR7: =((AR2/B2)-1) -> 0.65684411 | AS7: =((AS2/B2)-1) -> 0.70579848 | AT7: =((AT2/B2)-1) -> 0.79420152 | AU7: =((AU2/B2)-1) -> 0.65731939 | AV7: =((AV2/B2)-1) -> 0.64923954 | AW7: =((AW2/B2)-1) -> 0.72385932 | AX7: =((AX2/B2)-1) -> 0.75 | AY7: =((AY2/B2)-1) -> 0.72053232 | AZ7: =((AZ2/B2)-1) -> 0.71435361 | BA7: =((BA2/B2)-1) -> 0.71815589 | BB7: =((BB2/B2)-1) -> 0.71625475 | BC7: =((BC2/B2)-1) -> 0.60361217 | BD7: =((BD2/B2)-1) -> 0.6858365 | BE7: =((BE2/B2)-1) -> 0.6668251 | BF7: =((BF2/B2)-1) -> 0.80988593 | BG7: =((BG2/B2)-1) -> 1.1620722 | BH7: =((BH2/B2)-1) -> 1.1311787 | BI7: =((BI2/B2)-1) -> 1.1939163 | BJ7: =((BJ2/B2)-1) -> 1.2880228 | BK7: =((BK2/B2)-1) -> 1.3426806 | BL7: =((BL2/B2)-1) -> 1.4752852 | BM7: =((BM2/B2)-1) -> 1.4534221 | BN7: =((BN2/B2)-1) -> 1.6235741 | BO7: =((BO2/B2)-1) -> 1.3626426 | BP7: =((BP2/B2)-1) -> 1.2861217 | BQ7: =((BQ2/B2)-1) -> 1.3018061 | BR7: =((BR2/B2)-1) -> 1.2476236 | BS7: =((BS2/B2)-1) -> 1.2281369 | BT7: =((BT2/B2)-1) -> 1.3436312 | BU7: =((BU2/B2)-1) -> 1.2305133 | BV7: =((BV2/B2)-1) -> 1.2395437 | BW7: =((BW2/B2)-1) -> 1.5171103 | BX7: =((BX2/B2)-1) -> 1.5522814 | BY7: =((BY2/B2)-1) -> 1.4258555 | BZ7: =((BZ2/B2)-1) -> 1.0931559 | CA7: =((CA2/B2)-1) -> 1.2751901 | CB7: =((CB2/B2)-1) -> 1.4025665 | CC7: =((CC2/B2)-1) -> 1.253327 | CD7: =((CD2/B2)-1) -> 1.4491445 | CE7: =((CE2/B2)-1) -> 1.6867871 | CF7: =((CF2/B2)-1) -> 1.7590304 | CG7: =((CG2/B2)-1) -> 1.8445817 | CH7: =((CH2/B2)-1) -> 2.0384981 | CI7: =((CI2/B2)-1) -> 1.6387833 | CJ7: =((CJ2/B2)-1) -> 1.5722433 | CK7: =((CK2/B2)-1) -> 1.8507605 | CL7: =((CL2/B2)-1) -> 1.9909696 | CM7: =((CM2/B2)-1) -> 1.8436312 | CN7: =((CN2/B2)-1) -> 1.2685361 | CO7: =((CO2/B2)-1) -> 1.4215779 | CP7: =((CP2/B2)-1) -> 1.4610266 | CQ7: =((CQ2/B2)-1) -> 1.1045627 | CR7: =((CR2/B2)-1) -> 1.2980038 | CS7: =((CS2/B2)-1) -> 1.3678707 | CT7: =((CT2/B2)-1) -> 1.638308 | CU7: =((CU2/B2)-1) -> 1.8887833 | CV7: =((CV2/B2)-1) -> 2.0418251 | CW7: =((CW2/B2)-1) -> 1.7343156 | CX7: =((CX2/B2)-1) -> 1.7148289 | CY7: =((CY2/B2)-1) -> 1.668251 | CZ7: =((CZ2/B2)-1) -> 1.5532319 | DA7: =((DA2/B2)-1) -> 1.5693916 | DB7: =((DB2/B2)-1) -> 1.5323194 | DC7: =((DC2/B2)-1) -> 1.3288973 | DD7: =((DD2/B2)-1) -> 1.338403 | DE7: =((DE2/B2)-1) -> 1.4477186 | DF7: =((DF2/B2)-1) -> 1.3203422 | DG7: =((DG2/B2)-1) -> 1.2671103 | DH7: =((DH2/B2)-1) -> 1.3555133 | DI7: =((DI2/B2)-1) -> 1.0717681 | DJ7: =((DJ2/B2)-1) -> 1.1112167 | DK7: =((DK2/B2)-1) -> 0.77804183 | DL7: =((DL2/B2)-1) -> 0.72576046 | DM7: =((DM2/B2)-1) -> 0.51711027 | DN7: =((DN2/B2)-1) -> 0.22480989 | DO7: =((DO2/B2)-1) -> 0.35123574 | DP7: =((DP2/B2)-1) -> 0.42918251 | DQ7: =((DQ2/B2)-1) -> 0.25617871 | DR7: =((DR2/B2)-1) -> 0.34315589 | DS7: =((DS2/B2)-1) -> 0.18488593 | DT7: =((DT2/B2)-1) -> 0.55275665 | DU7: =((DU2/B2)-1) -> 0.47623574 | DV7: =((DV2/B2)-1) -> 0.49429658 | DW7: =((DW2/B2)-1) -> 0.58935361 | DX7: =((DX2/B2)-1) -> 0.70009506 | DY7: =((DY2/B2)-1) -> 0.67015209 | DZ7: =((DZ2/B2)-1) -> 0.68963878 | EA7: =((EA2/B2)-1) -> 0.73479087 | EB7: =((EB2/B2)-1) -> 1.1245247 | EC7: =((EC2/B2)-1) -> 1.388308 | ED7: =((ED2/B2)-1) -> 1.0475285 | EE7: =((EE2/B2)-1) -> 1.0461027 | EF7: =((EF2/B2)-1) -> 1.0993346 | EG7: =((EG2/B2)-1) -> 0.44819392 | EH7: =((EH2/B2)-1) -> 0.46625475 | EI7: =((EI2/B2)-1) -> 0.47195817 | EJ7: =((EJ2/B2)-1) -> 0.46102662 | EK7: =((EK2/B2)-1) -> 0.047528517 | EL7: =((EL2/B2)-1) -> 0.11501901 | EM7: =((EM2/B2)-1) -> 0.022813688 | EN7: =((EN2/B2)-1) -> 0.14306084 | EO7: =((EO2/B2)-1) -> -0.047053232 | EP7: =((EP2/B2)-1) -> -0.076520913 | EQ7: =((EQ2/B2)-1) -> 0.12785171 | ER7: =((ER2/B2)-1) -> 0.079372624 | ES7: =((ES2/B2)-1) -> -0.044676806 | ET7: =((ET2/B2)-1) -> -0.07081749 | EU7: =((EU2/B2)-1) -> 0.064638783 | EV7: =((EV2/B2)-1) -> -0.058935361 | EW7: =((EW2/B2)-1) -> 0.15731939 | EX7: =((EX2/B2)-1) -> 0.59458175 | EY7: =((EY2/B2)-1) -> 0.9006654 | EZ7: =((EZ2/B2)-1) -> 0.92775665 | FA7: =((FA2/B2)-1) -> 0.75380228 | FB7: =((FB2/B2)-1) -> 1.2086502 | FC7: =((FC2/B2)-1) -> 1.1677757 | FD7: =((FD2/B2)-1) -> 1.0974335 | FE7: =((FE2/B2)-1) -> 3.4904943 | FF7: =((FF2/B2)-1) -> 4.4505703 | FG7: =((FG2/B2)-1) -> 5.6364068 | FH7: =((FH2/B2)-1) -> 3.2870722 | FI7: =((FI2/B2)-1) -> 3.2542776 | FJ7: =((FJ2/B2)-1) -> 4.8269962

Sheet Tenure scorecard
A1: line | B1: Brian Krzanich | C1: Bob Swan (interim) | D1: Bob Swan | E1: Pat Gelsinger | F1: Zinsner and Holthaus (interim) | G1: Lip-Bu Tan
A2: Close, month of appointment ($) | B2: ='INTC by month'!F2 -> 24.28 | C2: ='INTC by month'!BO2 -> 49.71 | D2: ='INTC by month'!BV2 -> 47.12 | E2: ='INTC by month'!CU2 -> 60.78 | F2: ='INTC by month'!EO2 -> 20.05 | G2: ='INTC by month'!ER2 -> 22.71
A3: Close, end of tenure ($) | B3: ='INTC by month'!BO2 -> 49.71 | C3: ='INTC by month'!BV2 -> 47.12 | D3: ='INTC by month'!CU2 -> 60.78 | E3: ='INTC by month'!EO2 -> 20.05 | F3: ='INTC by month'!ER2 -> 22.71 | G3: ='INTC by month'!FJ2 -> 122.6
A4: Months in the role | B4: =(65-4) -> 61 | C4: =(72-65) -> 7 | D4: =(97-72) -> 25 | E4: =(143-97) -> 46 | F4: =(146-143) -> 3 | G4: =(164-146) -> 18
A5: Total return | B5: =((B3/B2)-1) -> 1.0473641 | C5: =((C3/C2)-1) -> -0.052102193 | D5: =((D3/D2)-1) -> 0.28989813 | E5: =((E3/E2)-1) -> -0.67012175 | F5: =((F3/F2)-1) -> 0.13266833 | G5: =((G3/G2)-1) -> 4.3985029
A6: Annualised return | B6: =IFERROR((((B3/B2)^(12/B4))-1),"") -> 0.15138006 | C6: =IFERROR((((C3/C2)^(12/C4))-1),"") -> -0.087647632 | D6: =IFERROR((((D3/D2)^(12/D4))-1),"") -> 0.12996918 | E6: =IFERROR((((E3/E2)^(12/E4))-1),"") -> -0.2512219 | F6: =IFERROR((((F3/F2)^(12/F4))-1),"") -> 0.64592874 | G6: =IFERROR((((G3/G2)^(12/G4))-1),"") -> 2.0773878

Sheet Periods
A1: ID | B1: Name | C1: Start | D1: End | E1: Frame | F1: Year | G1: Quarter | H1: Index
A2: jan13 | B2: Jan-13 | C2: 41275 | D2: 41305 | E2: hist | F2: 2013 | G2: Q1 2013 | H2: 0
A3: feb13 | B3: Feb-13 | C3: 41306 | D3: 41333 | E3: hist | F3: 2013 | G3: Q1 2013 | H3: 1
A4: mar13 | B4: Mar-13 | C4: 41334 | D4: 41364 | E4: hist | F4: 2013 | G4: Q1 2013 | H4: 2
A5: apr13 | B5: Apr-13 | C5: 41365 | D5: 41394 | E5: hist | F5: 2013 | G5: Q2 2013 | H5: 3
A6: may13 | B6: May-13 | C6: 41395 | D6: 41425 | E6: hist | F6: 2013 | G6: Q2 2013 | H6: 4
A7: jun13 | B7: Jun-13 | C7: 41426 | D7: 41455 | E7: hist | F7: 2013 | G7: Q2 2013 | H7: 5
A8: jul13 | B8: Jul-13 | C8: 41456 | D8: 41486 | E8: hist | F8: 2013 | G8: Q3 2013 | H8: 6
A9: aug13 | B9: Aug-13 | C9: 41487 | D9: 41517 | E9: hist | F9: 2013 | G9: Q3 2013 | H9: 7
A10: sep13 | B10: Sep-13 | C10: 41518 | D10: 41547 | E10: hist | F10: 2013 | G10: Q3 2013 | H10: 8
A11: oct13 | B11: Oct-13 | C11: 41548 | D11: 41578 | E11: hist | F11: 2013 | G11: Q4 2013 | H11: 9
A12: nov13 | B12: Nov-13 | C12: 41579 | D12: 41608 | E12: hist | F12: 2013 | G12: Q4 2013 | H12: 10
A13: dec13 | B13: Dec-13 | C13: 41609 | D13: 41639 | E13: hist | F13: 2013 | G13: Q4 2013 | H13: 11
... A166: sep26 | B166: Sep-26 | C166: 46266 | D166: 46295 | E166: fcst | F166: 2026 | G166: Q3 2026 | H166: 164

Sheet Daily closes
A1: ID | B1: date | C1: close | D1: volume | E1: period | F1: month_end
A2: 2013-01-02 | B2: 41276 | C2: 21.38 | D2: 47629712 | E2: ="jan13" -> jan13 | F2: 0
A3: 2013-01-03 | B3: 41277 | C3: 21.32 | D3: 41060288 | E3: ="jan13" -> jan13 | F3: 0
A4: 2013-01-04 | B4: 41278 | C4: 21.16 | D4: 30149712 | E4: ="jan13" -> jan13 | F4: 0
A5: 2013-01-07 | B5: 41281 | C5: 21.25 | D5: 36355888 | E5: ="jan13" -> jan13 | F5: 0
A6: 2013-01-08 | B6: 41282 | C6: 21.09 | D6: 48676736 | E6: ="jan13" -> jan13 | F6: 0
A7: 2013-01-09 | B7: 41283 | C7: 21.45 | D7: 34295104 | E7: ="jan13" -> jan13 | F7: 0
A8: 2013-01-10 | B8: 41284 | C8: 21.8 | D8: 44629664 | E8: ="jan13" -> jan13 | F8: 0
A9: 2013-01-11 | B9: 41285 | C9: 22 | D9: 44945792 | E9: ="jan13" -> jan13 | F9: 0
A10: 2013-01-14 | B10: 41288 | C10: 22 | D10: 35724496 | E10: ="jan13" -> jan13 | F10: 0
A11: 2013-01-15 | B11: 41289 | C11: 21.88 | D11: 33998464 | E11: ="jan13" -> jan13 | F11: 0
A12: 2013-01-16 | B12: 41290 | C12: 22.11 | D12: 36768304 | E12: ="jan13" -> jan13 | F12: 0
A13: 2013-01-17 | B13: 41291 | C13: 22.68 | D13: 101019632 | E13: ="jan13" -> jan13 | F13: 0
... A22: 2013-01-31 | B22: 41305 | C22: 21.04 | D22: 36534064 | E22: ="jan13" -> jan13 | F22: 1
A23: 2013-02-01 | B23: 41306 | C23: 21.36 | D23: 31872592 | E23: ="feb13" -> feb13 | F23: 0
A24: 2013-02-04 | B24: 41309 | C24: 21.16 | D24: 38345568 | E24: ="feb13" -> feb13 | F24: 0
A25: 2013-02-05 | B25: 41310 | C25: 21.18 | D25: 30080736 | E25: ="feb13" -> feb13 | F25: 0
A26: 2013-02-06 | B26: 41311 | C26: 20.99 | D26: 32367072 | E26: ="feb13" -> feb13 | F26: 0
A27: 2013-02-07 | B27: 41312 | C27: 20.81 | D27: 41019680 | E27: ="feb13" -> feb13 | F27: 0
A28: 2013-02-08 | B28: 41313 | C28: 21 | D28: 28155312 | E28: ="feb13" -> feb13 | F28: 0
A29: 2013-02-11 | B29: 41316 | C29: 21.03 | D29: 18901632 | E29: ="feb13" -> feb13 | F29: 0
A30: 2013-02-12 | B30: 41317 | C30: 21.19 | D30: 28393520 | E30: ="feb13" -> feb13 | F30: 0
A31: 2013-02-13 | B31: 41318 | C31: 21.25 | D31: 21272464 | E31: ="feb13" -> feb13 | F31: 0
A32: 2013-02-14 | B32: 41319 | C32: 21.23 | D32: 35263024 | E32: ="feb13" -> feb13 | F32: 0
A33: 2013-02-15 | B33: 41320 | C33: 21.12 | D33: 33811616 | E33: ="feb13" -> feb13 | F33: 0
A34: 2013-02-19 | B34: 41324 | C34: 21.09 | D34: 31073760 | E34: ="feb13" -> feb13 | F34: 0
... A41: 2013-02-28 | B41: 41333 | C41: 20.88 | D41: 34811136 | E41: ="feb13" -> feb13 | F41: 1
A42: 2013-03-01 | B42: 41334 | C42: 21.03 | D42: 45699184 | E42: ="mar13" -> mar13 | F42: 0
A43: 2013-03-04 | B43: 41337 | C43: 21.27 | D43: 47554032 | E43: ="mar13" -> mar13 | F43: 0
A44: 2013-03-05 | B44: 41338 | C44: 21.51 | D44: 38801008 | E44: ="mar13" -> mar13 | F44: 0
A45: 2013-03-06 | B45: 41339 | C45: 21.75 | D45: 37190640 | E45: ="mar13" -> mar13 | F45: 0
A46: 2013-03-07 | B46: 41340 | C46: 21.89 | D46: 42379936 | E46: ="mar13" -> mar13 | F46: 0
A47: 2013-03-08 | B47: 41341 | C47: 21.58 | D47: 44997952 | E47: ="mar13" -> mar13 | F47: 0
A48: 2013-03-11 | B48: 41344 | C48: 21.69 | D48: 42151984 | E48: ="mar13" -> mar13 | F48: 0
A49: 2013-03-12 | B49: 41345 | C49: 21.64 | D49: 28618672 | E49: ="mar13" -> mar13 | F49: 0
A50: 2013-03-13 | B50: 41346 | C50: 21.66 | D50: 24617824 | E50: ="mar13" -> mar13 | F50: 0
A51: 2013-03-14 | B51: 41347 | C51: 21.65 | D51: 28837856 | E51: ="mar13" -> mar13 | F51: 0
A52: 2013-03-15 | B52: 41348 | C52: 21.38 | D52: 52955008 | E52: ="mar13" -> mar13 | F52: 0
A53: 2013-03-18 | B53: 41351 | C53: 21.26 | D53: 35188240 | E53: ="mar13" -> mar13 | F53: 0
... A61: 2013-03-28 | B61: 41361 | C61: 21.84 | D61: 33338688 | E61: ="mar13" -> mar13 | F61: 1
A62: 2013-04-01 | B62: 41365 | C62: 21.43 | D62: 33722272 | E62: ="apr13" -> apr13 | F62: 0
A63: 2013-04-02 | B63: 41366 | C63: 21.46 | D63: 28168032 | E63: ="apr13" -> apr13 | F63: 0
A64: 2013-04-03 | B64: 41367 | C64: 21.05 | D64: 36620720 | E64: ="apr13" -> apr13 | F64: 0
A65: 2013-04-04 | B65: 41368 | C65: 21.13 | D65: 28703616 | E65: ="apr13" -> apr13 | F65: 0
A66: 2013-04-05 | B66: 41369 | C66: 20.94 | D66: 36724448 | E66: ="apr13" -> apr13 | F66: 0
A67: 2013-04-08 | B67: 41372 | C67: 21.09 | D67: 34214688 | E67: ="apr13" -> apr13 | F67: 0
A68: 2013-04-09 | B68: 41373 | C68: 21.75 | D68: 61522736 | E68: ="apr13" -> apr13 | F68: 0
A69: 2013-04-10 | B69: 41374 | C69: 22.26 | D69: 67102816 | E69: ="apr13" -> apr13 | F69: 0
A70: 2013-04-11 | B70: 41375 | C70: 21.83 | D70: 59299776 | E70: ="apr13" -> apr13 | F70: 0
A71: 2013-04-12 | B71: 41376 | C71: 21.68 | D71: 34034800 | E71: ="apr13" -> apr13 | F71: 0
A72: 2013-04-15 | B72: 41379 | C72: 21.38 | D72: 38459136 | E72: ="apr13" -> apr13 | F72: 0
A73: 2013-04-16 | B73: 41380 | C73: 21.91 | D73: 64766912 | E73: ="apr13" -> apr13 | F73: 0
... A83: 2013-04-30 | B83: 41394 | C83: 23.95 | D83: 41471152 | E83: ="apr13" -> apr13 | F83: 1
A84: 2013-05-01 | B84: 41395 | C84: 23.99 | D84: 38373728 | E84: ="may13" -> may13 | F84: 0
A85: 2013-05-02 | B85: 41396 | C85: 24.11 | D85: 33494272 | E85: ="may13" -> may13 | F85: 0
A86: 2013-05-03 | B86: 41397 | C86: 23.96 | D86: 30086352 | E86: ="may13" -> may13 | F86: 0
A87: 2013-05-06 | B87: 41400 | C87: 23.91 | D87: 31009088 | E87: ="may13" -> may13 | F87: 0
A88: 2013-05-07 | B88: 41401 | C88: 24.15 | D88: 38605520 | E88: ="may13" -> may13 | F88: 0
A89: 2013-05-08 | B89: 41402 | C89: 24.25 | D89: 24903232 | E89: ="may13" -> may13 | F89: 0
A90: 2013-05-09 | B90: 41403 | C90: 24.36 | D90: 31336272 | E90: ="may13" -> may13 | F90: 0
A91: 2013-05-10 | B91: 41404 | C91: 24.5 | D91: 22559536 | E91: ="may13" -> may13 | F91: 0
A92: 2013-05-13 | B92: 41407 | C92: 24.08 | D92: 28535184 | E92: ="may13" -> may13 | F92: 0
A93: 2013-05-14 | B93: 41408 | C93: 23.84 | D93: 36697472 | E93: ="may13" -> may13 | F93: 0
A94: 2013-05-15 | B94: 41409 | C94: 24.2 | D94: 33570192 | E94: ="may13" -> may13 | F94: 0
A95: 2013-05-16 | B95: 41410 | C95: 23.94 | D95: 29815248 | E95: ="may13" -> may13 | F95: 0
... A105: 2013-05-31 | B105: 41425 | C105: 24.28 | D105: 47796672 | E105: ="may13" -> may13 | F105: 1
A106: 2013-06-03 | B106: 41428 | C106: 25.24 | D106: 76493440 | E106: ="jun13" -> jun13 | F106: 0
A107: 2013-06-04 | B107: 41429 | C107: 25.36 | D107: 68524064 | E107: ="jun13" -> jun13 | F107: 0
A108: 2013-06-05 | B108: 41430 | C108: 24.7 | D108: 53343568 | E108: ="jun13" -> jun13 | F108: 0
A109: 2013-06-06 | B109: 41431 | C109: 24.65 | D109: 40026688 | E109: ="jun13" -> jun13 | F109: 0
A110: 2013-06-07 | B110: 41432 | C110: 24.59 | D110: 35543552 | E110: ="jun13" -> jun13 | F110: 0
A111: 2013-06-10 | B111: 41435 | C111: 25.01 | D111: 29783776 | E111: ="jun13" -> jun13 | F111: 0
A112: 2013-06-11 | B112: 41436 | C112: 24.71 | D112: 27079568 | E112: ="jun13" -> jun13 | F112: 0
A113: 2013-06-12 | B113: 41437 | C113: 24.46 | D113: 24538384 | E113: ="jun13" -> jun13 | F113: 0
A114: 2013-06-13 | B114: 41438 | C114: 24.99 | D114: 27709952 | E114: ="jun13" -> jun13 | F114: 0
A115: 2013-06-14 | B115: 41439 | C115: 24.92 | D115: 24762704 | E115: ="jun13" -> jun13 | F115: 0
A116: 2013-06-17 | B116: 41442 | C116: 25.1 | D116: 42653008 | E116: ="jun13" -> jun13 | F116: 0
A117: 2013-06-18 | B117: 41443 | C117: 25.47 | D117: 36677344 | E117: ="jun13" -> jun13 | F117: 0
... A125: 2013-06-28 | B125: 41453 | C125: 24.23 | D125: 80413808 | E125: ="jun13" -> jun13 | F125: 1
A126: 2013-07-01 | B126: 41456 | C126: 23.89 | D126: 29701488 | E126: ="jul13" -> jul13 | F126: 0
A127: 2013-07-02 | B127: 41457 | C127: 23.72 | D127: 28293568 | E127: ="jul13" -> jul13 | F127: 0
A128: 2013-07-03 | B128: 41458 | C128: 23.76 | D128: 18167168 | E128: ="jul13" -> jul13 | F128: 0
A129: 2013-07-05 | B129: 41460 | C129: 24.06 | D129: 17837840 | E129: ="jul13" -> jul13 | F129: 0
A130: 2013-07-08 | B130: 41463 | C130: 23.19 | D130: 68832368 | E130: ="jul13" -> jul13 | F130: 0
A131: 2013-07-09 | B131: 41464 | C131: 23.13 | D131: 34747776 | E131: ="jul13" -> jul13 | F131: 0
A132: 2013-07-10 | B132: 41465 | C132: 23.25 | D132: 50037456 | E132: ="jul13" -> jul13 | F132: 0
A133: 2013-07-11 | B133: 41466 | C133: 23.99 | D133: 41315904 | E133: ="jul13" -> jul13 | F133: 0
A134: 2013-07-12 | B134: 41467 | C134: 23.9 | D134: 34563312 | E134: ="jul13" -> jul13 | F134: 0
A135: 2013-07-15 | B135: 41470 | C135: 23.94 | D135: 25650752 | E135: ="jul13" -> jul13 | F135: 0
A136: 2013-07-16 | B136: 41471 | C136: 24.25 | D136: 34499280 | E136: ="jul13" -> jul13 | F136: 0
A137: 2013-07-17 | B137: 41472 | C137: 24.15 | D137: 44084112 | E137: ="jul13" -> jul13 | F137: 0
... A147: 2013-07-31 | B147: 41486 | C147: 23.34 | D147: 27680400 | E147: ="jul13" -> jul13 | F147: 1
A148: 2013-08-01 | B148: 41487 | C148: 23.2 | D148: 37832640 | E148: ="aug13" -> aug13 | F148: 0
A149: 2013-08-02 | B149: 41488 | C149: 23.22 | D149: 36242096 | E149: ="aug13" -> aug13 | F149: 0
A150: 2013-08-05 | B150: 41491 | C150: 22.92 | D150: 20875728 | E150: ="aug13" -> aug13 | F150: 0
A151: 2013-08-06 | B151: 41492 | C151: 22.8 | D151: 28847104 | E151: ="aug13" -> aug13 | F151: 0
A152: 2013-08-07 | B152: 41493 | C152: 22.7 | D152: 23350896 | E152: ="aug13" -> aug13 | F152: 0
A153: 2013-08-08 | B153: 41494 | C153: 22.45 | D153: 34796896 | E153: ="aug13" -> aug13 | F153: 0
A154: 2013-08-09 | B154: 41495 | C154: 22.51 | D154: 25146272 | E154: ="aug13" -> aug13 | F154: 0
A155: 2013-08-12 | B155: 41498 | C155: 22.64 | D155: 23521568 | E155: ="aug13" -> aug13 | F155: 0
...

Sheet Chief executives
A1: ID | B1: name | C1: role | D1: start | E1: end | F1: note
A2: krzanich | B2: Brian Krzanich | C2: CEO | D2: may13 | E2: jun18 | F2: Promoted from COO; resigned June 2018.
A3: swan_interim | B3: Bob Swan (interim) | C3: Interim CEO | D3: jun18 | E3: jan19 | F3: CFO named interim CEO.
A4: swan | B4: Bob Swan | C4: CEO | D4: jan19 | E4: feb21 | F4: Made permanent January 2019.
A5: gelsinger | B5: Pat Gelsinger | C5: CEO | D5: feb21 | E5: dec24 | F5: Returned from VMware; IDM 2.0 strategy; retired December 2024.
A6: interim_2024 | B6: Zinsner and Holthaus (interim) | C6: Interim co-CEOs | D6: dec24 | E6: mar25 | F6: CFO and products chief as interim co-CEOs.
A7: tan | B7: Lip-Bu Tan | C7: CEO | D7: mar25 | E7: sep26 | F7: Appointed March 2025; tenure measured to 2026-09-23.

Sheet INTC by month lines
A1: ID | B1: name | C1: format
A2: close | B2: Month-end close ($)
A3: high | B3: Monthly high ($)
A4: low | B4: Monthly low ($)
A5: avg | B5: Monthly average ($)
A6: return_mom | B6: Return, month over month | C6: percent
A7: return_ytd | B7: Return since January 2013 | C7: percent

Sheet Tenure scorecard lines
A1: ID | B1: name | C1: format
A2: start_price | B2: Close, month of appointment ($)
A3: end_price | B3: Close, end of tenure ($)
A4: months | B4: Months in the role
A5: total_return | B5: Total return | C5: percent
A6: annualized | B6: Annualised return | C6: percent

Sheet Rules
A1: Table | B1: Target | C1: When | D1: Formula | E1: Status
A2: prices | B2: period | D2: PERIOD(date, periods) | E2: ok
A3: stock | B3: value | C3: line = close | D3: SUM(prices.close[period=@period, month_end=1]) | E3: ok
A4: stock | B4: value | C4: line = high | D4: MAX(prices.close[period=@period]) | E4: ok
A5: stock | B5: value | C5: line = low | D5: MIN(prices.close[period=@period]) | E5: ok
A6: stock | B6: value | C6: line = avg | D6: AVG(prices.close[period=@period]) | E6: ok
A7: stock | B7: value | C7: line = return_mom | D7: IFERROR(close / PREV(close) - 1, BLANK) | E7: ok
A8: stock | B8: value | C8: line = return_ytd | D8: close / close[period=first] - 1 | E8: ok
A9: tenure | B9: value | C9: line = start_price | D9: stock.close[period=@ceo.start] | E9: ok
A10: tenure | B10: value | C10: line = end_price | D10: stock.close[period=@ceo.end] | E10: ok
A11: tenure | B11: value | C11: line = months | D11: ceo.end.idx - ceo.start.idx | E11: ok
A12: tenure | B12: value | C12: line = total_return | D12: end_price / start_price - 1 | E12: ok
A13: tenure | B13: value | C13: line = annualized | D13: IFERROR((end_price / start_price) ^ (12 / months) - 1, BLANK) | E13: ok
A15: Rules are what the model is made of; the cell formulas on the other sheets were compiled from them. Inputs are blue, formulas black.
