Workbook

Sheet Intel under five CEOs
A1: INTC, latest month-end close
A2: line | B2: Sep-26
A3: Month-end close ($) | B3: ='INTC by month'!FJ2 -> 122.6
A5: Return since January 2013
A6: line | B6: Sep-26
A7: Return since January 2013 | B7: ='INTC by month'!FJ7 -> 4.8269962
A9: Return under Lip-Bu Tan (vs Gelsinger)
A10: line | B10: Lip-Bu Tan
A11: Total return | B11: ='Tenure scorecard'!G5 -> 4.3985029
A13: Annualised, Lip-Bu Tan (vs Gelsinger)
A14: line | B14: Lip-Bu Tan
A15: Annualised return | B15: ='Tenure scorecard'!G6 -> 2.0773878
A17: INTC month-end close, with each CEO appointment
A18: line | B18: Jan-13 | C18: Feb-13 | D18: Mar-13 | E18: Apr-13 | F18: May-13 | G18: Jun-13 | H18: Jul-13 | I18: Aug-13 | J18: Sep-13 | K18: Oct-13 | L18: Nov-13 | M18: Dec-13 | N18: Jan-14 | O18: Feb-14 | P18: Mar-14 | Q18: Apr-14 | R18: May-14 | S18: Jun-14 | T18: Jul-14 | U18: Aug-14 | V18: Sep-14 | W18: Oct-14 | X18: Nov-14 | Y18: Dec-14 | Z18: Jan-15 | AA18: Feb-15 | AB18: Mar-15 | AC18: Apr-15 | AD18: May-15 | AE18: Jun-15 | AF18: Jul-15 | AG18: Aug-15 | AH18: Sep-15 | AI18: Oct-15 | AJ18: Nov-15 | AK18: Dec-15 | AL18: Jan-16 | AM18: Feb-16 | AN18: Mar-16 | AO18: Apr-16 | AP18: May-16 | AQ18: Jun-16 | AR18: Jul-16 | AS18: Aug-16 | AT18: Sep-16 | AU18: Oct-16 | AV18: Nov-16 | AW18: Dec-16 | AX18: Jan-17 | AY18: Feb-17 | AZ18: Mar-17 | BA18: Apr-17 | BB18: May-17 | BC18: Jun-17 | BD18: Jul-17 | BE18: Aug-17 | BF18: Sep-17 | BG18: Oct-17 | BH18: Nov-17 | BI18: Dec-17 | BJ18: Jan-18 | BK18: Feb-18 | BL18: Mar-18 | BM18: Apr-18 | BN18: May-18 | BO18: Jun-18 | BP18: Jul-18 | BQ18: Aug-18 | BR18: Sep-18 | BS18: Oct-18 | BT18: Nov-18 | BU18: Dec-18 | BV18: Jan-19 | BW18: Feb-19 | BX18: Mar-19 | BY18: Apr-19 | BZ18: May-19 | CA18: Jun-19 | CB18: Jul-19 | CC18: Aug-19 | CD18: Sep-19 | CE18: Oct-19 | CF18: Nov-19 | CG18: Dec-19 | CH18: Jan-20 | CI18: Feb-20 | CJ18: Mar-20 | CK18: Apr-20 | CL18: May-20 | CM18: Jun-20 | CN18: Jul-20 | CO18: Aug-20 | CP18: Sep-20 | CQ18: Oct-20 | CR18: Nov-20 | CS18: Dec-20 | CT18: Jan-21 | CU18: Feb-21 | CV18: Mar-21 | CW18: Apr-21 | CX18: May-21 | CY18: Jun-21 | CZ18: Jul-21 | DA18: Aug-21 | DB18: Sep-21 | DC18: Oct-21 | DD18: Nov-21 | DE18: Dec-21 | DF18: Jan-22 | DG18: Feb-22 | DH18: Mar-22 | DI18: Apr-22 | DJ18: May-22 | DK18: Jun-22 | DL18: Jul-22 | DM18: Aug-22 | DN18: Sep-22 | DO18: Oct-22 | DP18: Nov-22 | DQ18: Dec-22 | DR18: Jan-23 | DS18: Feb-23 | DT18: Mar-23 | DU18: Apr-23 | DV18: May-23 | DW18: Jun-23 | DX18: Jul-23 | DY18: Aug-23 | DZ18: Sep-23 | EA18: Oct-23 | EB18: Nov-23 | EC18: Dec-23 | ED18: Jan-24 | EE18: Feb-24 | EF18: Mar-24 | EG18: Apr-24 | EH18: May-24 | EI18: Jun-24 | EJ18: Jul-24 | EK18: Aug-24 | EL18: Sep-24 | EM18: Oct-24 | EN18: Nov-24 | EO18: Dec-24 | EP18: Jan-25 | EQ18: Feb-25 | ER18: Mar-25 | ES18: Apr-25 | ET18: May-25 | EU18: Jun-25 | EV18: Jul-25 | EW18: Aug-25 | EX18: Sep-25 | EY18: Oct-25 | EZ18: Nov-25 | FA18: Dec-25 | FB18: Jan-26 | FC18: Feb-26 | FD18: Mar-26 | FE18: Apr-26 | FF18: May-26 | FG18: Jun-26 | FH18: Jul-26 | FI18: Aug-26 | FJ18: Sep-26
A19: Month-end close ($) | B19: ='INTC by month'!B2 -> 21.04 | C19: ='INTC by month'!C2 -> 20.88 | D19: ='INTC by month'!D2 -> 21.84 | E19: ='INTC by month'!E2 -> 23.95 | F19: ='INTC by month'!F2 -> 24.28 | G19: ='INTC by month'!G2 -> 24.23 | H19: ='INTC by month'!H2 -> 23.34 | I19: ='INTC by month'!I2 -> 21.98 | ... FJ19: ='INTC by month'!FJ2 -> 122.6
A38: Tenure scorecard: price at appointment, at handover, and the return in between
A39: ceo | B39: Close, month of appointment ($) | C39: Close, end of tenure ($) | D39: Months in the role | E39: Total return | F39: Annualised return
A40: Brian Krzanich | B40: ='Tenure scorecard'!B2 -> 24.28 | C40: ='Tenure scorecard'!B3 -> 49.71 | D40: ='Tenure scorecard'!B4 -> 61 | E40: ='Tenure scorecard'!B5 -> 1.0473641 | F40: ='Tenure scorecard'!B6 -> 0.15138006
A41: Bob Swan (interim) | B41: ='Tenure scorecard'!C2 -> 49.71 | C41: ='Tenure scorecard'!C3 -> 47.12 | D41: ='Tenure scorecard'!C4 -> 7 | E41: ='Tenure scorecard'!C5 -> -0.052102193 | F41: ='Tenure scorecard'!C6 -> -0.087647632
A42: Bob Swan | B42: ='Tenure scorecard'!D2 -> 47.12 | C42: ='Tenure scorecard'!D3 -> 60.78 | D42: ='Tenure scorecard'!D4 -> 25 | E42: ='Tenure scorecard'!D5 -> 0.28989813 | F42: ='Tenure scorecard'!D6 -> 0.12996918
A43: Pat Gelsinger | B43: ='Tenure scorecard'!E2 -> 60.78 | C43: ='Tenure scorecard'!E3 -> 20.05 | D43: ='Tenure scorecard'!E4 -> 46 | E43: ='Tenure scorecard'!E5 -> -0.67012175 | F43: ='Tenure scorecard'!E6 -> -0.2512219
A44: Zinsner and Holthaus (interim) | B44: ='Tenure scorecard'!F2 -> 20.05 | C44: ='Tenure scorecard'!F3 -> 22.71 | D44: ='Tenure scorecard'!F4 -> 3 | E44: ='Tenure scorecard'!F5 -> 0.13266833 | F44: ='Tenure scorecard'!F6 -> 0.64592874
A45: Lip-Bu Tan | B45: ='Tenure scorecard'!G2 -> 22.71 | C45: ='Tenure scorecard'!G3 -> 122.6 | D45: ='Tenure scorecard'!G4 -> 18 | E45: ='Tenure scorecard'!G5 -> 4.3985029 | F45: ='Tenure scorecard'!G6 -> 2.0773878
A47: Annualised return by tenure
A48: ceo | B48: Annualised return
A49: Brian Krzanich | B49: ='Tenure scorecard'!B6 -> 0.15138006
A50: Bob Swan (interim) | B50: ='Tenure scorecard'!C6 -> -0.087647632
A51: Bob Swan | B51: ='Tenure scorecard'!D6 -> 0.12996918
A52: Pat Gelsinger | B52: ='Tenure scorecard'!E6 -> -0.2512219
A53: Zinsner and Holthaus (interim) | B53: ='Tenure scorecard'!F6 -> 0.64592874
A54: Lip-Bu Tan | B54: ='Tenure scorecard'!G6 -> 2.0773878
A73: Monthly returns
A74: line | B74: Jan-13 | C74: Feb-13 | D74: Mar-13 | E74: Apr-13 | F74: May-13 | G74: Jun-13 | H74: Jul-13 | I74: Aug-13 | J74: Sep-13 | K74: Oct-13 | L74: Nov-13 | M74: Dec-13 | N74: Jan-14 | O74: Feb-14 | P74: Mar-14 | Q74: Apr-14 | R74: May-14 | S74: Jun-14 | T74: Jul-14 | U74: Aug-14 | V74: Sep-14 | W74: Oct-14 | X74: Nov-14 | Y74: Dec-14 | Z74: Jan-15 | AA74: Feb-15 | AB74: Mar-15 | AC74: Apr-15 | AD74: May-15 | AE74: Jun-15 | AF74: Jul-15 | AG74: Aug-15 | AH74: Sep-15 | AI74: Oct-15 | AJ74: Nov-15 | AK74: Dec-15 | AL74: Jan-16 | AM74: Feb-16 | AN74: Mar-16 | AO74: Apr-16 | AP74: May-16 | AQ74: Jun-16 | AR74: Jul-16 | AS74: Aug-16 | AT74: Sep-16 | AU74: Oct-16 | AV74: Nov-16 | AW74: Dec-16 | AX74: Jan-17 | AY74: Feb-17 | AZ74: Mar-17 | BA74: Apr-17 | BB74: May-17 | BC74: Jun-17 | BD74: Jul-17 | BE74: Aug-17 | BF74: Sep-17 | BG74: Oct-17 | BH74: Nov-17 | BI74: Dec-17 | BJ74: Jan-18 | BK74: Feb-18 | BL74: Mar-18 | BM74: Apr-18 | BN74: May-18 | BO74: Jun-18 | BP74: Jul-18 | BQ74: Aug-18 | BR74: Sep-18 | BS74: Oct-18 | BT74: Nov-18 | BU74: Dec-18 | BV74: Jan-19 | BW74: Feb-19 | BX74: Mar-19 | BY74: Apr-19 | BZ74: May-19 | CA74: Jun-19 | CB74: Jul-19 | CC74: Aug-19 | CD74: Sep-19 | CE74: Oct-19 | CF74: Nov-19 | CG74: Dec-19 | CH74: Jan-20 | CI74: Feb-20 | CJ74: Mar-20 | CK74: Apr-20 | CL74: May-20 | CM74: Jun-20 | CN74: Jul-20 | CO74: Aug-20 | CP74: Sep-20 | CQ74: Oct-20 | CR74: Nov-20 | CS74: Dec-20 | CT74: Jan-21 | CU74: Feb-21 | CV74: Mar-21 | CW74: Apr-21 | CX74: May-21 | CY74: Jun-21 | CZ74: Jul-21 | DA74: Aug-21 | DB74: Sep-21 | DC74: Oct-21 | DD74: Nov-21 | DE74: Dec-21 | DF74: Jan-22 | DG74: Feb-22 | DH74: Mar-22 | DI74: Apr-22 | DJ74: May-22 | DK74: Jun-22 | DL74: Jul-22 | DM74: Aug-22 | DN74: Sep-22 | DO74: Oct-22 | DP74: Nov-22 | DQ74: Dec-22 | DR74: Jan-23 | DS74: Feb-23 | DT74: Mar-23 | DU74: Apr-23 | DV74: May-23 | DW74: Jun-23 | DX74: Jul-23 | DY74: Aug-23 | DZ74: Sep-23 | EA74: Oct-23 | EB74: Nov-23 | EC74: Dec-23 | ED74: Jan-24 | EE74: Feb-24 | EF74: Mar-24 | EG74: Apr-24 | EH74: May-24 | EI74: Jun-24 | EJ74: Jul-24 | EK74: Aug-24 | EL74: Sep-24 | EM74: Oct-24 | EN74: Nov-24 | EO74: Dec-24 | EP74: Jan-25 | EQ74: Feb-25 | ER74: Mar-25 | ES74: Apr-25 | ET74: May-25 | EU74: Jun-25 | EV74: Jul-25 | EW74: Aug-25 | EX74: Sep-25 | EY74: Oct-25 | EZ74: Nov-25 | FA74: Dec-25 | FB74: Jan-26 | FC74: Feb-26 | FD74: Mar-26 | FE74: Apr-26 | FF74: May-26 | FG74: Jun-26 | FH74: Jul-26 | FI74: Aug-26 | FJ74: Sep-26
A75: Return, month over month | B75: ='INTC by month'!B6 | C75: ='INTC by month'!C6 -> -0.0076045627 | D75: ='INTC by month'!D6 -> 0.045977011 | E75: ='INTC by month'!E6 -> 0.096611722 | F75: ='INTC by month'!F6 -> 0.013778706 | G75: ='INTC by month'!G6 -> -0.0020593081 | H75: ='INTC by month'!H6 -> -0.036731325 | I75: ='INTC by month'!I6 -> -0.058269066 | ... FJ75: ='INTC by month'!FJ6 -> 0.36967937
A94: Every cell on this sheet refers to the statement sheets; edit inputs there (blue) and this dashboard follows.

Sheet Daily closes (2)
A1: Every cell on this sheet refers to the statement sheets; edit inputs there (blue) and this dashboard follows.

Sheet INTC by month
A1: line | B1: Jan-13 | C1: Feb-13 | D1: Mar-13 | E1: Apr-13 | F1: May-13 | G1: Jun-13 | H1: Jul-13 | I1: Aug-13 | J1: Sep-13 | K1: Oct-13 | L1: Nov-13 | M1: Dec-13 | N1: Jan-14 | O1: Feb-14 | P1: Mar-14 | Q1: Apr-14 | R1: May-14 | S1: Jun-14 | T1: Jul-14 | U1: Aug-14 | V1: Sep-14 | W1: Oct-14 | X1: Nov-14 | Y1: Dec-14 | Z1: Jan-15 | AA1: Feb-15 | AB1: Mar-15 | AC1: Apr-15 | AD1: May-15 | AE1: Jun-15 | AF1: Jul-15 | AG1: Aug-15 | AH1: Sep-15 | AI1: Oct-15 | AJ1: Nov-15 | AK1: Dec-15 | AL1: Jan-16 | AM1: Feb-16 | AN1: Mar-16 | AO1: Apr-16 | AP1: May-16 | AQ1: Jun-16 | AR1: Jul-16 | AS1: Aug-16 | AT1: Sep-16 | AU1: Oct-16 | AV1: Nov-16 | AW1: Dec-16 | AX1: Jan-17 | AY1: Feb-17 | AZ1: Mar-17 | BA1: Apr-17 | BB1: May-17 | BC1: Jun-17 | BD1: Jul-17 | BE1: Aug-17 | BF1: Sep-17 | BG1: Oct-17 | BH1: Nov-17 | BI1: Dec-17 | BJ1: Jan-18 | BK1: Feb-18 | BL1: Mar-18 | BM1: Apr-18 | BN1: May-18 | BO1: Jun-18 | BP1: Jul-18 | BQ1: Aug-18 | BR1: Sep-18 | BS1: Oct-18 | BT1: Nov-18 | BU1: Dec-18 | BV1: Jan-19 | BW1: Feb-19 | BX1: Mar-19 | BY1: Apr-19 | BZ1: May-19 | CA1: Jun-19 | CB1: Jul-19 | CC1: Aug-19 | CD1: Sep-19 | CE1: Oct-19 | CF1: Nov-19 | CG1: Dec-19 | CH1: Jan-20 | CI1: Feb-20 | CJ1: Mar-20 | CK1: Apr-20 | CL1: May-20 | CM1: Jun-20 | CN1: Jul-20 | CO1: Aug-20 | CP1: Sep-20 | CQ1: Oct-20 | CR1: Nov-20 | CS1: Dec-20 | CT1: Jan-21 | CU1: Feb-21 | CV1: Mar-21 | CW1: Apr-21 | CX1: May-21 | CY1: Jun-21 | CZ1: Jul-21 | DA1: Aug-21 | DB1: Sep-21 | DC1: Oct-21 | DD1: Nov-21 | DE1: Dec-21 | DF1: Jan-22 | DG1: Feb-22 | DH1: Mar-22 | DI1: Apr-22 | DJ1: May-22 | DK1: Jun-22 | DL1: Jul-22 | DM1: Aug-22 | DN1: Sep-22 | DO1: Oct-22 | DP1: Nov-22 | DQ1: Dec-22 | DR1: Jan-23 | DS1: Feb-23 | DT1: Mar-23 | DU1: Apr-23 | DV1: May-23 | DW1: Jun-23 | DX1: Jul-23 | DY1: Aug-23 | DZ1: Sep-23 | EA1: Oct-23 | EB1: Nov-23 | EC1: Dec-23 | ED1: Jan-24 | EE1: Feb-24 | EF1: Mar-24 | EG1: Apr-24 | EH1: May-24 | EI1: Jun-24 | EJ1: Jul-24 | EK1: Aug-24 | EL1: Sep-24 | EM1: Oct-24 | EN1: Nov-24 | EO1: Dec-24 | EP1: Jan-25 | EQ1: Feb-25 | ER1: Mar-25 | ES1: Apr-25 | ET1: May-25 | EU1: Jun-25 | EV1: Jul-25 | EW1: Aug-25 | EX1: Sep-25 | EY1: Oct-25 | EZ1: Nov-25 | FA1: Dec-25 | FB1: Jan-26 | FC1: Feb-26 | FD1: Mar-26 | FE1: Apr-26 | FF1: May-26 | FG1: Jun-26 | FH1: Jul-26 | FI1: Aug-26 | FJ1: Sep-26
A2: Month-end close ($) | B2: =SUMIFS('Daily closes'!$C$2:$C$3453,'Daily closes'!$E$2:$E$3453,"=jan13",'Daily closes'!$F$2:$F$3453,"=1") -> 21.04 | C2: =SUMIFS('Daily closes'!$C$2:$C$3453,'Daily closes'!$E$2:$E$3453,"=feb13",'Daily closes'!$F$2:$F$3453,"=1") -> 20.88 | D2: =SUMIFS('Daily closes'!$C$2:$C$3453,'Daily closes'!$E$2:$E$3453,"=mar13",'Daily closes'!$F$2:$F$3453,"=1") -> 21.84 | E2: =SUMIFS('Daily closes'!$C$2:$C$3453,'Daily closes'!$E$2:$E$3453,"=apr13",'Daily closes'!$F$2:$F$3453,"=1") -> 23.95 | F2: =SUMIFS('Daily closes'!$C$2:$C$3453,'Daily closes'!$E$2:$E$3453,"=may13",'Daily closes'!$F$2:$F$3453,"=1") -> 24.28 | G2: =SUMIFS('Daily closes'!$C$2:$C$3453,'Daily closes'!$E$2:$E$3453,"=jun13",'Daily closes'!$F$2:$F$3453,"=1") -> 24.23 | H2: =SUMIFS('Daily closes'!$C$2:$C$3453,'Daily closes'!$E$2:$E$3453,"=jul13",'Daily closes'!$F$2:$F$3453,"=1") -> 23.34 | I2: =SUMIFS('Daily closes'!$C$2:$C$3453,'Daily closes'!$E$2:$E$3453,"=aug13",'Daily closes'!$F$2:$F$3453,"=1") -> 21.98 | J2: =SUMIFS('Daily closes'!$C$2:$C$3453,'Daily closes'!$E$2:$E$3453,"=sep13",'Daily closes'!$F$2:$F$3453,"=1") -> 22.92 | K2: =SUMIFS('Daily closes'!$C$2:$C$3453,'Daily closes'!$E$2:$E$3453,"=oct13",'Daily closes'!$F$2:$F$3453,"=1") -> 24.47 | L2: =SUMIFS('Daily closes'!$C$2:$C$3453,'Daily closes'!$E$2:$E$3453,"=nov13",'Daily closes'!$F$2:$F$3453,"=1") -> 23.84 | M2: =SUMIFS('Daily closes'!$C$2:$C$3453,'Daily closes'!$E$2:$E$3453,"=dec13",'Daily closes'!$F$2:$F$3453,"=1") -> 25.96 | N2: =SUMIFS('Daily closes'!$C$2:$C$3453,'Daily closes'!$E$2:$E$3453,"=jan14",'Daily closes'!$F$2:$F$3453,"=1") -> 24.54 | O2: =SUMIFS('Daily closes'!$C$2:$C$3453,'Daily closes'!$E$2:$E$3453,"=feb14",'Daily closes'!$F$2:$F$3453,"=1") -> 24.76 | P2: =SUMIFS('Daily closes'!$C$2:$C$3453,'Daily closes'!$E$2:$E$3453,"=mar14",'Daily closes'!$F$2:$F$3453,"=1") -> 25.81 | Q2: =SUMIFS('Daily closes'!$C$2:$C$3453,'Daily closes'!$E$2:$E$3453,"=apr14",'Daily closes'!$F$2:$F$3453,"=1") -> 26.69 | R2: =SUMIFS('Daily closes'!$C$2:$C$3453,'Daily closes'!$E$2:$E$3453,"=may14",'Daily closes'!$F$2:$F$3453,"=1") -> 27.32 | S2: =SUMIFS('Daily closes'!$C$2:$C$3453,'Daily closes'!$E$2:$E$3453,"=jun14",'Daily closes'!$F$2:$F$3453,"=1") -> 30.9 | T2: =SUMIFS('Daily closes'!$C$2:$C$3453,'Daily closes'!$E$2:$E$3453,"=jul14",'Daily closes'!$F$2:$F$3453,"=1") -> 33.89 | U2: =SUMIFS('Daily closes'!$C$2:$C$3453,'Daily closes'!$E$2:$E$3453,"=aug14",'Daily closes'!$F$2:$F$3453,"=1") -> 34.92 | V2: =SUMIFS('Daily closes'!$C$2:$C$3453,'Daily closes'!$E$2:$E$3453,"=sep14",'Daily closes'!$F$2:$F$3453,"=1") -> 34.82 | W2: =SUMIFS('Daily closes'!$C$2:$C$3453,'Daily closes'!$E$2:$E$3453,"=oct14",'Daily closes'!$F$2:$F$3453,"=1") -> 34.01 | X2: =SUMIFS('Daily closes'!$C$2:$C$3453,'Daily closes'!$E$2:$E$3453,"=nov14",'Daily closes'!$F$2:$F$3453,"=1") -> 37.25 | Y2: =SUMIFS('Daily closes'!$C$2:$C$3453,'Daily closes'!$E$2:$E$3453,"=dec14",'Daily closes'!$F$2:$F$3453,"=1") -> 36.29 | Z2: =SUMIFS('Daily closes'!$C$2:$C$3453,'Daily closes'!$E$2:$E$3453,"=jan15",'Daily closes'!$F$2:$F$3453,"=1") -> 33.04 | AA2: =SUMIFS('Daily closes'!$C$2:$C$3453,'Daily closes'!$E$2:$E$3453,"=feb15",'Daily closes'!$F$2:$F$3453,"=1") -> 33.25 | AB2: =SUMIFS('Daily closes'!$C$2:$C$3453,'Daily closes'!$E$2:$E$3453,"=mar15",'Daily closes'!$F$2:$F$3453,"=1") -> 31.27 | AC2: =SUMIFS('Daily closes'!$C$2:$C$3453,'Daily closes'!$E$2:$E$3453,"=apr15",'Daily closes'!$F$2:$F$3453,"=1") -> 32.55 | AD2: =SUMIFS('Daily closes'!$C$2:$C$3453,'Daily closes'!$E$2:$E$3453,"=may15",'Daily closes'!$F$2:$F$3453,"=1") -> 34.46 | AE2: =SUMIFS('Daily closes'!$C$2:$C$3453,'Daily closes'!$E$2:$E$3453,"=jun15",'Daily closes'!$F$2:$F$3453,"=1") -> 30.42 | AF2: =SUMIFS('Daily closes'!$C$2:$C$3453,'Daily closes'!$E$2:$E$3453,"=jul15",'Daily closes'!$F$2:$F$3453,"=1") -> 28.95 | AG2: =SUMIFS('Daily closes'!$C$2:$C$3453,'Daily closes'!$E$2:$E$3453,"=aug15",'Daily closes'!$F$2:$F$3453,"=1") -> 28.54 | AH2: =SUMIFS('Daily closes'!$C$2:$C$3453,'Daily closes'!$E$2:$E$3453,"=sep15",'Daily closes'!$F$2:$F$3453,"=1") -> 30.14 | AI2: =SUMIFS('Daily closes'!$C$2:$C$3453,'Daily closes'!$E$2:$E$3453,"=oct15",'Daily closes'!$F$2:$F$3453,"=1") -> 33.86 | AJ2: =SUMIFS('Daily closes'!$C$2:$C$3453,'Daily closes'!$E$2:$E$3453,"=nov15",'Daily closes'!$F$2:$F$3453,"=1") -> 34.77 | AK2: =SUMIFS('Daily closes'!$C$2:$C$3453,'Daily closes'!$E$2:$E$3453,"=dec15",'Daily closes'!$F$2:$F$3453,"=1") -> 34.45 | AL2: =SUMIFS('Daily closes'!$C$2:$C$3453,'Daily closes'!$E$2:$E$3453,"=jan16",'Daily closes'!$F$2:$F$3453,"=1") -> 31.02 | AM2: =SUMIFS('Daily closes'!$C$2:$C$3453,'Daily closes'!$E$2:$E$3453,"=feb16",'Daily closes'!$F$2:$F$3453,"=1") -> 29.59 | AN2: =SUMIFS('Daily closes'!$C$2:$C$3453,'Daily closes'!$E$2:$E$3453,"=mar16",'Daily closes'!$F$2:$F$3453,"=1") -> 32.35 | AO2: =SUMIFS('Daily closes'!$C$2:$C$3453,'Daily closes'!$E$2:$E$3453,"=apr16",'Daily closes'!$F$2:$F$3453,"=1") -> 30.28 | AP2: =SUMIFS('Daily closes'!$C$2:$C$3453,'Daily closes'!$E$2:$E$3453,"=may16",'Daily closes'!$F$2:$F$3453,"=1") -> 31.59 | AQ2: =SUMIFS('Daily closes'!$C$2:$C$3453,'Daily closes'!$E$2:$E$3453,"=jun16",'Daily closes'!$F$2:$F$3453,"=1") -> 32.8 | AR2: =SUMIFS('Daily closes'!$C$2:$C$3453,'Daily closes'!$E$2:$E$3453,"=jul16",'Daily closes'!$F$2:$F$3453,"=1") -> 34.86 | AS2: =SUMIFS('Daily closes'!$C$2:$C$3453,'Daily closes'!$E$2:$E$3453,"=aug16",'Daily closes'!$F$2:$F$3453,"=1") -> 35.89 | AT2: =SUMIFS('Daily closes'!$C$2:$C$3453,'Daily closes'!$E$2:$E$3453,"=sep16",'Daily closes'!$F$2:$F$3453,"=1") -> 37.75 | AU2: =SUMIFS('Daily closes'!$C$2:$C$3453,'Daily closes'!$E$2:$E$3453,"=oct16",'Daily closes'!$F$2:$F$3453,"=1") -> 34.87 | AV2: =SUMIFS('Daily closes'!$C$2:$C$3453,'Daily closes'!$E$2:$E$3453,"=nov16",'Daily closes'!$F$2:$F$3453,"=1") -> 34.7 | AW2: =SUMIFS('Daily closes'!$C$2:$C$3453,'Daily closes'!$E$2:$E$3453,"=dec16",'Daily closes'!$F$2:$F$3453,"=1") -> 36.27 | AX2: =SUMIFS('Daily closes'!$C$2:$C$3453,'Daily closes'!$E$2:$E$3453,"=jan17",'Daily closes'!$F$2:$F$3453,"=1") -> 36.82 | AY2: =SUMIFS('Daily closes'!$C$2:$C$3453,'Daily closes'!$E$2:$E$3453,"=feb17",'Daily closes'!$F$2:$F$3453,"=1") -> 36.2 | AZ2: =SUMIFS('Daily closes'!$C$2:$C$3453,'Daily closes'!$E$2:$E$3453,"=mar17",'Daily closes'!$F$2:$F$3453,"=1") -> 36.07 | BA2: =SUMIFS('Daily closes'!$C$2:$C$3453,'Daily closes'!$E$2:$E$3453,"=apr17",'Daily closes'!$F$2:$F$3453,"=1") -> 36.15 | BB2: =SUMIFS('Daily closes'!$C$2:$C$3453,'Daily closes'!$E$2:$E$3453,"=may17",'Daily closes'!$F$2:$F$3453,"=1") -> 36.11 | BC2: =SUMIFS('Daily closes'!$C$2:$C$3453,'Daily closes'!$E$2:$E$3453,"=jun17",'Daily closes'!$F$2:$F$3453,"=1") -> 33.74 | BD2: =SUMIFS('Daily closes'!$C$2:$C$3453,'Daily closes'!$E$2:$E$3453,"=jul17",'Daily closes'!$F$2:$F$3453,"=1") -> 35.47 | BE2: =SUMIFS('Daily closes'!$C$2:$C$3453,'Daily closes'!$E$2:$E$3453,"=aug17",'Daily closes'!$F$2:$F$3453,"=1") -> 35.07 | BF2: =SUMIFS('Daily closes'!$C$2:$C$3453,'Daily closes'!$E$2:$E$3453,"=sep17",'Daily closes'!$F$2:$F$3453,"=1") -> 38.08 | BG2: =SUMIFS('Daily closes'!$C$2:$C$3453,'Daily closes'!$E$2:$E$3453,"=oct17",'Daily closes'!$F$2:$F$3453,"=1") -> 45.49 | BH2: =SUMIFS('Daily closes'!$C$2:$C$3453,'Daily closes'!$E$2:$E$3453,"=nov17",'Daily closes'!$F$2:$F$3453,"=1") -> 44.84 | BI2: =SUMIFS('Daily closes'!$C$2:$C$3453,'Daily closes'!$E$2:$E$3453,"=dec17",'Daily closes'!$F$2:$F$3453,"=1") -> 46.16 | BJ2: =SUMIFS('Daily closes'!$C$2:$C$3453,'Daily closes'!$E$2:$E$3453,"=jan18",'Daily closes'!$F$2:$F$3453,"=1") -> 48.14 | BK2: =SUMIFS('Daily closes'!$C$2:$C$3453,'Daily closes'!$E$2:$E$3453,"=feb18",'Daily closes'!$F$2:$F$3453,"=1") -> 49.29 | BL2: =SUMIFS('Daily closes'!$C$2:$C$3453,'Daily closes'!$E$2:$E$3453,"=mar18",'Daily closes'!$F$2:$F$3453,"=1") -> 52.08 | BM2: =SUMIFS('Daily closes'!$C$2:$C$3453,'Daily closes'!$E$2:$E$3453,"=apr18",'Daily closes'!$F$2:$F$3453,"=1") -> 51.62 | BN2: =SUMIFS('Daily closes'!$C$2:$C$3453,'Daily closes'!$E$2:$E$3453,"=may18",'Daily closes'!$F$2:$F$3453,"=1") -> 55.2 | BO2: =SUMIFS('Daily closes'!$C$2:$C$3453,'Daily closes'!$E$2:$E$3453,"=jun18",'Daily closes'!$F$2:$F$3453,"=1") -> 49.71 | BP2: =SUMIFS('Daily closes'!$C$2:$C$3453,'Daily closes'!$E$2:$E$3453,"=jul18",'Daily closes'!$F$2:$F$3453,"=1") -> 48.1 | BQ2: =SUMIFS('Daily closes'!$C$2:$C$3453,'Daily closes'!$E$2:$E$3453,"=aug18",'Daily closes'!$F$2:$F$3453,"=1") -> 48.43 | BR2: =SUMIFS('Daily closes'!$C$2:$C$3453,'Daily closes'!$E$2:$E$3453,"=sep18",'Daily closes'!$F$2:$F$3453,"=1") -> 47.29 | BS2: =SUMIFS('Daily closes'!$C$2:$C$3453,'Daily closes'!$E$2:$E$3453,"=oct18",'Daily closes'!$F$2:$F$3453,"=1") -> 46.88 | BT2: =SUMIFS('Daily closes'!$C$2:$C$3453,'Daily closes'!$E$2:$E$3453,"=nov18",'Daily closes'!$F$2:$F$3453,"=1") -> 49.31 | BU2: =SUMIFS('Daily closes'!$C$2:$C$3453,'Daily closes'!$E$2:$E$3453,"=dec18",'Daily closes'!$F$2:$F$3453,"=1") -> 46.93 | BV2: =SUMIFS('Daily closes'!$C$2:$C$3453,'Daily closes'!$E$2:$E$3453,"=jan19",'Daily closes'!$F$2:$F$3453,"=1") -> 47.12 | BW2: =SUMIFS('Daily closes'!$C$2:$C$3453,'Daily closes'!$E$2:$E$3453,"=feb19",'Daily closes'!$F$2:$F$3453,"=1") -> 52.96 | BX2: =SUMIFS('Daily closes'!$C$2:$C$3453,'Daily closes'!$E$2:$E$3453,"=mar19",'Daily closes'!$F$2:$F$3453,"=1") -> 53.7 | BY2: =SUMIFS('Daily closes'!$C$2:$C$3453,'Daily closes'!$E$2:$E$3453,"=apr19",'Daily closes'!$F$2:$F$3453,"=1") -> 51.04 | BZ2: =SUMIFS('Daily closes'!$C$2:$C$3453,'Daily closes'!$E$2:$E$3453,"=may19",'Daily closes'!$F$2:$F$3453,"=1") -> 44.04 | CA2: =SUMIFS('Daily closes'!$C$2:$C$3453,'Daily closes'!$E$2:$E$3453,"=jun19",'Daily closes'!$F$2:$F$3453,"=1") -> 47.87 | CB2: =SUMIFS('Daily closes'!$C$2:$C$3453,'Daily closes'!$E$2:$E$3453,"=jul19",'Daily closes'!$F$2:$F$3453,"=1") -> 50.55 | CC2: =SUMIFS('Daily closes'!$C$2:$C$3453,'Daily closes'!$E$2:$E$3453,"=aug19",'Daily closes'!$F$2:$F$3453,"=1") -> 47.41 | CD2: =SUMIFS('Daily closes'!$C$2:$C$3453,'Daily closes'!$E$2:$E$3453,"=sep19",'Daily closes'!$F$2:$F$3453,"=1") -> 51.53 | CE2: =SUMIFS('Daily closes'!$C$2:$C$3453,'Daily closes'!$E$2:$E$3453,"=oct19",'Daily closes'!$F$2:$F$3453,"=1") -> 56.53 | CF2: =SUMIFS('Daily closes'!$C$2:$C$3453,'Daily closes'!$E$2:$E$3453,"=nov19",'Daily closes'!$F$2:$F$3453,"=1") -> 58.05 | CG2: =SUMIFS('Daily closes'!$C$2:$C$3453,'Daily closes'!$E$2:$E$3453,"=dec19",'Daily closes'!$F$2:$F$3453,"=1") -> 59.85 | CH2: =SUMIFS('Daily closes'!$C$2:$C$3453,'Daily closes'!$E$2:$E$3453,"=jan20",'Daily closes'!$F$2:$F$3453,"=1") -> 63.93 | CI2: =SUMIFS('Daily closes'!$C$2:$C$3453,'Daily closes'!$E$2:$E$3453,"=feb20",'Daily closes'!$F$2:$F$3453,"=1") -> 55.52 | CJ2: =SUMIFS('Daily closes'!$C$2:$C$3453,'Daily closes'!$E$2:$E$3453,"=mar20",'Daily closes'!$F$2:$F$3453,"=1") -> 54.12 | CK2: =SUMIFS('Daily closes'!$C$2:$C$3453,'Daily closes'!$E$2:$E$3453,"=apr20",'Daily closes'!$F$2:$F$3453,"=1") -> 59.98 | CL2: =SUMIFS('Daily closes'!$C$2:$C$3453,'Daily closes'!$E$2:$E$3453,"=may20",'Daily closes'!$F$2:$F$3453,"=1") -> 62.93 | CM2: =SUMIFS('Daily closes'!$C$2:$C$3453,'Daily closes'!$E$2:$E$3453,"=jun20",'Daily closes'!$F$2:$F$3453,"=1") -> 59.83 | CN2: =SUMIFS('Daily closes'!$C$2:$C$3453,'Daily closes'!$E$2:$E$3453,"=jul20",'Daily closes'!$F$2:$F$3453,"=1") -> 47.73 | CO2: =SUMIFS('Daily closes'!$C$2:$C$3453,'Daily closes'!$E$2:$E$3453,"=aug20",'Daily closes'!$F$2:$F$3453,"=1") -> 50.95 | CP2: =SUMIFS('Daily closes'!$C$2:$C$3453,'Daily closes'!$E$2:$E$3453,"=sep20",'Daily closes'!$F$2:$F$3453,"=1") -> 51.78 | CQ2: =SUMIFS('Daily closes'!$C$2:$C$3453,'Daily closes'!$E$2:$E$3453,"=oct20",'Daily closes'!$F$2:$F$3453,"=1") -> 44.28 | CR2: =SUMIFS('Daily closes'!$C$2:$C$3453,'Daily closes'!$E$2:$E$3453,"=nov20",'Daily closes'!$F$2:$F$3453,"=1") -> 48.35 | CS2: =SUMIFS('Daily closes'!$C$2:$C$3453,'Daily closes'!$E$2:$E$3453,"=dec20",'Daily closes'!$F$2:$F$3453,"=1") -> 49.82 | CT2: =SUMIFS('Daily closes'!$C$2:$C$3453,'Daily closes'!$E$2:$E$3453,"=jan21",'Daily closes'!$F$2:$F$3453,"=1") -> 55.51 | CU2: =SUMIFS('Daily closes'!$C$2:$C$3453,'Daily closes'!$E$2:$E$3453,"=feb21",'Daily closes'!$F$2:$F$3453,"=1") -> 60.78 | CV2: =SUMIFS('Daily closes'!$C$2:$C$3453,'Daily closes'!$E$2:$E$3453,"=mar21",'Daily closes'!$F$2:$F$3453,"=1") -> 64 | CW2: =SUMIFS('Daily closes'!$C$2:$C$3453,'Daily closes'!$E$2:$E$3453,"=apr21",'Daily closes'!$F$2:$F$3453,"=1") -> 57.53 | CX2: =SUMIFS('Daily closes'!$C$2:$C$3453,'Daily closes'!$E$2:$E$3453,"=may21",'Daily closes'!$F$2:$F$3453,"=1") -> 57.12 | CY2: =SUMIFS('Daily closes'!$C$2:$C$3453,'Daily closes'!$E$2:$E$3453,"=jun21",'Daily closes'!$F$2:$F$3453,"=1") -> 56.14 | CZ2: =SUMIFS('Daily closes'!$C$2:$C$3453,'Daily closes'!$E$2:$E$3453,"=jul21",'Daily closes'!$F$2:$F$3453,"=1") -> 53.72 | DA2: =SUMIFS('Daily closes'!$C$2:$C$3453,'Daily closes'!$E$2:$E$3453,"=aug21",'Daily closes'!$F$2:$F$3453,"=1") -> 54.06 | DB2: =SUMIFS('Daily closes'!$C$2:$C$3453,'Daily closes'!$E$2:$E$3453,"=sep21",'Daily closes'!$F$2:$F$3453,"=1") -> 53.28 | DC2: =SUMIFS('Daily closes'!$C$2:$C$3453,'Daily closes'!$E$2:$E$3453,"=oct21",'Daily closes'!$F$2:$F$3453,"=1") -> 49 | DD2: =SUMIFS('Daily closes'!$C$2:$C$3453,'Daily closes'!$E$2:$E$3453,"=nov21",'Daily closes'!$F$2:$F$3453,"=1") -> 49.2 | DE2: =SUMIFS('Daily closes'!$C$2:$C$3453,'Daily closes'!$E$2:$E$3453,"=dec21",'Daily closes'!$F$2:$F$3453,"=1") -> 51.5 | DF2: =SUMIFS('Daily closes'!$C$2:$C$3453,'Daily closes'!$E$2:$E$3453,"=jan22",'Daily closes'!$F$2:$F$3453,"=1") -> 48.82 | DG2: =SUMIFS('Daily closes'!$C$2:$C$3453,'Daily closes'!$E$2:$E$3453,"=feb22",'Daily closes'!$F$2:$F$3453,"=1") -> 47.7 | DH2: =SUMIFS('Daily closes'!$C$2:$C$3453,'Daily closes'!$E$2:$E$3453,"=mar22",'Daily closes'!$F$2:$F$3453,"=1") -> 49.56 | DI2: =SUMIFS('Daily closes'!$C$2:$C$3453,'Daily closes'!$E$2:$E$3453,"=apr22",'Daily closes'!$F$2:$F$3453,"=1") -> 43.59 | DJ2: =SUMIFS('Daily closes'!$C$2:$C$3453,'Daily closes'!$E$2:$E$3453,"=may22",'Daily closes'!$F$2:$F$3453,"=1") -> 44.42 | DK2: =SUMIFS('Daily closes'!$C$2:$C$3453,'Daily closes'!$E$2:$E$3453,"=jun22",'Daily closes'!$F$2:$F$3453,"=1") -> 37.41 | DL2: =SUMIFS('Daily closes'!$C$2:$C$3453,'Daily closes'!$E$2:$E$3453,"=jul22",'Daily closes'!$F$2:$F$3453,"=1") -> 36.31 | DM2: =SUMIFS('Daily closes'!$C$2:$C$3453,'Daily closes'!$E$2:$E$3453,"=aug22",'Daily closes'!$F$2:$F$3453,"=1") -> 31.92 | DN2: =SUMIFS('Daily closes'!$C$2:$C$3453,'Daily closes'!$E$2:$E$3453,"=sep22",'Daily closes'!$F$2:$F$3453,"=1") -> 25.77 | DO2: =SUMIFS('Daily closes'!$C$2:$C$3453,'Daily closes'!$E$2:$E$3453,"=oct22",'Daily closes'!$F$2:$F$3453,"=1") -> 28.43 | DP2: =SUMIFS('Daily closes'!$C$2:$C$3453,'Daily closes'!$E$2:$E$3453,"=nov22",'Daily closes'!$F$2:$F$3453,"=1") -> 30.07 | DQ2: =SUMIFS('Daily closes'!$C$2:$C$3453,'Daily closes'!$E$2:$E$3453,"=dec22",'Daily closes'!$F$2:$F$3453,"=1") -> 26.43 | DR2: =SUMIFS('Daily closes'!$C$2:$C$3453,'Daily closes'!$E$2:$E$3453,"=jan23",'Daily closes'!$F$2:$F$3453,"=1") -> 28.26 | DS2: =SUMIFS('Daily closes'!$C$2:$C$3453,'Daily closes'!$E$2:$E$3453,"=feb23",'Daily closes'!$F$2:$F$3453,"=1") -> 24.93 | DT2: =SUMIFS('Daily closes'!$C$2:$C$3453,'Daily closes'!$E$2:$E$3453,"=mar23",'Daily closes'!$F$2:$F$3453,"=1") -> 32.67 | DU2: =SUMIFS('Daily closes'!$C$2:$C$3453,'Daily closes'!$E$2:$E$3453,"=apr23",'Daily closes'!$F$2:$F$3453,"=1") -> 31.06 | DV2: =SUMIFS('Daily closes'!$C$2:$C$3453,'Daily closes'!$E$2:$E$3453,"=may23",'Daily closes'!$F$2:$F$3453,"=1") -> 31.44 | DW2: =SUMIFS('Daily closes'!$C$2:$C$3453,'Daily closes'!$E$2:$E$3453,"=jun23",'Daily closes'!$F$2:$F$3453,"=1") -> 33.44 | DX2: =SUMIFS('Daily closes'!$C$2:$C$3453,'Daily closes'!$E$2:$E$3453,"=jul23",'Daily closes'!$F$2:$F$3453,"=1") -> 35.77 | DY2: =SUMIFS('Daily closes'!$C$2:$C$3453,'Daily closes'!$E$2:$E$3453,"=aug23",'Daily closes'!$F$2:$F$3453,"=1") -> 35.14 | DZ2: =SUMIFS('Daily closes'!$C$2:$C$3453,'Daily closes'!$E$2:$E$3453,"=sep23",'Daily closes'!$F$2:$F$3453,"=1") -> 35.55 | EA2: =SUMIFS('Daily closes'!$C$2:$C$3453,'Daily closes'!$E$2:$E$3453,"=oct23",'Daily closes'!$F$2:$F$3453,"=1") -> 36.5 | EB2: =SUMIFS('Daily closes'!$C$2:$C$3453,'Daily closes'!$E$2:$E$3453,"=nov23",'Daily closes'!$F$2:$F$3453,"=1") -> 44.7 | EC2: =SUMIFS('Daily closes'!$C$2:$C$3453,'Daily closes'!$E$2:$E$3453,"=dec23",'Daily closes'!$F$2:$F$3453,"=1") -> 50.25 | ED2: =SUMIFS('Daily closes'!$C$2:$C$3453,'Daily closes'!$E$2:$E$3453,"=jan24",'Daily closes'!$F$2:$F$3453,"=1") -> 43.08 | EE2: =SUMIFS('Daily closes'!$C$2:$C$3453,'Daily closes'!$E$2:$E$3453,"=feb24",'Daily closes'!$F$2:$F$3453,"=1") -> 43.05 | EF2: =SUMIFS('Daily closes'!$C$2:$C$3453,'Daily closes'!$E$2:$E$3453,"=mar24",'Daily closes'!$F$2:$F$3453,"=1") -> 44.17 | EG2: =SUMIFS('Daily closes'!$C$2:$C$3453,'Daily closes'!$E$2:$E$3453,"=apr24",'Daily closes'!$F$2:$F$3453,"=1") -> 30.47 | EH2: =SUMIFS('Daily closes'!$C$2:$C$3453,'Daily closes'!$E$2:$E$3453,"=may24",'Daily closes'!$F$2:$F$3453,"=1") -> 30.85 | EI2: =SUMIFS('Daily closes'!$C$2:$C$3453,'Daily closes'!$E$2:$E$3453,"=jun24",'Daily closes'!$F$2:$F$3453,"=1") -> 30.97 | EJ2: =SUMIFS('Daily closes'!$C$2:$C$3453,'Daily closes'!$E$2:$E$3453,"=jul24",'Daily closes'!$F$2:$F$3453,"=1") -> 30.74 | EK2: =SUMIFS('Daily closes'!$C$2:$C$3453,'Daily closes'!$E$2:$E$3453,"=aug24",'Daily closes'!$F$2:$F$3453,"=1") -> 22.04 | EL2: =SUMIFS('Daily closes'!$C$2:$C$3453,'Daily closes'!$E$2:$E$3453,"=sep24",'Daily closes'!$F$2:$F$3453,"=1") -> 23.46 | EM2: =SUMIFS('Daily closes'!$C$2:$C$3453,'Daily closes'!$E$2:$E$3453,"=oct24",'Daily closes'!$F$2:$F$3453,"=1") -> 21.52 | EN2: =SUMIFS('Daily closes'!$C$2:$C$3453,'Daily closes'!$E$2:$E$3453,"=nov24",'Daily closes'!$F$2:$F$3453,"=1") -> 24.05 | EO2: =SUMIFS('Daily closes'!$C$2:$C$3453,'Daily closes'!$E$2:$E$3453,"=dec24",'Daily closes'!$F$2:$F$3453,"=1") -> 20.05 | EP2: =SUMIFS('Daily closes'!$C$2:$C$3453,'Daily closes'!$E$2:$E$3453,"=jan25",'Daily closes'!$F$2:$F$3453,"=1") -> 19.43 | EQ2: =SUMIFS('Daily closes'!$C$2:$C$3453,'Daily closes'!$E$2:$E$3453,"=feb25",'Daily closes'!$F$2:$F$3453,"=1") -> 23.73 | ER2: =SUMIFS('Daily closes'!$C$2:$C$3453,'Daily closes'!$E$2:$E$3453,"=mar25",'Daily closes'!$F$2:$F$3453,"=1") -> 22.71 | ES2: =SUMIFS('Daily closes'!$C$2:$C$3453,'Daily closes'!$E$2:$E$3453,"=apr25",'Daily closes'!$F$2:$F$3453,"=1") -> 20.1 | ET2: =SUMIFS('Daily closes'!$C$2:$C$3453,'Daily closes'!$E$2:$E$3453,"=may25",'Daily closes'!$F$2:$F$3453,"=1") -> 19.55 | EU2: =SUMIFS('Daily closes'!$C$2:$C$3453,'Daily closes'!$E$2:$E$3453,"=jun25",'Daily closes'!$F$2:$F$3453,"=1") -> 22.4 | EV2: =SUMIFS('Daily closes'!$C$2:$C$3453,'Daily closes'!$E$2:$E$3453,"=jul25",'Daily closes'!$F$2:$F$3453,"=1") -> 19.8 | EW2: =SUMIFS('Daily closes'!$C$2:$C$3453,'Daily closes'!$E$2:$E$3453,"=aug25",'Daily closes'!$F$2:$F$3453,"=1") -> 24.35 | EX2: =SUMIFS('Daily closes'!$C$2:$C$3453,'Daily closes'!$E$2:$E$3453,"=sep25",'Daily closes'!$F$2:$F$3453,"=1") -> 33.55 | EY2: =SUMIFS('Daily closes'!$C$2:$C$3453,'Daily closes'!$E$2:$E$3453,"=oct25",'Daily closes'!$F$2:$F$3453,"=1") -> 39.99 | EZ2: =SUMIFS('Daily closes'!$C$2:$C$3453,'Daily closes'!$E$2:$E$3453,"=nov25",'Daily closes'!$F$2:$F$3453,"=1") -> 40.56 | FA2: =SUMIFS('Daily closes'!$C$2:$C$3453,'Daily closes'!$E$2:$E$3453,"=dec25",'Daily closes'!$F$2:$F$3453,"=1") -> 36.9 | FB2: =SUMIFS('Daily closes'!$C$2:$C$3453,'Daily closes'!$E$2:$E$3453,"=jan26",'Daily closes'!$F$2:$F$3453,"=1") -> 46.47 | FC2: =SUMIFS('Daily closes'!$C$2:$C$3453,'Daily closes'!$E$2:$E$3453,"=feb26",'Daily closes'!$F$2:$F$3453,"=1") -> 45.61 | FD2: =SUMIFS('Daily closes'!$C$2:$C$3453,'Daily closes'!$E$2:$E$3453,"=mar26",'Daily closes'!$F$2:$F$3453,"=1") -> 44.13 | FE2: =SUMIFS('Daily closes'!$C$2:$C$3453,'Daily closes'!$E$2:$E$3453,"=apr26",'Daily closes'!$F$2:$F$3453,"=1") -> 94.48 | FF2: =SUMIFS('Daily closes'!$C$2:$C$3453,'Daily closes'!$E$2:$E$3453,"=may26",'Daily closes'!$F$2:$F$3453,"=1") -> 114.68 | FG2: =SUMIFS('Daily closes'!$C$2:$C$3453,'Daily closes'!$E$2:$E$3453,"=jun26",'Daily closes'!$F$2:$F$3453,"=1") -> 139.63 | FH2: =SUMIFS('Daily closes'!$C$2:$C$3453,'Daily closes'!$E$2:$E$3453,"=jul26",'Daily closes'!$F$2:$F$3453,"=1") -> 90.2 | FI2: =SUMIFS('Daily closes'!$C$2:$C$3453,'Daily closes'!$E$2:$E$3453,"=aug26",'Daily closes'!$F$2:$F$3453,"=1") -> 89.51 | FJ2: =SUMIFS('Daily closes'!$C$2:$C$3453,'Daily closes'!$E$2:$E$3453,"=sep26",'Daily closes'!$F$2:$F$3453,"=1") -> 122.6
A3: Monthly high ($) | B3: =MAXIFS('Daily closes'!$C$2:$C$3453,'Daily closes'!$E$2:$E$3453,"=jan13") -> 22.68 | C3: =MAXIFS('Daily closes'!$C$2:$C$3453,'Daily closes'!$E$2:$E$3453,"=feb13") -> 21.36 | D3: =MAXIFS('Daily closes'!$C$2:$C$3453,'Daily closes'!$E$2:$E$3453,"=mar13") -> 21.89 | E3: =MAXIFS('Daily closes'!$C$2:$C$3453,'Daily closes'!$E$2:$E$3453,"=apr13") -> 23.95 | F3: =MAXIFS('Daily closes'!$C$2:$C$3453,'Daily closes'!$E$2:$E$3453,"=may13") -> 24.5 | G3: =MAXIFS('Daily closes'!$C$2:$C$3453,'Daily closes'!$E$2:$E$3453,"=jun13") -> 25.47 | H3: =MAXIFS('Daily closes'!$C$2:$C$3453,'Daily closes'!$E$2:$E$3453,"=jul13") -> 24.25 | I3: =MAXIFS('Daily closes'!$C$2:$C$3453,'Daily closes'!$E$2:$E$3453,"=aug13") -> 23.22 | J3: =MAXIFS('Daily closes'!$C$2:$C$3453,'Daily closes'!$E$2:$E$3453,"=sep13") -> 23.91 | K3: =MAXIFS('Daily closes'!$C$2:$C$3453,'Daily closes'!$E$2:$E$3453,"=oct13") -> 24.52 | L3: =MAXIFS('Daily closes'!$C$2:$C$3453,'Daily closes'!$E$2:$E$3453,"=nov13") -> 25.23 | M3: =MAXIFS('Daily closes'!$C$2:$C$3453,'Daily closes'!$E$2:$E$3453,"=dec13") -> 25.96 | N3: =MAXIFS('Daily closes'!$C$2:$C$3453,'Daily closes'!$E$2:$E$3453,"=jan14") -> 26.67 | O3: =MAXIFS('Daily closes'!$C$2:$C$3453,'Daily closes'!$E$2:$E$3453,"=feb14") -> 24.8 | P3: =MAXIFS('Daily closes'!$C$2:$C$3453,'Daily closes'!$E$2:$E$3453,"=mar14") -> 25.81 | Q3: =MAXIFS('Daily closes'!$C$2:$C$3453,'Daily closes'!$E$2:$E$3453,"=apr14") -> 27.04 | R3: =MAXIFS('Daily closes'!$C$2:$C$3453,'Daily closes'!$E$2:$E$3453,"=may14") -> 27.32 | S3: =MAXIFS('Daily closes'!$C$2:$C$3453,'Daily closes'!$E$2:$E$3453,"=jun14") -> 30.93 | T3: =MAXIFS('Daily closes'!$C$2:$C$3453,'Daily closes'!$E$2:$E$3453,"=jul14") -> 34.79 | U3: =MAXIFS('Daily closes'!$C$2:$C$3453,'Daily closes'!$E$2:$E$3453,"=aug14") -> 35.15 | V3: =MAXIFS('Daily closes'!$C$2:$C$3453,'Daily closes'!$E$2:$E$3453,"=sep14") -> 35.33 | W3: =MAXIFS('Daily closes'!$C$2:$C$3453,'Daily closes'!$E$2:$E$3453,"=oct14") -> 34.27 | X3: =MAXIFS('Daily closes'!$C$2:$C$3453,'Daily closes'!$E$2:$E$3453,"=nov14") -> 37.25 | Y3: =MAXIFS('Daily closes'!$C$2:$C$3453,'Daily closes'!$E$2:$E$3453,"=dec14") -> 37.67 | Z3: =MAXIFS('Daily closes'!$C$2:$C$3453,'Daily closes'!$E$2:$E$3453,"=jan15") -> 36.91 | AA3: =MAXIFS('Daily closes'!$C$2:$C$3453,'Daily closes'!$E$2:$E$3453,"=feb15") -> 34.74 | AB3: =MAXIFS('Daily closes'!$C$2:$C$3453,'Daily closes'!$E$2:$E$3453,"=mar15") -> 34.12 | AC3: =MAXIFS('Daily closes'!$C$2:$C$3453,'Daily closes'!$E$2:$E$3453,"=apr15") -> 33.02 | AD3: =MAXIFS('Daily closes'!$C$2:$C$3453,'Daily closes'!$E$2:$E$3453,"=may15") -> 34.46 | AE3: =MAXIFS('Daily closes'!$C$2:$C$3453,'Daily closes'!$E$2:$E$3453,"=jun15") -> 33.91 | AF3: =MAXIFS('Daily closes'!$C$2:$C$3453,'Daily closes'!$E$2:$E$3453,"=jul15") -> 30.56 | AG3: =MAXIFS('Daily closes'!$C$2:$C$3453,'Daily closes'!$E$2:$E$3453,"=aug15") -> 29.64 | AH3: =MAXIFS('Daily closes'!$C$2:$C$3453,'Daily closes'!$E$2:$E$3453,"=sep15") -> 30.14 | AI3: =MAXIFS('Daily closes'!$C$2:$C$3453,'Daily closes'!$E$2:$E$3453,"=oct15") -> 34.9 | AJ3: =MAXIFS('Daily closes'!$C$2:$C$3453,'Daily closes'!$E$2:$E$3453,"=nov15") -> 34.77 | AK3: =MAXIFS('Daily closes'!$C$2:$C$3453,'Daily closes'!$E$2:$E$3453,"=dec15") -> 35.44 | AL3: =MAXIFS('Daily closes'!$C$2:$C$3453,'Daily closes'!$E$2:$E$3453,"=jan16") -> 33.99 | AM3: =MAXIFS('Daily closes'!$C$2:$C$3453,'Daily closes'!$E$2:$E$3453,"=feb16") -> 30.82 | AN3: =MAXIFS('Daily closes'!$C$2:$C$3453,'Daily closes'!$E$2:$E$3453,"=mar16") -> 32.71 | AO3: =MAXIFS('Daily closes'!$C$2:$C$3453,'Daily closes'!$E$2:$E$3453,"=apr16") -> 32.45 | AP3: =MAXIFS('Daily closes'!$C$2:$C$3453,'Daily closes'!$E$2:$E$3453,"=may16") -> 31.59 | AQ3: =MAXIFS('Daily closes'!$C$2:$C$3453,'Daily closes'!$E$2:$E$3453,"=jun16") -> 32.99 | AR3: =MAXIFS('Daily closes'!$C$2:$C$3453,'Daily closes'!$E$2:$E$3453,"=jul16") -> 35.69 | AS3: =MAXIFS('Daily closes'!$C$2:$C$3453,'Daily closes'!$E$2:$E$3453,"=aug16") -> 35.89 | AT3: =MAXIFS('Daily closes'!$C$2:$C$3453,'Daily closes'!$E$2:$E$3453,"=sep16") -> 37.75 | AU3: =MAXIFS('Daily closes'!$C$2:$C$3453,'Daily closes'!$E$2:$E$3453,"=oct16") -> 38.1 | AV3: =MAXIFS('Daily closes'!$C$2:$C$3453,'Daily closes'!$E$2:$E$3453,"=nov16") -> 35.51 | AW3: =MAXIFS('Daily closes'!$C$2:$C$3453,'Daily closes'!$E$2:$E$3453,"=dec16") -> 37.21 | AX3: =MAXIFS('Daily closes'!$C$2:$C$3453,'Daily closes'!$E$2:$E$3453,"=jan17") -> 37.98 | AY3: =MAXIFS('Daily closes'!$C$2:$C$3453,'Daily closes'!$E$2:$E$3453,"=feb17") -> 36.68 | AZ3: =MAXIFS('Daily closes'!$C$2:$C$3453,'Daily closes'!$E$2:$E$3453,"=mar17") -> 36.07 | BA3: =MAXIFS('Daily closes'!$C$2:$C$3453,'Daily closes'!$E$2:$E$3453,"=apr17") -> 37.43 | BB3: =MAXIFS('Daily closes'!$C$2:$C$3453,'Daily closes'!$E$2:$E$3453,"=may17") -> 36.98 | BC3: =MAXIFS('Daily closes'!$C$2:$C$3453,'Daily closes'!$E$2:$E$3453,"=jun17") -> 36.48 | BD3: =MAXIFS('Daily closes'!$C$2:$C$3453,'Daily closes'!$E$2:$E$3453,"=jul17") -> 35.47 | BE3: =MAXIFS('Daily closes'!$C$2:$C$3453,'Daily closes'!$E$2:$E$3453,"=aug17") -> 36.64 | BF3: =MAXIFS('Daily closes'!$C$2:$C$3453,'Daily closes'!$E$2:$E$3453,"=sep17") -> 38.08 | BG3: =MAXIFS('Daily closes'!$C$2:$C$3453,'Daily closes'!$E$2:$E$3453,"=oct17") -> 45.49 | BH3: =MAXIFS('Daily closes'!$C$2:$C$3453,'Daily closes'!$E$2:$E$3453,"=nov17") -> 47.1 | BI3: =MAXIFS('Daily closes'!$C$2:$C$3453,'Daily closes'!$E$2:$E$3453,"=dec17") -> 47.56 | BJ3: =MAXIFS('Daily closes'!$C$2:$C$3453,'Daily closes'!$E$2:$E$3453,"=jan18") -> 50.08 | BK3: =MAXIFS('Daily closes'!$C$2:$C$3453,'Daily closes'!$E$2:$E$3453,"=feb18") -> 49.91 | BL3: =MAXIFS('Daily closes'!$C$2:$C$3453,'Daily closes'!$E$2:$E$3453,"=mar18") -> 52.48 | BM3: =MAXIFS('Daily closes'!$C$2:$C$3453,'Daily closes'!$E$2:$E$3453,"=apr18") -> 53.61 | BN3: =MAXIFS('Daily closes'!$C$2:$C$3453,'Daily closes'!$E$2:$E$3453,"=may18") -> 55.68 | BO3: =MAXIFS('Daily closes'!$C$2:$C$3453,'Daily closes'!$E$2:$E$3453,"=jun18") -> 57.08 | BP3: =MAXIFS('Daily closes'!$C$2:$C$3453,'Daily closes'!$E$2:$E$3453,"=jul18") -> 52.43 | BQ3: =MAXIFS('Daily closes'!$C$2:$C$3453,'Daily closes'!$E$2:$E$3453,"=aug18") -> 50.14 | BR3: =MAXIFS('Daily closes'!$C$2:$C$3453,'Daily closes'!$E$2:$E$3453,"=sep18") -> 47.96 | BS3: =MAXIFS('Daily closes'!$C$2:$C$3453,'Daily closes'!$E$2:$E$3453,"=oct18") -> 48.76 | BT3: =MAXIFS('Daily closes'!$C$2:$C$3453,'Daily closes'!$E$2:$E$3453,"=nov18") -> 49.31 | BU3: =MAXIFS('Daily closes'!$C$2:$C$3453,'Daily closes'!$E$2:$E$3453,"=dec18") -> 50.13 | BV3: =MAXIFS('Daily closes'!$C$2:$C$3453,'Daily closes'!$E$2:$E$3453,"=jan19") -> 49.76 | BW3: =MAXIFS('Daily closes'!$C$2:$C$3453,'Daily closes'!$E$2:$E$3453,"=feb19") -> 53.24 | BX3: =MAXIFS('Daily closes'!$C$2:$C$3453,'Daily closes'!$E$2:$E$3453,"=mar19") -> 54.64 | BY3: =MAXIFS('Daily closes'!$C$2:$C$3453,'Daily closes'!$E$2:$E$3453,"=apr19") -> 58.82 | BZ3: =MAXIFS('Daily closes'!$C$2:$C$3453,'Daily closes'!$E$2:$E$3453,"=may19") -> 51.75 | CA3: =MAXIFS('Daily closes'!$C$2:$C$3453,'Daily closes'!$E$2:$E$3453,"=jun19") -> 48.19 | CB3: =MAXIFS('Daily closes'!$C$2:$C$3453,'Daily closes'!$E$2:$E$3453,"=jul19") -> 52.92 | CC3: =MAXIFS('Daily closes'!$C$2:$C$3453,'Daily closes'!$E$2:$E$3453,"=aug19") -> 49.5 | CD3: =MAXIFS('Daily closes'!$C$2:$C$3453,'Daily closes'!$E$2:$E$3453,"=sep19") -> 53.01 | CE3: =MAXIFS('Daily closes'!$C$2:$C$3453,'Daily closes'!$E$2:$E$3453,"=oct19") -> 56.76 | CF3: =MAXIFS('Daily closes'!$C$2:$C$3453,'Daily closes'!$E$2:$E$3453,"=nov19") -> 58.9 | CG3: =MAXIFS('Daily closes'!$C$2:$C$3453,'Daily closes'!$E$2:$E$3453,"=dec19") -> 60.08 | CH3: =MAXIFS('Daily closes'!$C$2:$C$3453,'Daily closes'!$E$2:$E$3453,"=jan20") -> 68.47 | CI3: =MAXIFS('Daily closes'!$C$2:$C$3453,'Daily closes'!$E$2:$E$3453,"=feb20") -> 67.46 | CJ3: =MAXIFS('Daily closes'!$C$2:$C$3453,'Daily closes'!$E$2:$E$3453,"=mar20") -> 58.68 | CK3: =MAXIFS('Daily closes'!$C$2:$C$3453,'Daily closes'!$E$2:$E$3453,"=apr20") -> 61.8 | CL3: =MAXIFS('Daily closes'!$C$2:$C$3453,'Daily closes'!$E$2:$E$3453,"=may20") -> 63.56 | CM3: =MAXIFS('Daily closes'!$C$2:$C$3453,'Daily closes'!$E$2:$E$3453,"=jun20") -> 64.34 | CN3: =MAXIFS('Daily closes'!$C$2:$C$3453,'Daily closes'!$E$2:$E$3453,"=jul20") -> 61.15 | CO3: =MAXIFS('Daily closes'!$C$2:$C$3453,'Daily closes'!$E$2:$E$3453,"=aug20") -> 50.95 | CP3: =MAXIFS('Daily closes'!$C$2:$C$3453,'Daily closes'!$E$2:$E$3453,"=sep20") -> 52.25 | CQ3: =MAXIFS('Daily closes'!$C$2:$C$3453,'Daily closes'!$E$2:$E$3453,"=oct20") -> 54.58 | CR3: =MAXIFS('Daily closes'!$C$2:$C$3453,'Daily closes'!$E$2:$E$3453,"=nov20") -> 48.35 | CS3: =MAXIFS('Daily closes'!$C$2:$C$3453,'Daily closes'!$E$2:$E$3453,"=dec20") -> 51.99 | CT3: =MAXIFS('Daily closes'!$C$2:$C$3453,'Daily closes'!$E$2:$E$3453,"=jan21") -> 62.46 | CU3: =MAXIFS('Daily closes'!$C$2:$C$3453,'Daily closes'!$E$2:$E$3453,"=feb21") -> 63.19 | CV3: =MAXIFS('Daily closes'!$C$2:$C$3453,'Daily closes'!$E$2:$E$3453,"=mar21") -> 65.78 | CW3: =MAXIFS('Daily closes'!$C$2:$C$3453,'Daily closes'!$E$2:$E$3453,"=apr21") -> 68.26 | CX3: =MAXIFS('Daily closes'!$C$2:$C$3453,'Daily closes'!$E$2:$E$3453,"=may21") -> 57.73 | CY3: =MAXIFS('Daily closes'!$C$2:$C$3453,'Daily closes'!$E$2:$E$3453,"=jun21") -> 58.19 | CZ3: =MAXIFS('Daily closes'!$C$2:$C$3453,'Daily closes'!$E$2:$E$3453,"=jul21") -> 56.87 | DA3: =MAXIFS('Daily closes'!$C$2:$C$3453,'Daily closes'!$E$2:$E$3453,"=aug21") -> 54.14 | DB3: =MAXIFS('Daily closes'!$C$2:$C$3453,'Daily closes'!$E$2:$E$3453,"=sep21") -> 55.12 | DC3: =MAXIFS('Daily closes'!$C$2:$C$3453,'Daily closes'!$E$2:$E$3453,"=oct21") -> 56 | DD3: =MAXIFS('Daily closes'!$C$2:$C$3453,'Daily closes'!$E$2:$E$3453,"=nov21") -> 51.55 | DE3: =MAXIFS('Daily closes'!$C$2:$C$3453,'Daily closes'!$E$2:$E$3453,"=dec21") -> 52.57 | DF3: =MAXIFS('Daily closes'!$C$2:$C$3453,'Daily closes'!$E$2:$E$3453,"=jan22") -> 55.91 | DG3: =MAXIFS('Daily closes'!$C$2:$C$3453,'Daily closes'!$E$2:$E$3453,"=feb22") -> 49.91 | DH3: =MAXIFS('Daily closes'!$C$2:$C$3453,'Daily closes'!$E$2:$E$3453,"=mar22") -> 52.25 | DI3: =MAXIFS('Daily closes'!$C$2:$C$3453,'Daily closes'!$E$2:$E$3453,"=apr22") -> 49.2 | DJ3: =MAXIFS('Daily closes'!$C$2:$C$3453,'Daily closes'!$E$2:$E$3453,"=may22") -> 46.54 | DK3: =MAXIFS('Daily closes'!$C$2:$C$3453,'Daily closes'!$E$2:$E$3453,"=jun22") -> 44.84 | DL3: =MAXIFS('Daily closes'!$C$2:$C$3453,'Daily closes'!$E$2:$E$3453,"=jul22") -> 40.61 | DM3: =MAXIFS('Daily closes'!$C$2:$C$3453,'Daily closes'!$E$2:$E$3453,"=aug22") -> 36.96 | DN3: =MAXIFS('Daily closes'!$C$2:$C$3453,'Daily closes'!$E$2:$E$3453,"=sep22") -> 31.76 | DO3: =MAXIFS('Daily closes'!$C$2:$C$3453,'Daily closes'!$E$2:$E$3453,"=oct22") -> 29.07 | DP3: =MAXIFS('Daily closes'!$C$2:$C$3453,'Daily closes'!$E$2:$E$3453,"=nov22") -> 30.71 | DQ3: =MAXIFS('Daily closes'!$C$2:$C$3453,'Daily closes'!$E$2:$E$3453,"=dec22") -> 29.83 | DR3: =MAXIFS('Daily closes'!$C$2:$C$3453,'Daily closes'!$E$2:$E$3453,"=jan23") -> 30.29 | DS3: =MAXIFS('Daily closes'!$C$2:$C$3453,'Daily closes'!$E$2:$E$3453,"=feb23") -> 30.32 | DT3: =MAXIFS('Daily closes'!$C$2:$C$3453,'Daily closes'!$E$2:$E$3453,"=mar23") -> 32.67 | DU3: =MAXIFS('Daily closes'!$C$2:$C$3453,'Daily closes'!$E$2:$E$3453,"=apr23") -> 33.1 | DV3: =MAXIFS('Daily closes'!$C$2:$C$3453,'Daily closes'!$E$2:$E$3453,"=may23") -> 31.44 | DW3: =MAXIFS('Daily closes'!$C$2:$C$3453,'Daily closes'!$E$2:$E$3453,"=jun23") -> 36.37 | DX3: =MAXIFS('Daily closes'!$C$2:$C$3453,'Daily closes'!$E$2:$E$3453,"=jul23") -> 36.83 | DY3: =MAXIFS('Daily closes'!$C$2:$C$3453,'Daily closes'!$E$2:$E$3453,"=aug23") -> 35.8 | DZ3: =MAXIFS('Daily closes'!$C$2:$C$3453,'Daily closes'!$E$2:$E$3453,"=sep23") -> 38.86 | EA3: =MAXIFS('Daily closes'!$C$2:$C$3453,'Daily closes'!$E$2:$E$3453,"=oct23") -> 36.88 | EB3: =MAXIFS('Daily closes'!$C$2:$C$3453,'Daily closes'!$E$2:$E$3453,"=nov23") -> 44.94 | EC3: =MAXIFS('Daily closes'!$C$2:$C$3453,'Daily closes'!$E$2:$E$3453,"=dec23") -> 50.76 | ED3: =MAXIFS('Daily closes'!$C$2:$C$3453,'Daily closes'!$E$2:$E$3453,"=jan24") -> 49.55 | EE3: =MAXIFS('Daily closes'!$C$2:$C$3453,'Daily closes'!$E$2:$E$3453,"=feb24") -> 44.52 | EF3: =MAXIFS('Daily closes'!$C$2:$C$3453,'Daily closes'!$E$2:$E$3453,"=mar24") -> 46.15 | EG3: =MAXIFS('Daily closes'!$C$2:$C$3453,'Daily closes'!$E$2:$E$3453,"=apr24") -> 44.52 | EH3: =MAXIFS('Daily closes'!$C$2:$C$3453,'Daily closes'!$E$2:$E$3453,"=may24") -> 32.1 | EI3: =MAXIFS('Daily closes'!$C$2:$C$3453,'Daily closes'!$E$2:$E$3453,"=jun24") -> 31.09 | EJ3: =MAXIFS('Daily closes'!$C$2:$C$3453,'Daily closes'!$E$2:$E$3453,"=jul24") -> 34.87 | EK3: =MAXIFS('Daily closes'!$C$2:$C$3453,'Daily closes'!$E$2:$E$3453,"=aug24") -> 29.05 | EL3: =MAXIFS('Daily closes'!$C$2:$C$3453,'Daily closes'!$E$2:$E$3453,"=sep24") -> 23.92 | EM3: =MAXIFS('Daily closes'!$C$2:$C$3453,'Daily closes'!$E$2:$E$3453,"=oct24") -> 23.56 | EN3: =MAXIFS('Daily closes'!$C$2:$C$3453,'Daily closes'!$E$2:$E$3453,"=nov24") -> 26.23 | EO3: =MAXIFS('Daily closes'!$C$2:$C$3453,'Daily closes'!$E$2:$E$3453,"=dec24") -> 23.93 | EP3: =MAXIFS('Daily closes'!$C$2:$C$3453,'Daily closes'!$E$2:$E$3453,"=jan25") -> 21.86 | EQ3: =MAXIFS('Daily closes'!$C$2:$C$3453,'Daily closes'!$E$2:$E$3453,"=feb25") -> 27.39 | ER3: =MAXIFS('Daily closes'!$C$2:$C$3453,'Daily closes'!$E$2:$E$3453,"=mar25") -> 25.92 | ES3: =MAXIFS('Daily closes'!$C$2:$C$3453,'Daily closes'!$E$2:$E$3453,"=apr25") -> 22.43 | ET3: =MAXIFS('Daily closes'!$C$2:$C$3453,'Daily closes'!$E$2:$E$3453,"=may25") -> 22.56 | EU3: =MAXIFS('Daily closes'!$C$2:$C$3453,'Daily closes'!$E$2:$E$3453,"=jun25") -> 22.69 | EV3: =MAXIFS('Daily closes'!$C$2:$C$3453,'Daily closes'!$E$2:$E$3453,"=jul25") -> 23.82 | EW3: =MAXIFS('Daily closes'!$C$2:$C$3453,'Daily closes'!$E$2:$E$3453,"=aug25") -> 25.31 | EX3: =MAXIFS('Daily closes'!$C$2:$C$3453,'Daily closes'!$E$2:$E$3453,"=sep25") -> 35.5 | EY3: =MAXIFS('Daily closes'!$C$2:$C$3453,'Daily closes'!$E$2:$E$3453,"=oct25") -> 41.53 | EZ3: =MAXIFS('Daily closes'!$C$2:$C$3453,'Daily closes'!$E$2:$E$3453,"=nov25") -> 40.56 | FA3: =MAXIFS('Daily closes'!$C$2:$C$3453,'Daily closes'!$E$2:$E$3453,"=dec25") -> 43.76 | FB3: =MAXIFS('Daily closes'!$C$2:$C$3453,'Daily closes'!$E$2:$E$3453,"=jan26") -> 54.32 | FC3: =MAXIFS('Daily closes'!$C$2:$C$3453,'Daily closes'!$E$2:$E$3453,"=feb26") -> 50.59 | FD3: =MAXIFS('Daily closes'!$C$2:$C$3453,'Daily closes'!$E$2:$E$3453,"=mar26") -> 47.98 | FE3: =MAXIFS('Daily closes'!$C$2:$C$3453,'Daily closes'!$E$2:$E$3453,"=apr26") -> 94.75 | FF3: =MAXIFS('Daily closes'!$C$2:$C$3453,'Daily closes'!$E$2:$E$3453,"=may26") -> 129.44 | FG3: =MAXIFS('Daily closes'!$C$2:$C$3453,'Daily closes'!$E$2:$E$3453,"=jun26") -> 140.94 | FH3: =MAXIFS('Daily closes'!$C$2:$C$3453,'Daily closes'!$E$2:$E$3453,"=jul26") -> 127.02 | FI3: =MAXIFS('Daily closes'!$C$2:$C$3453,'Daily closes'!$E$2:$E$3453,"=aug26") -> 104.56 | FJ3: =MAXIFS('Daily closes'!$C$2:$C$3453,'Daily closes'!$E$2:$E$3453,"=sep26") -> 123.86
