Workbook

Sheet FY2026 outlook
A1: FY2026 revenue: budget → outlook
A2: line | B2: FY outlook
A3: Revenue | B3: ='Year to date and full year, P&L'!E2 -> 77300427
A5: FY2026 EBITDA: budget → outlook
A6: line | B6: FY outlook
A7: EBITDA | B7: ='Year to date and full year, P&L'!E12 -> 12247963
A9: FY2026 EBITDA margin: budget → outlook
A10: line | B10: FY outlook
A11: EBITDA margin | B11: ='Year to date and full year, P&L'!E13 -> 0.15844625
A13: YTD revenue: budget → actual
A14: line | B14: YTD actual
A15: Revenue | B15: ='Year to date and full year, P&L'!B2 -> 50093798
A17: Year to date (January to August) and full year: outlook vs budget
A18: line | B18: YTD actual | C18: YTD budget | D18: YTD variance | E18: FY outlook | F18: FY budget | G18: FY variance | H18: FY variance %
A19: Revenue | B19: ='Year to date and full year, P&L'!B2 -> 50093798 | C19: ='Year to date and full year, P&L'!C2 -> 51108500 | D19: ='Year to date and full year, P&L'!D2 -> -1014702 | E19: ='Year to date and full year, P&L'!E2 -> 77300427 | F19: ='Year to date and full year, P&L'!F2 -> 81322000 | G19: ='Year to date and full year, P&L'!G2 -> -4021573.1 | H19: ='Year to date and full year, P&L'!H2 -> -0.049452462
A20: Cost of revenue | B20: ='Year to date and full year, P&L'!B3 -> -8497233 | C20: ='Year to date and full year, P&L'!C3 -> -8177300 | D20: ='Year to date and full year, P&L'!D3 -> -319933 | E20: ='Year to date and full year, P&L'!E3 -> -13095153 | F20: ='Year to date and full year, P&L'!F3 -> -13011400 | G20: ='Year to date and full year, P&L'!G3 -> -83753.278 | H20: ='Year to date and full year, P&L'!H3 -> -0.0064369152
A21: Gross profit | B21: ='Year to date and full year, P&L'!B4 -> 41596565 | C21: ='Year to date and full year, P&L'!C4 -> 42931200 | D21: ='Year to date and full year, P&L'!D4 -> -1334635 | E21: ='Year to date and full year, P&L'!E4 -> 64205274 | F21: ='Year to date and full year, P&L'!F4 -> 68310600 | G21: ='Year to date and full year, P&L'!G4 -> -4105326.4 | H21: ='Year to date and full year, P&L'!H4 -> -0.060097941
A22: Gross margin | B22: ='Year to date and full year, P&L'!B5 -> 0.83037355 | C22: ='Year to date and full year, P&L'!C5 -> 0.84000117 | D22: ='Year to date and full year, P&L'!D5 -> -0.0096276215 | E22: ='Year to date and full year, P&L'!E5 -> 0.83059404 | F22: ='Year to date and full year, P&L'!F5 -> 0.84000148 | G22: ='Year to date and full year, P&L'!G5 -> -0.0094074389 | H22: ='Year to date and full year, P&L'!H5
A23: Sales | B23: ='Year to date and full year, P&L'!B6 -> -7176944 | C23: ='Year to date and full year, P&L'!C6 -> -7238600 | D23: ='Year to date and full year, P&L'!D6 -> 61656 | E23: ='Year to date and full year, P&L'!E6 -> -11420640 | F23: ='Year to date and full year, P&L'!F6 -> -11550500 | G23: ='Year to date and full year, P&L'!G6 -> 129859.58 | H23: ='Year to date and full year, P&L'!H6 -> 0.011242767
A24: Marketing | B24: ='Year to date and full year, P&L'!B7 -> -6046043 | C24: ='Year to date and full year, P&L'!C7 -> -5997300 | D24: ='Year to date and full year, P&L'!D7 -> -48743 | E24: ='Year to date and full year, P&L'!E7 -> -9407009.1 | F24: ='Year to date and full year, P&L'!F7 -> -9519100 | G24: ='Year to date and full year, P&L'!G7 -> 112090.9 | H24: ='Year to date and full year, P&L'!H7 -> 0.011775367
A25: Engineering | B25: ='Year to date and full year, P&L'!B8 -> -14550616 | C25: ='Year to date and full year, P&L'!C8 -> -14196200 | D25: ='Year to date and full year, P&L'!D8 -> -354416 | E25: ='Year to date and full year, P&L'!E8 -> -23242687 | F25: ='Year to date and full year, P&L'!F8 -> -22713100 | G25: ='Year to date and full year, P&L'!G8 -> -529587.04 | H25: ='Year to date and full year, P&L'!H8 -> -0.02331637
A26: Customer success | B26: ='Year to date and full year, P&L'!B9 -> -1765931 | C26: ='Year to date and full year, P&L'!C9 -> -1739600 | D26: ='Year to date and full year, P&L'!D9 -> -26331 | E26: ='Year to date and full year, P&L'!E9 -> -2758987.5 | F26: ='Year to date and full year, P&L'!F9 -> -2729700 | G26: ='Year to date and full year, P&L'!G9 -> -29287.548 | H26: ='Year to date and full year, P&L'!H9 -> -0.010729219
A27: G&A | B27: ='Year to date and full year, P&L'!B10 -> -3321804 | C27: ='Year to date and full year, P&L'!C10 -> -3298300 | D27: ='Year to date and full year, P&L'!D10 -> -23504 | E27: ='Year to date and full year, P&L'!E10 -> -5127986.8 | F27: ='Year to date and full year, P&L'!F10 -> -5101500 | G27: ='Year to date and full year, P&L'!G10 -> -26486.841 | H27: ='Year to date and full year, P&L'!H10 -> -0.0051919712
A28: Total operating expenses | B28: ='Year to date and full year, P&L'!B11 -> -32861338 | C28: ='Year to date and full year, P&L'!C11 -> -32470000 | D28: ='Year to date and full year, P&L'!D11 -> -391338 | E28: ='Year to date and full year, P&L'!E11 -> -51957311 | F28: ='Year to date and full year, P&L'!F11 -> -51613900 | G28: ='Year to date and full year, P&L'!G11 -> -343410.95 | H28: ='Year to date and full year, P&L'!H11 -> -0.0066534586
A29: EBITDA | B29: ='Year to date and full year, P&L'!B12 -> 8735227 | C29: ='Year to date and full year, P&L'!C12 -> 10461200 | D29: ='Year to date and full year, P&L'!D12 -> -1725973 | E29: ='Year to date and full year, P&L'!E12 -> 12247963 | F29: ='Year to date and full year, P&L'!F12 -> 16696700 | G29: ='Year to date and full year, P&L'!G12 -> -4448737.4 | H29: ='Year to date and full year, P&L'!H12 -> -0.26644411
A30: EBITDA margin | B30: ='Year to date and full year, P&L'!B13 -> 0.17437741 | C30: ='Year to date and full year, P&L'!C13 -> 0.20468611 | D30: ='Year to date and full year, P&L'!D13 -> -0.030308694 | E30: ='Year to date and full year, P&L'!E13 -> 0.15844625 | F30: ='Year to date and full year, P&L'!F13 -> 0.2053159 | G30: ='Year to date and full year, P&L'!G13 -> -0.046869656 | H30: ='Year to date and full year, P&L'!H13
A31: Headcount (period end) | B31: ='Year to date and full year, P&L'!B14 -> 157 | C31: ='Year to date and full year, P&L'!C14 | D31: ='Year to date and full year, P&L'!D14 | E31: ='Year to date and full year, P&L'!E14 -> 181 | F31: ='Year to date and full year, P&L'!F14 | G31: ='Year to date and full year, P&L'!G14 | H31: ='Year to date and full year, P&L'!H14
A33: P&L by month: actuals through August, forecast from September
A34: line | B34: Jan-26 | C34: Feb-26 | D34: Mar-26 | E34: Apr-26 | F34: May-26 | G34: Jun-26 | H34: Jul-26 | I34: Aug-26 | J34: Sep-26 | K34: Oct-26 | L34: Nov-26 | M34: Dec-26
A35: Revenue | B35: ='P&L, company'!B2 -> 5805377 | C35: ='P&L, company'!C2 -> 5971791 | D35: ='P&L, company'!D2 -> 6163400 | E35: ='P&L, company'!E2 -> 6308539 | F35: ='P&L, company'!F2 -> 6303996 | G35: ='P&L, company'!G2 -> 6697760 | H35: ='P&L, company'!H2 -> 6355349 | I35: ='P&L, company'!I2 -> 6487586 | ... M35: ='P&L, company'!M2 -> 6994873.5
A36: Cost of revenue | B36: ='P&L, company'!B3 -> -986170 | C36: ='P&L, company'!C3 -> -952408 | D36: ='P&L, company'!D3 -> -1034787 | E36: ='P&L, company'!E3 -> -1087972 | F36: ='P&L, company'!F3 -> -1096306 | G36: ='P&L, company'!G3 -> -1135360 | H36: ='P&L, company'!H3 -> -1071020 | I36: ='P&L, company'!I3 -> -1133210 | ... M36: ='P&L, company'!M3 -> -1182133.6
A37: Gross profit | B37: ='P&L, company'!B4 -> 4819207 | C37: ='P&L, company'!C4 -> 5019383 | D37: ='P&L, company'!D4 -> 5128613 | E37: ='P&L, company'!E4 -> 5220567 | F37: ='P&L, company'!F4 -> 5207690 | G37: ='P&L, company'!G4 -> 5562400 | H37: ='P&L, company'!H4 -> 5284329 | I37: ='P&L, company'!I4 -> 5354376 | ... M37: ='P&L, company'!M4 -> 5812739.9
A38: Gross margin | B38: ='P&L, company'!B5 -> 0.83012817 | C38: ='P&L, company'!C5 -> 0.84051552 | D38: ='P&L, company'!D5 -> 0.83210777 | E38: ='P&L, company'!E5 -> 0.82753978 | F38: ='P&L, company'!F5 -> 0.82609348 | G38: ='P&L, company'!G5 -> 0.83048661 | H38: ='P&L, company'!H5 -> 0.83147739 | I38: ='P&L, company'!I5 -> 0.8253264 | ... M38: ='P&L, company'!M5 -> 0.831
A39: Sales | B39: ='P&L, company'!B6 -> -849341 | C39: ='P&L, company'!C6 -> -867858 | D39: ='P&L, company'!D6 -> -863615 | E39: ='P&L, company'!E6 -> -886420 | F39: ='P&L, company'!F6 -> -936465 | G39: ='P&L, company'!G6 -> -929182 | H39: ='P&L, company'!H6 -> -923299 | I39: ='P&L, company'!I6 -> -920764 | ... M39: ='P&L, company'!M6 -> -1087331.7
A40: Marketing | B40: ='P&L, company'!B7 -> -683393 | C40: ='P&L, company'!C7 -> -705740 | D40: ='P&L, company'!D7 -> -788776 | E40: ='P&L, company'!E7 -> -747374 | F40: ='P&L, company'!F7 -> -783071 | G40: ='P&L, company'!G7 -> -786388 | H40: ='P&L, company'!H7 -> -783573 | I40: ='P&L, company'!I7 -> -767728 | ... M40: ='P&L, company'!M7 -> -860152.44
A41: Engineering | B41: ='P&L, company'!B8 -> -1600623 | C41: ='P&L, company'!C8 -> -1720715 | D41: ='P&L, company'!D8 -> -1799591 | E41: ='P&L, company'!E8 -> -1815438 | F41: ='P&L, company'!F8 -> -1777277 | G41: ='P&L, company'!G8 -> -1978006 | H41: ='P&L, company'!H8 -> -1935577 | I41: ='P&L, company'!I8 -> -1923389 | ... M41: ='P&L, company'!M8 -> -2228332.4
A42: Customer success | B42: ='P&L, company'!B9 -> -183354 | C42: ='P&L, company'!C9 -> -216793 | D42: ='P&L, company'!D9 -> -212232 | E42: ='P&L, company'!E9 -> -214549 | F42: ='P&L, company'!F9 -> -225075 | G42: ='P&L, company'!G9 -> -229633 | H42: ='P&L, company'!H9 -> -234078 | I42: ='P&L, company'!I9 -> -250217 | ... M42: ='P&L, company'!M9 -> -251189.49
A43: G&A | B43: ='P&L, company'!B10 -> -387726 | C43: ='P&L, company'!C10 -> -409294 | D43: ='P&L, company'!D10 -> -403582 | E43: ='P&L, company'!E10 -> -422121 | F43: ='P&L, company'!F10 -> -420311 | G43: ='P&L, company'!G10 -> -420183 | H43: ='P&L, company'!H10 -> -439279 | I43: ='P&L, company'!I10 -> -419308 | ... M43: ='P&L, company'!M10 -> -453386.14
A44: Total operating expenses | B44: ='P&L, company'!B11 -> -3704437 | C44: ='P&L, company'!C11 -> -3920400 | D44: ='P&L, company'!D11 -> -4067796 | E44: ='P&L, company'!E11 -> -4085902 | F44: ='P&L, company'!F11 -> -4142199 | G44: ='P&L, company'!G11 -> -4343392 | H44: ='P&L, company'!H11 -> -4315806 | I44: ='P&L, company'!I11 -> -4281406 | ... M44: ='P&L, company'!M11 -> -4880392.2
A45: EBITDA | B45: ='P&L, company'!B12 -> 1114770 | C45: ='P&L, company'!C12 -> 1098983 | D45: ='P&L, company'!D12 -> 1060817 | E45: ='P&L, company'!E12 -> 1134665 | F45: ='P&L, company'!F12 -> 1065491 | G45: ='P&L, company'!G12 -> 1219008 | H45: ='P&L, company'!H12 -> 968523 | I45: ='P&L, company'!I12 -> 1072970 | ... M45: ='P&L, company'!M12 -> 932347.64
...

Sheet Departments and headcount
A1: Department spend: year to date and full year, outlook vs budget
A2: subsidiary | B2: department | C2: YTD actual | D2: YTD budget | E2: YTD variance | F2: FY outlook | G2: FY budget | H2: FY variance | I2: FY variance %
A3: United States | B3: Sales | C3: ='Year to date and full year, by '!D159 -> -5295380 | D3: ='Year to date and full year, by '!E159 -> -5295300 | E3: ='Year to date and full year, by '!F159 -> -80 | F3: ='Year to date and full year, by '!G159 -> -8387819.1 | G3: ='Year to date and full year, by '!H159 -> -8444400 | H3: ='Year to date and full year, by '!I159 -> 56580.869 | I3: ='Year to date and full year, by '!J159 -> 0.0067004013
B4: Marketing | C4: ='Year to date and full year, by '!D160 -> -4228473 | D4: ='Year to date and full year, by '!E160 -> -4219400 | E4: ='Year to date and full year, by '!F160 -> -9073 | F4: ='Year to date and full year, by '!G160 -> -6577552.5 | G4: ='Year to date and full year, by '!H160 -> -6693000 | H4: ='Year to date and full year, by '!I160 -> 115447.48 | I4: ='Year to date and full year, by '!J160 -> 0.017248989
B5: Engineering | C5: ='Year to date and full year, by '!D161 -> -10444615 | D5: ='Year to date and full year, by '!E161 -> -10173900 | E5: ='Year to date and full year, by '!F161 -> -270715 | F5: ='Year to date and full year, by '!G161 -> -16601305 | G5: ='Year to date and full year, by '!H161 -> -16214600 | H5: ='Year to date and full year, by '!I161 -> -386704.76 | I5: ='Year to date and full year, by '!J161 -> -0.023849171
B6: Customer success | C6: ='Year to date and full year, by '!D162 -> -1305948 | D6: ='Year to date and full year, by '!E162 -> -1286900 | E6: ='Year to date and full year, by '!F162 -> -19048 | F6: ='Year to date and full year, by '!G162 -> -2050949.9 | G6: ='Year to date and full year, by '!H162 -> -2031500 | H6: ='Year to date and full year, by '!I162 -> -19449.865 | I6: ='Year to date and full year, by '!J162 -> -0.00957414
B7: G&A | C7: ='Year to date and full year, by '!D163 -> -2423375 | D7: ='Year to date and full year, by '!E163 -> -2413200 | E7: ='Year to date and full year, by '!F163 -> -10175 | F7: ='Year to date and full year, by '!G163 -> -3747097 | G7: ='Year to date and full year, by '!H163 -> -3716700 | H7: ='Year to date and full year, by '!I163 -> -30397.021 | I7: ='Year to date and full year, by '!J163 -> -0.0081784973
A8: United Kingdom | B8: Sales | C8: ='Year to date and full year, by '!D165 -> -1881564 | D8: ='Year to date and full year, by '!E165 -> -1943300 | E8: ='Year to date and full year, by '!F165 -> 61736 | F8: ='Year to date and full year, by '!G165 -> -3032821.3 | G8: ='Year to date and full year, by '!H165 -> -3106100 | H8: ='Year to date and full year, by '!I165 -> 73278.713 | I8: ='Year to date and full year, by '!J165 -> 0.023591872
B9: Marketing | C9: ='Year to date and full year, by '!D166 -> -1817570 | D9: ='Year to date and full year, by '!E166 -> -1777900 | E9: ='Year to date and full year, by '!F166 -> -39670 | F9: ='Year to date and full year, by '!G166 -> -2829456.6 | G9: ='Year to date and full year, by '!H166 -> -2826100 | H9: ='Year to date and full year, by '!I166 -> -3356.5861 | I9: ='Year to date and full year, by '!J166 -> -0.0011877096
B10: Engineering | C10: ='Year to date and full year, by '!D167 -> -4106001 | D10: ='Year to date and full year, by '!E167 -> -4022300 | E10: ='Year to date and full year, by '!F167 -> -83701 | F10: ='Year to date and full year, by '!G167 -> -6641382.3 | G10: ='Year to date and full year, by '!H167 -> -6498500 | H10: ='Year to date and full year, by '!I167 -> -142882.27 | I10: ='Year to date and full year, by '!J167 -> -0.021986962
B11: Customer success | C11: ='Year to date and full year, by '!D168 -> -459983 | D11: ='Year to date and full year, by '!E168 -> -452700 | E11: ='Year to date and full year, by '!F168 -> -7283 | F11: ='Year to date and full year, by '!G168 -> -708037.68 | G11: ='Year to date and full year, by '!H168 -> -698200 | H11: ='Year to date and full year, by '!I168 -> -9837.6828 | I11: ='Year to date and full year, by '!J168 -> -0.014090064
B12: G&A | C12: ='Year to date and full year, by '!D169 -> -898429 | D12: ='Year to date and full year, by '!E169 -> -885100 | E12: ='Year to date and full year, by '!F169 -> -13329 | F12: ='Year to date and full year, by '!G169 -> -1380889.8 | G12: ='Year to date and full year, by '!H169 -> -1384800 | H12: ='Year to date and full year, by '!I169 -> 3910.1801 | I12: ='Year to date and full year, by '!J169 -> 0.0028236425
A14: US departments by account: outlook vs budget
A15: department | B15: line | C15: YTD actual | D15: YTD budget | E15: YTD variance | F15: FY outlook | G15: FY budget | H15: FY variance | I15: FY variance %
A16: Sales | B16: Revenue | C16: ='Year to date and full year, by '!D3 -> 0 | D16: ='Year to date and full year, by '!E3 -> 0 | E16: ='Year to date and full year, by '!F3 -> 0 | F16: ='Year to date and full year, by '!G3 -> 0 | G16: ='Year to date and full year, by '!H3 -> 0 | H16: ='Year to date and full year, by '!I3 -> 0 | I16: ='Year to date and full year, by '!J3
B17: Cost of revenue: hosting | C17: ='Year to date and full year, by '!D15 -> 0 | D17: ='Year to date and full year, by '!E15 -> 0 | E17: ='Year to date and full year, by '!F15 -> 0 | F17: ='Year to date and full year, by '!G15 -> 0 | G17: ='Year to date and full year, by '!H15 -> 0 | H17: ='Year to date and full year, by '!I15 -> 0 | I17: ='Year to date and full year, by '!J15
B18: Cost of revenue: support | C18: ='Year to date and full year, by '!D27 -> 0 | D18: ='Year to date and full year, by '!E27 -> 0 | E18: ='Year to date and full year, by '!F27 -> 0 | F18: ='Year to date and full year, by '!G27 -> 0 | G18: ='Year to date and full year, by '!H27 -> 0 | H18: ='Year to date and full year, by '!I27 -> 0 | I18: ='Year to date and full year, by '!J27
B19: Salaries | C19: ='Year to date and full year, by '!D39 -> -2709304 | D19: ='Year to date and full year, by '!E39 -> -2722500 | E19: ='Year to date and full year, by '!F39 -> 13196 | F19: ='Year to date and full year, by '!G39 -> -4359304 | G19: ='Year to date and full year, by '!H39 -> -4372500 | H19: ='Year to date and full year, by '!I39 -> 13196 | I19: ='Year to date and full year, by '!J39 -> 0.0030179531
B20: Benefits and payroll taxes | C20: ='Year to date and full year, by '!D51 -> -553831 | D20: ='Year to date and full year, by '!E51 -> -571800 | E20: ='Year to date and full year, by '!F51 -> 17969 | F20: ='Year to date and full year, by '!G51 -> -906931 | G20: ='Year to date and full year, by '!H51 -> -918200 | H20: ='Year to date and full year, by '!I51 -> 11269 | I20: ='Year to date and full year, by '!J51 -> 0.012272925
B21: Commissions | C21: ='Year to date and full year, by '!D63 -> -1644744 | D21: ='Year to date and full year, by '!E63 -> -1619600 | E21: ='Year to date and full year, by '!F63 -> -25144 | F21: ='Year to date and full year, by '!G63 -> -2540379.5 | G21: ='Year to date and full year, by '!H63 -> -2577100 | H21: ='Year to date and full year, by '!I63 -> 36720.455 | I21: ='Year to date and full year, by '!J63 -> 0.01424875
B22: Contractors | C22: ='Year to date and full year, by '!D75 -> 0 | D22: ='Year to date and full year, by '!E75 -> 0 | E22: ='Year to date and full year, by '!F75 -> 0 | F22: ='Year to date and full year, by '!G75 -> 0 | G22: ='Year to date and full year, by '!H75 -> 0 | H22: ='Year to date and full year, by '!I75 -> 0 | I22: ='Year to date and full year, by '!J75
B23: Cloud and infrastructure | C23: ='Year to date and full year, by '!D87 -> 0 | D23: ='Year to date and full year, by '!E87 -> 0 | E23: ='Year to date and full year, by '!F87 -> 0 | F23: ='Year to date and full year, by '!G87 -> 0 | G23: ='Year to date and full year, by '!H87 -> 0 | H23: ='Year to date and full year, by '!I87 -> 0 | I23: ='Year to date and full year, by '!J87
B24: Marketing programs | C24: ='Year to date and full year, by '!D99 -> 0 | D24: ='Year to date and full year, by '!E99 -> 0 | E24: ='Year to date and full year, by '!F99 -> 0 | F24: ='Year to date and full year, by '!G99 -> 0 | G24: ='Year to date and full year, by '!H99 -> 0 | H24: ='Year to date and full year, by '!I99 -> 0 | I24: ='Year to date and full year, by '!J99
B25: Software and tools | C25: ='Year to date and full year, by '!D111 -> -74243 | D25: ='Year to date and full year, by '!E111 -> -73000 | E25: ='Year to date and full year, by '!F111 -> -1243 | F25: ='Year to date and full year, by '!G111 -> -111163.86 | G25: ='Year to date and full year, by '!H111 -> -110400 | H25: ='Year to date and full year, by '!I111 -> -763.86331 | I25: ='Year to date and full year, by '!J111 -> -0.0069190517
B26: Travel and events | C26: ='Year to date and full year, by '!D123 -> -313258 | D26: ='Year to date and full year, by '!E123 -> -308400 | E26: ='Year to date and full year, by '!F123 -> -4858 | F26: ='Year to date and full year, by '!G123 -> -470040.72 | G26: ='Year to date and full year, by '!H123 -> -466200 | H26: ='Year to date and full year, by '!I123 -> -3840.7224 | I26: ='Year to date and full year, by '!J123 -> -0.0082383579
B27: Rent and facilities | C27: ='Year to date and full year, by '!D135 -> 0 | D27: ='Year to date and full year, by '!E135 -> 0 | E27: ='Year to date and full year, by '!F135 -> 0 | F27: ='Year to date and full year, by '!G135 -> 0 | G27: ='Year to date and full year, by '!H135 -> 0 | H27: ='Year to date and full year, by '!I135 -> 0 | I27: ='Year to date and full year, by '!J135
B28: Professional fees | C28: ='Year to date and full year, by '!D147 -> 0 | D28: ='Year to date and full year, by '!E147 -> 0 | E28: ='Year to date and full year, by '!F147 -> 0 | F28: ='Year to date and full year, by '!G147 -> 0 | G28: ='Year to date and full year, by '!H147 -> 0 | H28: ='Year to date and full year, by '!I147 -> 0 | I28: ='Year to date and full year, by '!J147
B29: Net | C29: ='Year to date and full year, by '!D159 -> -5295380 | D29: ='Year to date and full year, by '!E159 -> -5295300 | E29: ='Year to date and full year, by '!F159 -> -80 | F29: ='Year to date and full year, by '!G159 -> -8387819.1 | G29: ='Year to date and full year, by '!H159 -> -8444400 | H29: ='Year to date and full year, by '!I159 -> 56580.869 | I29: ='Year to date and full year, by '!J159 -> 0.0067004013
A30: Marketing | B30: Revenue | C30: ='Year to date and full year, by '!D4 -> 0 | D30: ='Year to date and full year, by '!E4 -> 0 | E30: ='Year to date and full year, by '!F4 -> 0 | F30: ='Year to date and full year, by '!G4 -> 0 | G30: ='Year to date and full year, by '!H4 -> 0 | H30: ='Year to date and full year, by '!I4 -> 0 | I30: ='Year to date and full year, by '!J4
B31: Cost of revenue: hosting | C31: ='Year to date and full year, by '!D16 -> 0 | D31: ='Year to date and full year, by '!E16 -> 0 | E31: ='Year to date and full year, by '!F16 -> 0 | F31: ='Year to date and full year, by '!G16 -> 0 | G31: ='Year to date and full year, by '!H16 -> 0 | H31: ='Year to date and full year, by '!I16 -> 0 | I31: ='Year to date and full year, by '!J16
B32: Cost of revenue: support | C32: ='Year to date and full year, by '!D28 -> 0 | D32: ='Year to date and full year, by '!E28 -> 0 | E32: ='Year to date and full year, by '!F28 -> 0 | F32: ='Year to date and full year, by '!G28 -> 0 | G32: ='Year to date and full year, by '!H28 -> 0 | H32: ='Year to date and full year, by '!I28 -> 0 | I32: ='Year to date and full year, by '!J28
B33: Salaries | C33: ='Year to date and full year, by '!D40 -> -905854 | D33: ='Year to date and full year, by '!E40 -> -933400 | E33: ='Year to date and full year, by '!F40 -> 27546 | F33: ='Year to date and full year, by '!G40 -> -1454187.3 | G33: ='Year to date and full year, by '!H40 -> -1481700 | H33: ='Year to date and full year, by '!I40 -> 27512.667 | I33: ='Year to date and full year, by '!J40 -> 0.018568311
B34: Benefits and payroll taxes | C34: ='Year to date and full year, by '!D52 -> -201537 | D34: ='Year to date and full year, by '!E52 -> -195800 | E34: ='Year to date and full year, by '!F52 -> -5737 | F34: ='Year to date and full year, by '!G52 -> -318880.33 | G34: ='Year to date and full year, by '!H52 -> -310900 | H34: ='Year to date and full year, by '!I52 -> -7980.3333 | I34: ='Year to date and full year, by '!J52 -> -0.025668489
B35: Commissions | C35: ='Year to date and full year, by '!D64 -> 0 | D35: ='Year to date and full year, by '!E64 -> 0 | E35: ='Year to date and full year, by '!F64 -> 0 | F35: ='Year to date and full year, by '!G64 -> 0 | G35: ='Year to date and full year, by '!H64 -> 0 | H35: ='Year to date and full year, by '!I64 -> 0 | I35: ='Year to date and full year, by '!J64
B36: Contractors | C36: ='Year to date and full year, by '!D76 -> 0 | D36: ='Year to date and full year, by '!E76 -> 0 | E36: ='Year to date and full year, by '!F76 -> 0 | F36: ='Year to date and full year, by '!G76 -> 0 | G36: ='Year to date and full year, by '!H76 -> 0 | H36: ='Year to date and full year, by '!I76 -> 0 | I36: ='Year to date and full year, by '!J76
B37: Cloud and infrastructure | C37: ='Year to date and full year, by '!D88 -> 0 | D37: ='Year to date and full year, by '!E88 -> 0 | E37: ='Year to date and full year, by '!F88 -> 0 | F37: ='Year to date and full year, by '!G88 -> 0 | G37: ='Year to date and full year, by '!H88 -> 0 | H37: ='Year to date and full year, by '!I88 -> 0 | I37: ='Year to date and full year, by '!J88
B38: Marketing programs | C38: ='Year to date and full year, by '!D100 -> -2912888 | D38: ='Year to date and full year, by '!E100 -> -2879400 | E38: ='Year to date and full year, by '!F100 -> -33488 | F38: ='Year to date and full year, by '!G100 -> -4494542.3 | G38: ='Year to date and full year, by '!H100 -> -4581600 | H38: ='Year to date and full year, by '!I100 -> 87057.739 | I38: ='Year to date and full year, by '!J100 -> 0.019001602
B39: Software and tools | C39: ='Year to date and full year, by '!D112 -> -111750 | D39: ='Year to date and full year, by '!E112 -> -113600 | E39: ='Year to date and full year, by '!F112 -> 1850 | F39: ='Year to date and full year, by '!G112 -> -165764.98 | G39: ='Year to date and full year, by '!H112 -> -171800 | H39: ='Year to date and full year, by '!I112 -> 6035.0165 | I39: ='Year to date and full year, by '!J112 -> 0.035128152
B40: Travel and events | C40: ='Year to date and full year, by '!D124 -> -96444 | D40: ='Year to date and full year, by '!E124 -> -97200 | E40: ='Year to date and full year, by '!F124 -> 756 | F40: ='Year to date and full year, by '!G124 -> -144177.6 | G40: ='Year to date and full year, by '!H124 -> -147000 | H40: ='Year to date and full year, by '!I124 -> 2822.3951 | I40: ='Year to date and full year, by '!J124 -> 0.019199967
B41: Rent and facilities | C41: ='Year to date and full year, by '!D136 -> 0 | D41: ='Year to date and full year, by '!E136 -> 0 | E41: ='Year to date and full year, by '!F136 -> 0 | F41: ='Year to date and full year, by '!G136 -> 0 | G41: ='Year to date and full year, by '!H136 -> 0 | H41: ='Year to date and full year, by '!I136 -> 0 | I41: ='Year to date and full year, by '!J136
...

Sheet Drivers, budget and ledger
A1: Forecast drivers, September to December (edit any cell) | B1: Inputs: edit the blue cells on the 'Forecast drivers' sheet; this table follows them.
A2: line | B2: Sep-26 | C2: Oct-26 | D2: Nov-26 | E2: Dec-26
A3: Revenue growth per month | B3: ='Forecast drivers'!J2 -> 0.019 | C3: ='Forecast drivers'!K2 -> 0.019 | D3: ='Forecast drivers'!L2 -> 0.019 | E3: ='Forecast drivers'!M2 -> 0.019
A4: Hosting cost, % of revenue | B4: ='Forecast drivers'!J3 -> 0.118 | C4: ='Forecast drivers'!K3 -> 0.118 | D4: ='Forecast drivers'!L3 -> 0.118 | E4: ='Forecast drivers'!M3 -> 0.118
A5: Support cost, % of revenue | B5: ='Forecast drivers'!J4 -> 0.051 | C5: ='Forecast drivers'!K4 -> 0.051 | D5: ='Forecast drivers'!L4 -> 0.051 | E5: ='Forecast drivers'!M4 -> 0.051
A6: Benefits, % of salaries | B6: ='Forecast drivers'!J5 -> 0.214 | C6: ='Forecast drivers'!K5 -> 0.214 | D6: ='Forecast drivers'!L5 -> 0.214 | E6: ='Forecast drivers'!M5 -> 0.214
A7: Commissions, % of revenue | B7: ='Forecast drivers'!J6 -> 0.047 | C7: ='Forecast drivers'!K6 -> 0.047 | D7: ='Forecast drivers'!L6 -> 0.047 | E7: ='Forecast drivers'!M6 -> 0.047
A8: Marketing programs, % of revenue | B8: ='Forecast drivers'!J7 -> 0.083 | C8: ='Forecast drivers'!K7 -> 0.083 | D8: ='Forecast drivers'!L7 -> 0.083 | E8: ='Forecast drivers'!M7 -> 0.083
A9: Cloud, % of revenue | B9: ='Forecast drivers'!J8 -> 0.089 | C9: ='Forecast drivers'!K8 -> 0.089 | D9: ='Forecast drivers'!L8 -> 0.089 | E9: ='Forecast drivers'!M8 -> 0.089
A10: Other opex growth per month | B10: ='Forecast drivers'!J9 -> 0.006 | C10: ='Forecast drivers'!K9 -> 0.006 | D10: ='Forecast drivers'!L9 -> 0.006 | E10: ='Forecast drivers'!M9 -> 0.006
A12: Loaded cost per head, annual (edit any cell) | B12: Inputs: edit the blue cells on the 'Headcount plan' sheet; this table follows them.
A13: subsidiary | B13: department | C13: Sep-26 | D13: Oct-26 | E13: Nov-26 | F13: Dec-26
A14: United States | B14: Sales | C14: ='Headcount plan'!L15 -> 165000 | D14: ='Headcount plan'!M15 -> 165000 | E14: ='Headcount plan'!N15 -> 165000 | F14: ='Headcount plan'!O15 -> 165000
B15: Marketing | C15: ='Headcount plan'!L16 -> 140000 | D15: ='Headcount plan'!M16 -> 140000 | E15: ='Headcount plan'!N16 -> 140000 | F15: ='Headcount plan'!O16 -> 140000
B16: Engineering | C16: ='Headcount plan'!L17 -> 190000 | D16: ='Headcount plan'!M17 -> 190000 | E16: ='Headcount plan'!N17 -> 190000 | F16: ='Headcount plan'!O17 -> 190000
B17: Customer success | C17: ='Headcount plan'!L18 -> 110000 | D17: ='Headcount plan'!M18 -> 110000 | E17: ='Headcount plan'!N18 -> 110000 | F17: ='Headcount plan'!O18 -> 110000
B18: G&A | C18: ='Headcount plan'!L19 -> 150000 | D18: ='Headcount plan'!M19 -> 150000 | E18: ='Headcount plan'!N19 -> 150000 | F18: ='Headcount plan'!O19 -> 150000
A19: United Kingdom | B19: Sales | C19: ='Headcount plan'!L21 -> 140000 | D19: ='Headcount plan'!M21 -> 140000 | E19: ='Headcount plan'!N21 -> 140000 | F19: ='Headcount plan'!O21 -> 140000
B20: Marketing | C20: ='Headcount plan'!L22 -> 119000 | D20: ='Headcount plan'!M22 -> 119000 | E20: ='Headcount plan'!N22 -> 119000 | F20: ='Headcount plan'!O22 -> 119000
B21: Engineering | C21: ='Headcount plan'!L23 -> 162000 | D21: ='Headcount plan'!M23 -> 162000 | E21: ='Headcount plan'!N23 -> 162000 | F21: ='Headcount plan'!O23 -> 162000
B22: Customer success | C22: ='Headcount plan'!L24 -> 94000 | D22: ='Headcount plan'!M24 -> 94000 | E22: ='Headcount plan'!N24 -> 94000 | F22: ='Headcount plan'!O24 -> 94000
B23: G&A | C23: ='Headcount plan'!L25 -> 128000 | D23: ='Headcount plan'!M25 -> 128000 | E23: ='Headcount plan'!N25 -> 128000 | F23: ='Headcount plan'!O25 -> 128000
A25: Outlook by account: last three actual months and the first two forecast months
A26: subsidiary | B26: department | C26: line | D26: Jun-26 | E26: Jul-26 | F26: Aug-26 | G26: Sep-26 | H26: Oct-26
A27: United States | B27: Company (revenue and cost of revenue) | C27: Revenue | D27: ='Outlook actuals from the ledger'!I2 -> 4725798 | E27: ='Outlook actuals from the ledger'!J2 -> 4406956 | F27: ='Outlook actuals from the ledger'!K2 -> 4544037 | G27: ='Outlook actuals from the ledger'!L2 -> 4630373.7 | H27: ='Outlook actuals from the ledger'!M2 -> 4718350.8
C28: Cost of revenue: hosting | D28: ='Outlook actuals from the ledger'!I14 -> -565452 | E28: ='Outlook actuals from the ledger'!J14 -> -519886 | F28: ='Outlook actuals from the ledger'!K14 -> -545435 | G28: ='Outlook actuals from the ledger'!L14 -> -546384.1 | H28: ='Outlook actuals from the ledger'!M14 -> -556765.39
C29: Cost of revenue: support | D29: ='Outlook actuals from the ledger'!I26 -> -231642 | E29: ='Outlook actuals from the ledger'!J26 -> -231061 | F29: ='Outlook actuals from the ledger'!K26 -> -242311 | G29: ='Outlook actuals from the ledger'!L26 -> -236149.06 | H29: ='Outlook actuals from the ledger'!M26 -> -240635.89
C30: Salaries | D30: ='Outlook actuals from the ledger'!I38 -> 0 | E30: ='Outlook actuals from the ledger'!J38 -> 0 | F30: ='Outlook actuals from the ledger'!K38 -> 0 | G30: ='Outlook actuals from the ledger'!L38 -> 0 | H30: ='Outlook actuals from the ledger'!M38 -> 0
C31: Benefits and payroll taxes | D31: ='Outlook actuals from the ledger'!I50 -> 0 | E31: ='Outlook actuals from the ledger'!J50 -> 0 | F31: ='Outlook actuals from the ledger'!K50 -> 0 | G31: ='Outlook actuals from the ledger'!L50 -> 0 | H31: ='Outlook actuals from the ledger'!M50 -> 0
C32: Commissions | D32: ='Outlook actuals from the ledger'!I62 -> 0 | E32: ='Outlook actuals from the ledger'!J62 -> 0 | F32: ='Outlook actuals from the ledger'!K62 -> 0 | G32: ='Outlook actuals from the ledger'!L62 -> 0 | H32: ='Outlook actuals from the ledger'!M62 -> 0
C33: Contractors | D33: ='Outlook actuals from the ledger'!I74 -> 0 | E33: ='Outlook actuals from the ledger'!J74 -> 0 | F33: ='Outlook actuals from the ledger'!K74 -> 0 | G33: ='Outlook actuals from the ledger'!L74 -> 0 | H33: ='Outlook actuals from the ledger'!M74 -> 0
C34: Cloud and infrastructure | D34: ='Outlook actuals from the ledger'!I86 -> 0 | E34: ='Outlook actuals from the ledger'!J86 -> 0 | F34: ='Outlook actuals from the ledger'!K86 -> 0 | G34: ='Outlook actuals from the ledger'!L86 -> 0 | H34: ='Outlook actuals from the ledger'!M86 -> 0
C35: Marketing programs | D35: ='Outlook actuals from the ledger'!I98 -> 0 | E35: ='Outlook actuals from the ledger'!J98 -> 0 | F35: ='Outlook actuals from the ledger'!K98 -> 0 | G35: ='Outlook actuals from the ledger'!L98 -> 0 | H35: ='Outlook actuals from the ledger'!M98 -> 0
C36: Software and tools | D36: ='Outlook actuals from the ledger'!I110 -> 0 | E36: ='Outlook actuals from the ledger'!J110 -> 0 | F36: ='Outlook actuals from the ledger'!K110 -> 0 | G36: ='Outlook actuals from the ledger'!L110 -> 0 | H36: ='Outlook actuals from the ledger'!M110 -> 0
C37: Travel and events | D37: ='Outlook actuals from the ledger'!I122 -> 0 | E37: ='Outlook actuals from the ledger'!J122 -> 0 | F37: ='Outlook actuals from the ledger'!K122 -> 0 | G37: ='Outlook actuals from the ledger'!L122 -> 0 | H37: ='Outlook actuals from the ledger'!M122 -> 0
C38: Rent and facilities | D38: ='Outlook actuals from the ledger'!I134 -> 0 | E38: ='Outlook actuals from the ledger'!J134 -> 0 | F38: ='Outlook actuals from the ledger'!K134 -> 0 | G38: ='Outlook actuals from the ledger'!L134 -> 0 | H38: ='Outlook actuals from the ledger'!M134 -> 0
C39: Professional fees | D39: ='Outlook actuals from the ledger'!I146 -> 0 | E39: ='Outlook actuals from the ledger'!J146 -> 0 | F39: ='Outlook actuals from the ledger'!K146 -> 0 | G39: ='Outlook actuals from the ledger'!L146 -> 0 | H39: ='Outlook actuals from the ledger'!M146 -> 0
C40: Net | D40: ='Outlook actuals from the ledger'!I158 -> 3928704 | E40: ='Outlook actuals from the ledger'!J158 -> 3656009 | F40: ='Outlook actuals from the ledger'!K158 -> 3756291 | G40: ='Outlook actuals from the ledger'!L158 -> 3847840.5 | H40: ='Outlook actuals from the ledger'!M158 -> 3920949.5
B41: Sales | C41: Revenue | D41: ='Outlook actuals from the ledger'!I3 -> 0 | E41: ='Outlook actuals from the ledger'!J3 -> 0 | F41: ='Outlook actuals from the ledger'!K3 -> 0 | G41: ='Outlook actuals from the ledger'!L3 -> 0 | H41: ='Outlook actuals from the ledger'!M3 -> 0
C42: Cost of revenue: hosting | D42: ='Outlook actuals from the ledger'!I15 -> 0 | E42: ='Outlook actuals from the ledger'!J15 -> 0 | F42: ='Outlook actuals from the ledger'!K15 -> 0 | G42: ='Outlook actuals from the ledger'!L15 -> 0 | H42: ='Outlook actuals from the ledger'!M15 -> 0
...

Sheet Forecast drivers
A1: line | B1: Jan-26 | C1: Feb-26 | D1: Mar-26 | E1: Apr-26 | F1: May-26 | G1: Jun-26 | H1: Jul-26 | I1: Aug-26 | J1: Sep-26 | K1: Oct-26 | L1: Nov-26 | M1: Dec-26
A2: Revenue growth per month | J2: 0.019 | K2: 0.019 | L2: 0.019 | M2: 0.019
A3: Hosting cost, % of revenue | J3: 0.118 | K3: 0.118 | L3: 0.118 | M3: 0.118
A4: Support cost, % of revenue | J4: 0.051 | K4: 0.051 | L4: 0.051 | M4: 0.051
A5: Benefits, % of salaries | J5: 0.214 | K5: 0.214 | L5: 0.214 | M5: 0.214
A6: Commissions, % of revenue | J6: 0.047 | K6: 0.047 | L6: 0.047 | M6: 0.047
A7: Marketing programs, % of revenue | J7: 0.083 | K7: 0.083 | L7: 0.083 | M7: 0.083
A8: Cloud, % of revenue | J8: 0.089 | K8: 0.089 | L8: 0.089 | M8: 0.089
A9: Other opex growth per month | J9: 0.006 | K9: 0.006 | L9: 0.006 | M9: 0.006

Sheet Headcount plan
A1: line | B1: subsidiary | C1: department | D1: Jan-26 | E1: Feb-26 | F1: Mar-26 | G1: Apr-26 | H1: May-26 | I1: Jun-26 | J1: Jul-26 | K1: Aug-26 | L1: Sep-26 | M1: Oct-26 | N1: Nov-26 | O1: Dec-26
A2: Heads (period end) | B2: United States | C2: Company (revenue and cost of revenue)
A3: Heads (period end) | B3: United States | C3: Sales | D3: 22 | E3: 23 | F3: 23 | G3: 24 | H3: 24 | I3: 25 | J3: 25 | K3: 26 | L3: 29 | M3: 30 | N3: 30 | O3: 31
A4: Heads (period end) | B4: United States | C4: Marketing | D4: 9 | E4: 9 | F4: 10 | G4: 10 | H4: 10 | I4: 10 | J4: 11 | K4: 11 | L4: 11 | M4: 12 | N4: 12 | O4: 12
A5: Heads (period end) | B5: United States | C5: Engineering | D5: 39 | E5: 40 | F5: 42 | G5: 43 | H5: 44 | I5: 46 | J5: 47 | K5: 48 | L5: 52 | M5: 53 | N5: 54 | O5: 55
A6: Heads (period end) | B6: United States | C6: Customer success | D6: 12 | E6: 13 | F6: 13 | G6: 13 | H6: 14 | I6: 14 | J6: 14 | K6: 15 | L6: 15 | M6: 16 | N6: 16 | O6: 16
A7: Heads (period end) | B7: United States | C7: G&A | D7: 10 | E7: 10 | F7: 10 | G7: 11 | H7: 11 | I7: 11 | J7: 11 | K7: 11 | L7: 12 | M7: 12 | N7: 12 | O7: 12
A8: Heads (period end) | B8: United Kingdom | C8: Company (revenue and cost of revenue)
A9: Heads (period end) | B9: United Kingdom | C9: Sales | D9: 9 | E9: 9 | F9: 9 | G9: 9 | H9: 9 | I9: 9 | J9: 9 | K9: 9 | L9: 12 | M9: 12 | N9: 12 | O9: 12
A10: Heads (period end) | B10: United Kingdom | C10: Marketing | D10: 4 | E10: 4 | F10: 5 | G10: 5 | H10: 5 | I10: 5 | J10: 6 | K10: 6 | L10: 6 | M10: 6 | N10: 6 | O10: 6
A11: Heads (period end) | B11: United Kingdom | C11: Engineering | D11: 17 | E11: 17 | F11: 19 | G11: 19 | H11: 20 | I11: 20 | J11: 21 | K11: 21 | L11: 25 | M11: 25 | N11: 26 | O11: 26
A12: Heads (period end) | B12: United Kingdom | C12: Customer success | D12: 5 | E12: 5 | F12: 5 | G12: 5 | H12: 6 | I12: 6 | J12: 6 | K12: 6 | L12: 6 | M12: 6 | N12: 6 | O12: 6
A13: Heads (period end) | B13: United Kingdom | C13: G&A | D13: 4 | E13: 4 | F13: 4 | G13: 4 | H13: 4 | I13: 4 | J13: 4 | K13: 4 | L13: 5 | M13: 5 | N13: 5 | O13: 5
A14: Loaded cost per head, annual | B14: United States | C14: Company (revenue and cost of revenue)
A15: Loaded cost per head, annual | B15: United States | C15: Sales | D15: 165000 | E15: 165000 | F15: 165000 | G15: 165000 | H15: 165000 | I15: 165000 | J15: 165000 | K15: 165000 | L15: 165000 | M15: 165000 | N15: 165000 | O15: 165000
A16: Loaded cost per head, annual | B16: United States | C16: Marketing | D16: 140000 | E16: 140000 | F16: 140000 | G16: 140000 | H16: 140000 | I16: 140000 | J16: 140000 | K16: 140000 | L16: 140000 | M16: 140000 | N16: 140000 | O16: 140000
A17: Loaded cost per head, annual | B17: United States | C17: Engineering | D17: 190000 | E17: 190000 | F17: 190000 | G17: 190000 | H17: 190000 | I17: 190000 | J17: 190000 | K17: 190000 | L17: 190000 | M17: 190000 | N17: 190000 | O17: 190000
A18: Loaded cost per head, annual | B18: United States | C18: Customer success | D18: 110000 | E18: 110000 | F18: 110000 | G18: 110000 | H18: 110000 | I18: 110000 | J18: 110000 | K18: 110000 | L18: 110000 | M18: 110000 | N18: 110000 | O18: 110000
A19: Loaded cost per head, annual | B19: United States | C19: G&A | D19: 150000 | E19: 150000 | F19: 150000 | G19: 150000 | H19: 150000 | I19: 150000 | J19: 150000 | K19: 150000 | L19: 150000 | M19: 150000 | N19: 150000 | O19: 150000
A20: Loaded cost per head, annual | B20: United Kingdom | C20: Company (revenue and cost of revenue)
A21: Loaded cost per head, annual | B21: United Kingdom | C21: Sales | D21: 140000 | E21: 140000 | F21: 140000 | G21: 140000 | H21: 140000 | I21: 140000 | J21: 140000 | K21: 140000 | L21: 140000 | M21: 140000 | N21: 140000 | O21: 140000
A22: Loaded cost per head, annual | B22: United Kingdom | C22: Marketing | D22: 119000 | E22: 119000 | F22: 119000 | G22: 119000 | H22: 119000 | I22: 119000 | J22: 119000 | K22: 119000 | L22: 119000 | M22: 119000 | N22: 119000 | O22: 119000
A23: Loaded cost per head, annual | B23: United Kingdom | C23: Engineering | D23: 162000 | E23: 162000 | F23: 162000 | G23: 162000 | H23: 162000 | I23: 162000 | J23: 162000 | K23: 162000 | L23: 162000 | M23: 162000 | N23: 162000 | O23: 162000
A24: Loaded cost per head, annual | B24: United Kingdom | C24: Customer success | D24: 94000 | E24: 94000 | F24: 94000 | G24: 94000 | H24: 94000 | I24: 94000 | J24: 94000 | K24: 94000 | L24: 94000 | M24: 94000 | N24: 94000 | O24: 94000
A25: Loaded cost per head, annual | B25: United Kingdom | C25: G&A | D25: 128000 | E25: 128000 | F25: 128000 | G25: 128000 | H25: 128000 | I25: 128000 | J25: 128000 | K25: 128000 | L25: 128000 | M25: 128000 | N25: 128000 | O25: 128000
A26: Salary cost (month) | B26: United States | C26: Company (revenue and cost of revenue) | D26: =((-(D2)*D14)/12) -> 0 | E26: =((-(E2)*E14)/12) -> 0 | F26: =((-(F2)*F14)/12) -> 0 | G26: =((-(G2)*G14)/12) -> 0 | H26: =((-(H2)*H14)/12) -> 0 | I26: =((-(I2)*I14)/12) -> 0 | J26: =((-(J2)*J14)/12) -> 0 | K26: =((-(K2)*K14)/12) -> 0 | ... O26: =((-(O2)*O14)/12) -> 0
A27: Salary cost (month) | B27: United States | C27: Sales | D27: =((-(D3)*D15)/12) -> -302500 | E27: =((-(E3)*E15)/12) -> -316250 | F27: =((-(F3)*F15)/12) -> -316250 | G27: =((-(G3)*G15)/12) -> -330000 | H27: =((-(H3)*H15)/12) -> -330000 | I27: =((-(I3)*I15)/12) -> -343750 | J27: =((-(J3)*J15)/12) -> -343750 | K27: =((-(K3)*K15)/12) -> -357500 | ... O27: =((-(O3)*O15)/12) -> -426250
A28: Salary cost (month) | B28: United States | C28: Marketing | D28: =((-(D4)*D16)/12) -> -105000 | E28: =((-(E4)*E16)/12) -> -105000 | F28: =((-(F4)*F16)/12) -> -116666.67 | G28: =((-(G4)*G16)/12) -> -116666.67 | H28: =((-(H4)*H16)/12) -> -116666.67 | I28: =((-(I4)*I16)/12) -> -116666.67 | J28: =((-(J4)*J16)/12) -> -128333.33 | K28: =((-(K4)*K16)/12) -> -128333.33 | ... O28: =((-(O4)*O16)/12) -> -140000
A29: Salary cost (month) | B29: United States | C29: Engineering | D29: =((-(D5)*D17)/12) -> -617500 | E29: =((-(E5)*E17)/12) -> -633333.33 | F29: =((-(F5)*F17)/12) -> -665000 | G29: =((-(G5)*G17)/12) -> -680833.33 | H29: =((-(H5)*H17)/12) -> -696666.67 | I29: =((-(I5)*I17)/12) -> -728333.33 | J29: =((-(J5)*J17)/12) -> -744166.67 | K29: =((-(K5)*K17)/12) -> -760000 | ... O29: =((-(O5)*O17)/12) -> -870833.33
A30: Salary cost (month) | B30: United States | C30: Customer success | D30: =((-(D6)*D18)/12) -> -110000 | E30: =((-(E6)*E18)/12) -> -119166.67 | F30: =((-(F6)*F18)/12) -> -119166.67 | G30: =((-(G6)*G18)/12) -> -119166.67 | H30: =((-(H6)*H18)/12) -> -128333.33 | I30: =((-(I6)*I18)/12) -> -128333.33 | J30: =((-(J6)*J18)/12) -> -128333.33 | K30: =((-(K6)*K18)/12) -> -137500 | ... O30: =((-(O6)*O18)/12) -> -146666.67
A31: Salary cost (month) | B31: United States | C31: G&A | D31: =((-(D7)*D19)/12) -> -125000 | E31: =((-(E7)*E19)/12) -> -125000 | F31: =((-(F7)*F19)/12) -> -125000 | G31: =((-(G7)*G19)/12) -> -137500 | H31: =((-(H7)*H19)/12) -> -137500 | I31: =((-(I7)*I19)/12) -> -137500 | J31: =((-(J7)*J19)/12) -> -137500 | K31: =((-(K7)*K19)/12) -> -137500 | ... O31: =((-(O7)*O19)/12) -> -150000
A32: Salary cost (month) | B32: United Kingdom | C32: Company (revenue and cost of revenue) | D32: =((-(D8)*D20)/12) -> 0 | E32: =((-(E8)*E20)/12) -> 0 | F32: =((-(F8)*F20)/12) -> 0 | G32: =((-(G8)*G20)/12) -> 0 | H32: =((-(H8)*H20)/12) -> 0 | I32: =((-(I8)*I20)/12) -> 0 | J32: =((-(J8)*J20)/12) -> 0 | K32: =((-(K8)*K20)/12) -> 0 | ... O32: =((-(O8)*O20)/12) -> 0
A33: Salary cost (month) | B33: United Kingdom | C33: Sales | D33: =((-(D9)*D21)/12) -> -105000 | E33: =((-(E9)*E21)/12) -> -105000 | F33: =((-(F9)*F21)/12) -> -105000 | G33: =((-(G9)*G21)/12) -> -105000 | H33: =((-(H9)*H21)/12) -> -105000 | I33: =((-(I9)*I21)/12) -> -105000 | J33: =((-(J9)*J21)/12) -> -105000 | K33: =((-(K9)*K21)/12) -> -105000 | ... O33: =((-(O9)*O21)/12) -> -140000
A34: Salary cost (month) | B34: United Kingdom | C34: Marketing | D34: =((-(D10)*D22)/12) -> -39666.667 | E34: =((-(E10)*E22)/12) -> -39666.667 | F34: =((-(F10)*F22)/12) -> -49583.333 | G34: =((-(G10)*G22)/12) -> -49583.333 | H34: =((-(H10)*H22)/12) -> -49583.333 | I34: =((-(I10)*I22)/12) -> -49583.333 | J34: =((-(J10)*J22)/12) -> -59500 | K34: =((-(K10)*K22)/12) -> -59500 | ... O34: =((-(O10)*O22)/12) -> -59500
A35: Salary cost (month) | B35: United Kingdom | C35: Engineering | D35: =((-(D11)*D23)/12) -> -229500 | E35: =((-(E11)*E23)/12) -> -229500 | F35: =((-(F11)*F23)/12) -> -256500 | G35: =((-(G11)*G23)/12) -> -256500 | H35: =((-(H11)*H23)/12) -> -270000 | I35: =((-(I11)*I23)/12) -> -270000 | J35: =((-(J11)*J23)/12) -> -283500 | K35: =((-(K11)*K23)/12) -> -283500 | ... O35: =((-(O11)*O23)/12) -> -351000
A36: Salary cost (month) | B36: United Kingdom | C36: Customer success | D36: =((-(D12)*D24)/12) -> -39166.667 | E36: =((-(E12)*E24)/12) -> -39166.667 | F36: =((-(F12)*F24)/12) -> -39166.667 | G36: =((-(G12)*G24)/12) -> -39166.667 | H36: =((-(H12)*H24)/12) -> -47000 | I36: =((-(I12)*I24)/12) -> -47000 | J36: =((-(J12)*J24)/12) -> -47000 | K36: =((-(K12)*K24)/12) -> -47000 | ... O36: =((-(O12)*O24)/12) -> -47000
A37: Salary cost (month) | B37: United Kingdom | C37: G&A | D37: =((-(D13)*D25)/12) -> -42666.667 | E37: =((-(E13)*E25)/12) -> -42666.667 | F37: =((-(F13)*F25)/12) -> -42666.667 | G37: =((-(G13)*G25)/12) -> -42666.667 | H37: =((-(H13)*H25)/12) -> -42666.667 | I37: =((-(I13)*I25)/12) -> -42666.667 | J37: =((-(J13)*J25)/12) -> -42666.667 | K37: =((-(K13)*K25)/12) -> -42666.667 | ... O37: =((-(O13)*O25)/12) -> -53333.333

Sheet Outlook actuals from the ledger
A1: line | B1: subsidiary | C1: department | D1: Jan-26 | E1: Feb-26 | F1: Mar-26 | G1: Apr-26 | H1: May-26 | I1: Jun-26 | J1: Jul-26 | K1: Aug-26 | L1: Sep-26 | M1: Oct-26 | N1: Nov-26 | O1: Dec-26
A2: Revenue | B2: United States | C2: Company (revenue and cost of revenue) | D2: =SUMIFS('ledger'!$F$2:$F$745,'ledger'!$C$2:$C$745,"=us",'ledger'!$D$2:$D$745,"=company",'ledger'!$E$2:$E$745,"=revenue",'ledger'!$G$2:$G$745,"jan26") -> 4131437 | E2: =SUMIFS('ledger'!$F$2:$F$745,'ledger'!$C$2:$C$745,"=us",'ledger'!$D$2:$D$745,"=company",'ledger'!$E$2:$E$745,"=revenue",'ledger'!$G$2:$G$745,"feb26") -> 4250476 | F2: =SUMIFS('ledger'!$F$2:$F$745,'ledger'!$C$2:$C$745,"=us",'ledger'!$D$2:$D$745,"=company",'ledger'!$E$2:$E$745,"=revenue",'ledger'!$G$2:$G$745,"mar26") -> 4370513 | G2: =SUMIFS('ledger'!$F$2:$F$745,'ledger'!$C$2:$C$745,"=us",'ledger'!$D$2:$D$745,"=company",'ledger'!$E$2:$E$745,"=revenue",'ledger'!$G$2:$G$745,"apr26") -> 4448928 | H2: =SUMIFS('ledger'!$F$2:$F$745,'ledger'!$C$2:$C$745,"=us",'ledger'!$D$2:$D$745,"=company",'ledger'!$E$2:$E$745,"=revenue",'ledger'!$G$2:$G$745,"may26") -> 4429226 | I2: =SUMIFS('ledger'!$F$2:$F$745,'ledger'!$C$2:$C$745,"=us",'ledger'!$D$2:$D$745,"=company",'ledger'!$E$2:$E$745,"=revenue",'ledger'!$G$2:$G$745,"jun26") -> 4725798 | J2: =SUMIFS('ledger'!$F$2:$F$745,'ledger'!$C$2:$C$745,"=us",'ledger'!$D$2:$D$745,"=company",'ledger'!$E$2:$E$745,"=revenue",'ledger'!$G$2:$G$745,"jul26") -> 4406956 | K2: =SUMIFS('ledger'!$F$2:$F$745,'ledger'!$C$2:$C$745,"=us",'ledger'!$D$2:$D$745,"=company",'ledger'!$E$2:$E$745,"=revenue",'ledger'!$G$2:$G$745,"aug26") -> 4544037 | L2: =(K2*(1+'Forecast drivers'!J2)) -> 4630373.7 | M2: =(L2*(1+'Forecast drivers'!K2)) -> 4718350.8 | N2: =(M2*(1+'Forecast drivers'!L2)) -> 4807999.5 | O2: =(N2*(1+'Forecast drivers'!M2)) -> 4899351.5
A3: Revenue | B3: United States | C3: Sales | D3: =SUMIFS('ledger'!$F$2:$F$745,'ledger'!$C$2:$C$745,"=us",'ledger'!$D$2:$D$745,"=sales",'ledger'!$E$2:$E$745,"=revenue",'ledger'!$G$2:$G$745,"jan26") -> 0 | E3: =SUMIFS('ledger'!$F$2:$F$745,'ledger'!$C$2:$C$745,"=us",'ledger'!$D$2:$D$745,"=sales",'ledger'!$E$2:$E$745,"=revenue",'ledger'!$G$2:$G$745,"feb26") -> 0 | F3: =SUMIFS('ledger'!$F$2:$F$745,'ledger'!$C$2:$C$745,"=us",'ledger'!$D$2:$D$745,"=sales",'ledger'!$E$2:$E$745,"=revenue",'ledger'!$G$2:$G$745,"mar26") -> 0 | G3: =SUMIFS('ledger'!$F$2:$F$745,'ledger'!$C$2:$C$745,"=us",'ledger'!$D$2:$D$745,"=sales",'ledger'!$E$2:$E$745,"=revenue",'ledger'!$G$2:$G$745,"apr26") -> 0 | H3: =SUMIFS('ledger'!$F$2:$F$745,'ledger'!$C$2:$C$745,"=us",'ledger'!$D$2:$D$745,"=sales",'ledger'!$E$2:$E$745,"=revenue",'ledger'!$G$2:$G$745,"may26") -> 0 | I3: =SUMIFS('ledger'!$F$2:$F$745,'ledger'!$C$2:$C$745,"=us",'ledger'!$D$2:$D$745,"=sales",'ledger'!$E$2:$E$745,"=revenue",'ledger'!$G$2:$G$745,"jun26") -> 0 | J3: =SUMIFS('ledger'!$F$2:$F$745,'ledger'!$C$2:$C$745,"=us",'ledger'!$D$2:$D$745,"=sales",'ledger'!$E$2:$E$745,"=revenue",'ledger'!$G$2:$G$745,"jul26") -> 0 | K3: =SUMIFS('ledger'!$F$2:$F$745,'ledger'!$C$2:$C$745,"=us",'ledger'!$D$2:$D$745,"=sales",'ledger'!$E$2:$E$745,"=revenue",'ledger'!$G$2:$G$745,"aug26") -> 0 | L3: =(K3*(1+'Forecast drivers'!J9)) -> 0 | M3: =(L3*(1+'Forecast drivers'!K9)) -> 0 | N3: =(M3*(1+'Forecast drivers'!L9)) -> 0 | O3: =(N3*(1+'Forecast drivers'!M9)) -> 0
A4: Revenue | B4: United States | C4: Marketing | D4: =SUMIFS('ledger'!$F$2:$F$745,'ledger'!$C$2:$C$745,"=us",'ledger'!$D$2:$D$745,"=marketing",'ledger'!$E$2:$E$745,"=revenue",'ledger'!$G$2:$G$745,"jan26") -> 0 | E4: =SUMIFS('ledger'!$F$2:$F$745,'ledger'!$C$2:$C$745,"=us",'ledger'!$D$2:$D$745,"=marketing",'ledger'!$E$2:$E$745,"=revenue",'ledger'!$G$2:$G$745,"feb26") -> 0 | F4: =SUMIFS('ledger'!$F$2:$F$745,'ledger'!$C$2:$C$745,"=us",'ledger'!$D$2:$D$745,"=marketing",'ledger'!$E$2:$E$745,"=revenue",'ledger'!$G$2:$G$745,"mar26") -> 0 | G4: =SUMIFS('ledger'!$F$2:$F$745,'ledger'!$C$2:$C$745,"=us",'ledger'!$D$2:$D$745,"=marketing",'ledger'!$E$2:$E$745,"=revenue",'ledger'!$G$2:$G$745,"apr26") -> 0 | H4: =SUMIFS('ledger'!$F$2:$F$745,'ledger'!$C$2:$C$745,"=us",'ledger'!$D$2:$D$745,"=marketing",'ledger'!$E$2:$E$745,"=revenue",'ledger'!$G$2:$G$745,"may26") -> 0 | I4: =SUMIFS('ledger'!$F$2:$F$745,'ledger'!$C$2:$C$745,"=us",'ledger'!$D$2:$D$745,"=marketing",'ledger'!$E$2:$E$745,"=revenue",'ledger'!$G$2:$G$745,"jun26") -> 0 | J4: =SUMIFS('ledger'!$F$2:$F$745,'ledger'!$C$2:$C$745,"=us",'ledger'!$D$2:$D$745,"=marketing",'ledger'!$E$2:$E$745,"=revenue",'ledger'!$G$2:$G$745,"jul26") -> 0 | K4: =SUMIFS('ledger'!$F$2:$F$745,'ledger'!$C$2:$C$745,"=us",'ledger'!$D$2:$D$745,"=marketing",'ledger'!$E$2:$E$745,"=revenue",'ledger'!$G$2:$G$745,"aug26") -> 0 | L4: =(K4*(1+'Forecast drivers'!J9)) -> 0 | M4: =(L4*(1+'Forecast drivers'!K9)) -> 0 | N4: =(M4*(1+'Forecast drivers'!L9)) -> 0 | O4: =(N4*(1+'Forecast drivers'!M9)) -> 0
A5: Revenue | B5: United States | C5: Engineering | D5: =SUMIFS('ledger'!$F$2:$F$745,'ledger'!$C$2:$C$745,"=us",'ledger'!$D$2:$D$745,"=engineering",'ledger'!$E$2:$E$745,"=revenue",'ledger'!$G$2:$G$745,"jan26") -> 0 | E5: =SUMIFS('ledger'!$F$2:$F$745,'ledger'!$C$2:$C$745,"=us",'ledger'!$D$2:$D$745,"=engineering",'ledger'!$E$2:$E$745,"=revenue",'ledger'!$G$2:$G$745,"feb26") -> 0 | F5: =SUMIFS('ledger'!$F$2:$F$745,'ledger'!$C$2:$C$745,"=us",'ledger'!$D$2:$D$745,"=engineering",'ledger'!$E$2:$E$745,"=revenue",'ledger'!$G$2:$G$745,"mar26") -> 0 | G5: =SUMIFS('ledger'!$F$2:$F$745,'ledger'!$C$2:$C$745,"=us",'ledger'!$D$2:$D$745,"=engineering",'ledger'!$E$2:$E$745,"=revenue",'ledger'!$G$2:$G$745,"apr26") -> 0 | H5: =SUMIFS('ledger'!$F$2:$F$745,'ledger'!$C$2:$C$745,"=us",'ledger'!$D$2:$D$745,"=engineering",'ledger'!$E$2:$E$745,"=revenue",'ledger'!$G$2:$G$745,"may26") -> 0 | I5: =SUMIFS('ledger'!$F$2:$F$745,'ledger'!$C$2:$C$745,"=us",'ledger'!$D$2:$D$745,"=engineering",'ledger'!$E$2:$E$745,"=revenue",'ledger'!$G$2:$G$745,"jun26") -> 0 | J5: =SUMIFS('ledger'!$F$2:$F$745,'ledger'!$C$2:$C$745,"=us",'ledger'!$D$2:$D$745,"=engineering",'ledger'!$E$2:$E$745,"=revenue",'ledger'!$G$2:$G$745,"jul26") -> 0 | K5: =SUMIFS('ledger'!$F$2:$F$745,'ledger'!$C$2:$C$745,"=us",'ledger'!$D$2:$D$745,"=engineering",'ledger'!$E$2:$E$745,"=revenue",'ledger'!$G$2:$G$745,"aug26") -> 0 | L5: =(K5*(1+'Forecast drivers'!J9)) -> 0 | M5: =(L5*(1+'Forecast drivers'!K9)) -> 0 | N5: =(M5*(1+'Forecast drivers'!L9)) -> 0 | O5: =(N5*(1+'Forecast drivers'!M9)) -> 0
A6: Revenue | B6: United States | C6: Customer success | D6: =SUMIFS('ledger'!$F$2:$F$745,'ledger'!$C$2:$C$745,"=us",'ledger'!$D$2:$D$745,"=customer_success",'ledger'!$E$2:$E$745,"=revenue",'ledger'!$G$2:$G$745,"jan26") -> 0 | E6: =SUMIFS('ledger'!$F$2:$F$745,'ledger'!$C$2:$C$745,"=us",'ledger'!$D$2:$D$745,"=customer_success",'ledger'!$E$2:$E$745,"=revenue",'ledger'!$G$2:$G$745,"feb26") -> 0 | F6: =SUMIFS('ledger'!$F$2:$F$745,'ledger'!$C$2:$C$745,"=us",'ledger'!$D$2:$D$745,"=customer_success",'ledger'!$E$2:$E$745,"=revenue",'ledger'!$G$2:$G$745,"mar26") -> 0 | G6: =SUMIFS('ledger'!$F$2:$F$745,'ledger'!$C$2:$C$745,"=us",'ledger'!$D$2:$D$745,"=customer_success",'ledger'!$E$2:$E$745,"=revenue",'ledger'!$G$2:$G$745,"apr26") -> 0 | H6: =SUMIFS('ledger'!$F$2:$F$745,'ledger'!$C$2:$C$745,"=us",'ledger'!$D$2:$D$745,"=customer_success",'ledger'!$E$2:$E$745,"=revenue",'ledger'!$G$2:$G$745,"may26") -> 0 | I6: =SUMIFS('ledger'!$F$2:$F$745,'ledger'!$C$2:$C$745,"=us",'ledger'!$D$2:$D$745,"=customer_success",'ledger'!$E$2:$E$745,"=revenue",'ledger'!$G$2:$G$745,"jun26") -> 0 | J6: =SUMIFS('ledger'!$F$2:$F$745,'ledger'!$C$2:$C$745,"=us",'ledger'!$D$2:$D$745,"=customer_success",'ledger'!$E$2:$E$745,"=revenue",'ledger'!$G$2:$G$745,"jul26") -> 0 | K6: =SUMIFS('ledger'!$F$2:$F$745,'ledger'!$C$2:$C$745,"=us",'ledger'!$D$2:$D$745,"=customer_success",'ledger'!$E$2:$E$745,"=revenue",'ledger'!$G$2:$G$745,"aug26") -> 0 | L6: =(K6*(1+'Forecast drivers'!J9)) -> 0 | M6: =(L6*(1+'Forecast drivers'!K9)) -> 0 | N6: =(M6*(1+'Forecast drivers'!L9)) -> 0 | O6: =(N6*(1+'Forecast drivers'!M9)) -> 0
A7: Revenue | B7: United States | C7: G&A | D7: =SUMIFS('ledger'!$F$2:$F$745,'ledger'!$C$2:$C$745,"=us",'ledger'!$D$2:$D$745,"=g_and_a",'ledger'!$E$2:$E$745,"=revenue",'ledger'!$G$2:$G$745,"jan26") -> 0 | E7: =SUMIFS('ledger'!$F$2:$F$745,'ledger'!$C$2:$C$745,"=us",'ledger'!$D$2:$D$745,"=g_and_a",'ledger'!$E$2:$E$745,"=revenue",'ledger'!$G$2:$G$745,"feb26") -> 0 | F7: =SUMIFS('ledger'!$F$2:$F$745,'ledger'!$C$2:$C$745,"=us",'ledger'!$D$2:$D$745,"=g_and_a",'ledger'!$E$2:$E$745,"=revenue",'ledger'!$G$2:$G$745,"mar26") -> 0 | G7: =SUMIFS('ledger'!$F$2:$F$745,'ledger'!$C$2:$C$745,"=us",'ledger'!$D$2:$D$745,"=g_and_a",'ledger'!$E$2:$E$745,"=revenue",'ledger'!$G$2:$G$745,"apr26") -> 0 | H7: =SUMIFS('ledger'!$F$2:$F$745,'ledger'!$C$2:$C$745,"=us",'ledger'!$D$2:$D$745,"=g_and_a",'ledger'!$E$2:$E$745,"=revenue",'ledger'!$G$2:$G$745,"may26") -> 0 | I7: =SUMIFS('ledger'!$F$2:$F$745,'ledger'!$C$2:$C$745,"=us",'ledger'!$D$2:$D$745,"=g_and_a",'ledger'!$E$2:$E$745,"=revenue",'ledger'!$G$2:$G$745,"jun26") -> 0 | J7: =SUMIFS('ledger'!$F$2:$F$745,'ledger'!$C$2:$C$745,"=us",'ledger'!$D$2:$D$745,"=g_and_a",'ledger'!$E$2:$E$745,"=revenue",'ledger'!$G$2:$G$745,"jul26") -> 0 | K7: =SUMIFS('ledger'!$F$2:$F$745,'ledger'!$C$2:$C$745,"=us",'ledger'!$D$2:$D$745,"=g_and_a",'ledger'!$E$2:$E$745,"=revenue",'ledger'!$G$2:$G$745,"aug26") -> 0 | L7: =(K7*(1+'Forecast drivers'!J9)) -> 0 | M7: =(L7*(1+'Forecast drivers'!K9)) -> 0 | N7: =(M7*(1+'Forecast drivers'!L9)) -> 0 | O7: =(N7*(1+'Forecast drivers'!M9)) -> 0
A8: Revenue | B8: United Kingdom | C8: Company (revenue and cost of revenue) | D8: =SUMIFS('ledger'!$F$2:$F$745,'ledger'!$C$2:$C$745,"=uk",'ledger'!$D$2:$D$745,"=company",'ledger'!$E$2:$E$745,"=revenue",'ledger'!$G$2:$G$745,"jan26") -> 1673940 | E8: =SUMIFS('ledger'!$F$2:$F$745,'ledger'!$C$2:$C$745,"=uk",'ledger'!$D$2:$D$745,"=company",'ledger'!$E$2:$E$745,"=revenue",'ledger'!$G$2:$G$745,"feb26") -> 1721315 | F8: =SUMIFS('ledger'!$F$2:$F$745,'ledger'!$C$2:$C$745,"=uk",'ledger'!$D$2:$D$745,"=company",'ledger'!$E$2:$E$745,"=revenue",'ledger'!$G$2:$G$745,"mar26") -> 1792887 | G8: =SUMIFS('ledger'!$F$2:$F$745,'ledger'!$C$2:$C$745,"=uk",'ledger'!$D$2:$D$745,"=company",'ledger'!$E$2:$E$745,"=revenue",'ledger'!$G$2:$G$745,"apr26") -> 1859611 | H8: =SUMIFS('ledger'!$F$2:$F$745,'ledger'!$C$2:$C$745,"=uk",'ledger'!$D$2:$D$745,"=company",'ledger'!$E$2:$E$745,"=revenue",'ledger'!$G$2:$G$745,"may26") -> 1874770 | I8: =SUMIFS('ledger'!$F$2:$F$745,'ledger'!$C$2:$C$745,"=uk",'ledger'!$D$2:$D$745,"=company",'ledger'!$E$2:$E$745,"=revenue",'ledger'!$G$2:$G$745,"jun26") -> 1971962 | J8: =SUMIFS('ledger'!$F$2:$F$745,'ledger'!$C$2:$C$745,"=uk",'ledger'!$D$2:$D$745,"=company",'ledger'!$E$2:$E$745,"=revenue",'ledger'!$G$2:$G$745,"jul26") -> 1948393 | K8: =SUMIFS('ledger'!$F$2:$F$745,'ledger'!$C$2:$C$745,"=uk",'ledger'!$D$2:$D$745,"=company",'ledger'!$E$2:$E$745,"=revenue",'ledger'!$G$2:$G$745,"aug26") -> 1943549 | L8: =(K8*(1+'Forecast drivers'!J2)) -> 1980476.4 | M8: =(L8*(1+'Forecast drivers'!K2)) -> 2018105.5 | N8: =(M8*(1+'Forecast drivers'!L2)) -> 2056449.5 | O8: =(N8*(1+'Forecast drivers'!M2)) -> 2095522
A9: Revenue | B9: United Kingdom | C9: Sales | D9: =SUMIFS('ledger'!$F$2:$F$745,'ledger'!$C$2:$C$745,"=uk",'ledger'!$D$2:$D$745,"=sales",'ledger'!$E$2:$E$745,"=revenue",'ledger'!$G$2:$G$745,"jan26") -> 0 | E9: =SUMIFS('ledger'!$F$2:$F$745,'ledger'!$C$2:$C$745,"=uk",'ledger'!$D$2:$D$745,"=sales",'ledger'!$E$2:$E$745,"=revenue",'ledger'!$G$2:$G$745,"feb26") -> 0 | F9: =SUMIFS('ledger'!$F$2:$F$745,'ledger'!$C$2:$C$745,"=uk",'ledger'!$D$2:$D$745,"=sales",'ledger'!$E$2:$E$745,"=revenue",'ledger'!$G$2:$G$745,"mar26") -> 0 | G9: =SUMIFS('ledger'!$F$2:$F$745,'ledger'!$C$2:$C$745,"=uk",'ledger'!$D$2:$D$745,"=sales",'ledger'!$E$2:$E$745,"=revenue",'ledger'!$G$2:$G$745,"apr26") -> 0 | H9: =SUMIFS('ledger'!$F$2:$F$745,'ledger'!$C$2:$C$745,"=uk",'ledger'!$D$2:$D$745,"=sales",'ledger'!$E$2:$E$745,"=revenue",'ledger'!$G$2:$G$745,"may26") -> 0 | I9: =SUMIFS('ledger'!$F$2:$F$745,'ledger'!$C$2:$C$745,"=uk",'ledger'!$D$2:$D$745,"=sales",'ledger'!$E$2:$E$745,"=revenue",'ledger'!$G$2:$G$745,"jun26") -> 0 | J9: =SUMIFS('ledger'!$F$2:$F$745,'ledger'!$C$2:$C$745,"=uk",'ledger'!$D$2:$D$745,"=sales",'ledger'!$E$2:$E$745,"=revenue",'ledger'!$G$2:$G$745,"jul26") -> 0 | K9: =SUMIFS('ledger'!$F$2:$F$745,'ledger'!$C$2:$C$745,"=uk",'ledger'!$D$2:$D$745,"=sales",'ledger'!$E$2:$E$745,"=revenue",'ledger'!$G$2:$G$745,"aug26") -> 0 | L9: =(K9*(1+'Forecast drivers'!J9)) -> 0 | M9: =(L9*(1+'Forecast drivers'!K9)) -> 0 | N9: =(M9*(1+'Forecast drivers'!L9)) -> 0 | O9: =(N9*(1+'Forecast drivers'!M9)) -> 0
A10: Revenue | B10: United Kingdom | C10: Marketing | D10: =SUMIFS('ledger'!$F$2:$F$745,'ledger'!$C$2:$C$745,"=uk",'ledger'!$D$2:$D$745,"=marketing",'ledger'!$E$2:$E$745,"=revenue",'ledger'!$G$2:$G$745,"jan26") -> 0 | E10: =SUMIFS('ledger'!$F$2:$F$745,'ledger'!$C$2:$C$745,"=uk",'ledger'!$D$2:$D$745,"=marketing",'ledger'!$E$2:$E$745,"=revenue",'ledger'!$G$2:$G$745,"feb26") -> 0 | F10: =SUMIFS('ledger'!$F$2:$F$745,'ledger'!$C$2:$C$745,"=uk",'ledger'!$D$2:$D$745,"=marketing",'ledger'!$E$2:$E$745,"=revenue",'ledger'!$G$2:$G$745,"mar26") -> 0 | G10: =SUMIFS('ledger'!$F$2:$F$745,'ledger'!$C$2:$C$745,"=uk",'ledger'!$D$2:$D$745,"=marketing",'ledger'!$E$2:$E$745,"=revenue",'ledger'!$G$2:$G$745,"apr26") -> 0 | H10: =SUMIFS('ledger'!$F$2:$F$745,'ledger'!$C$2:$C$745,"=uk",'ledger'!$D$2:$D$745,"=marketing",'ledger'!$E$2:$E$745,"=revenue",'ledger'!$G$2:$G$745,"may26") -> 0 | I10: =SUMIFS('ledger'!$F$2:$F$745,'ledger'!$C$2:$C$745,"=uk",'ledger'!$D$2:$D$745,"=marketing",'ledger'!$E$2:$E$745,"=revenue",'ledger'!$G$2:$G$745,"jun26") -> 0 | J10: =SUMIFS('ledger'!$F$2:$F$745,'ledger'!$C$2:$C$745,"=uk",'ledger'!$D$2:$D$745,"=marketing",'ledger'!$E$2:$E$745,"=revenue",'ledger'!$G$2:$G$745,"jul26") -> 0 | K10: =SUMIFS('ledger'!$F$2:$F$745,'ledger'!$C$2:$C$745,"=uk",'ledger'!$D$2:$D$745,"=marketing",'ledger'!$E$2:$E$745,"=revenue",'ledger'!$G$2:$G$745,"aug26") -> 0 | L10: =(K10*(1+'Forecast drivers'!J9)) -> 0 | M10: =(L10*(1+'Forecast drivers'!K9)) -> 0 | N10: =(M10*(1+'Forecast drivers'!L9)) -> 0 | O10: =(N10*(1+'Forecast drivers'!M9)) -> 0
