Workbook

Sheet Helix Software precedent transa
A1: Median EV / EBITDA
A2: line | B2: value
A3: EV / EBITDA (x) | B3: ='Summary statistics'!D7 -> 35.251832
A5: Median EV / Revenue
A6: line | B6: value
A7: EV / Revenue (x) | B7: ='Summary statistics'!D6 -> 8.8068182
A9: Median 1-day premium
A10: line | B10: value
A11: Premium, 1 day | B11: ='Summary statistics'!D8 -> 0.35
A13: Implied price at median EV / EBITDA
A14: line | B14: value
A15: Implied price at EV / EBITDA ($) | B15: ='Implied valuation of Helix'!D7 -> 78.92094
A17: Selected precedent transactions (USD millions; target, then acquirer and terms at right)
A18: deal | B18: Enterprise value | C18: Target LTM revenue | D18: Target LTM EBITDA | E18: EBITDA margin | F18: EV / Revenue (x) | G18: EV / EBITDA (x) | H18: Premium, 1 day | I18: Premium, 30-day VWAP
A19: Meridian Health IT | B19: ='Transaction multiples value'!B2 -> 4200 | C19: ='Transaction multiples value'!B3 -> 460 | D19: ='Transaction multiples value'!B4 -> 110 | E19: ='Transaction multiples value'!B5 -> 0.23913043 | F19: ='Transaction multiples value'!B6 -> 9.1304348 | G19: ='Transaction multiples value'!B7 -> 38.181818 | H19: ='Transaction multiples value'!B8 -> 0.38 | I19: ='Transaction multiples value'!B9 -> 0.44
A20: Arbor Analytics | B20: ='Transaction multiples value'!C2 -> 1650 | C20: ='Transaction multiples value'!C3 -> 190 | D20: ='Transaction multiples value'!C4 -> 44 | E20: ='Transaction multiples value'!C5 -> 0.23157895 | F20: ='Transaction multiples value'!C6 -> 8.6842105 | G20: ='Transaction multiples value'!C7 -> 37.5 | H20: ='Transaction multiples value'!C8 -> 0.27 | I20: ='Transaction multiples value'!C9 -> 0.33
A21: Lumen Payroll | B21: ='Transaction multiples value'!D2 -> 3100 | C21: ='Transaction multiples value'!D3 -> 355 | D21: ='Transaction multiples value'!D4 -> 92 | E21: ='Transaction multiples value'!D5 -> 0.25915493 | F21: ='Transaction multiples value'!D6 -> 8.7323944 | G21: ='Transaction multiples value'!D7 -> 33.695652 | H21: ='Transaction multiples value'!D8 -> 0.31 | I21: ='Transaction multiples value'!D9 -> 0.36
A22: Keystone Compliance | B22: ='Transaction multiples value'!E2 -> 2400 | C22: ='Transaction multiples value'!E3 -> 300 | D22: ='Transaction multiples value'!E4 -> 66 | E22: ='Transaction multiples value'!E5 -> 0.22 | F22: ='Transaction multiples value'!E6 -> 8 | G22: ='Transaction multiples value'!E7 -> 36.363636 | H22: ='Transaction multiples value'!E8 -> 0.32 | I22: ='Transaction multiples value'!E9 -> 0.39
A23: Vega Logistics Cloud | B23: ='Transaction multiples value'!F2 -> 5600 | C23: ='Transaction multiples value'!F3 -> 640 | D23: ='Transaction multiples value'!F4 -> 150 | E23: ='Transaction multiples value'!F5 -> 0.234375 | F23: ='Transaction multiples value'!F6 -> 8.75 | G23: ='Transaction multiples value'!F7 -> 37.333333 | H23: ='Transaction multiples value'!F8 -> 0.45 | I23: ='Transaction multiples value'!F9 -> 0.52
A24: Rho Field Service | B24: ='Transaction multiples value'!G2 -> 5100 | C24: ='Transaction multiples value'!G3 -> 610 | D24: ='Transaction multiples value'!G4 -> 158 | E24: ='Transaction multiples value'!G5 -> 0.25901639 | F24: ='Transaction multiples value'!G6 -> 8.3606557 | G24: ='Transaction multiples value'!G7 -> 32.278481 | H24: ='Transaction multiples value'!G8 -> 0.41 | I24: ='Transaction multiples value'!G9 -> 0.47
A25: Tau Property Software | B25: ='Transaction multiples value'!H2 -> 1900 | C25: ='Transaction multiples value'!H3 -> 205 | D25: ='Transaction multiples value'!H4 -> 49 | E25: ='Transaction multiples value'!H5 -> 0.23902439 | F25: ='Transaction multiples value'!H6 -> 9.2682927 | G25: ='Transaction multiples value'!H7 -> 38.77551 | H25: ='Transaction multiples value'!H8 -> 0.28 | I25: ='Transaction multiples value'!H9 -> 0.31
A26: Nimbus Clinical | B26: ='Transaction multiples value'!I2 -> 6900 | C26: ='Transaction multiples value'!I3 -> 720 | D26: ='Transaction multiples value'!I4 -> 195 | E26: ='Transaction multiples value'!I5 -> 0.27083333 | F26: ='Transaction multiples value'!I6 -> 9.5833333 | G26: ='Transaction multiples value'!I7 -> 35.384615 | H26: ='Transaction multiples value'!I8 -> 0.36 | I26: ='Transaction multiples value'!I9 -> 0.42
A27: Nu Manufacturing Suite | B27: ='Transaction multiples value'!J2 -> 7800 | C27: ='Transaction multiples value'!J3 -> 880 | D27: ='Transaction multiples value'!J4 -> 246 | E27: ='Transaction multiples value'!J5 -> 0.27954545 | F27: ='Transaction multiples value'!J6 -> 8.8636364 | G27: ='Transaction multiples value'!J7 -> 31.707317 | H27: ='Transaction multiples value'!J8 -> 0.36 | I27: ='Transaction multiples value'!J9 -> 0.4
A28: Mu Insurance Platform | B28: ='Transaction multiples value'!K2 -> 3300 | C28: ='Transaction multiples value'!K3 -> 410 | D28: ='Transaction multiples value'!K4 -> 98 | E28: ='Transaction multiples value'!K5 -> 0.23902439 | F28: ='Transaction multiples value'!K6 -> 8.0487805 | G28: ='Transaction multiples value'!K7 -> 33.673469 | H28: ='Transaction multiples value'!K8 -> 0.3 | I28: ='Transaction multiples value'!K9 -> 0.35
A29: Juniper Legal Tech | B29: ='Transaction multiples value'!L2 -> 2950 | C29: ='Transaction multiples value'!L3 -> 310 | D29: ='Transaction multiples value'!L4 -> 84 | E29: ='Transaction multiples value'!L5 -> 0.27096774 | F29: ='Transaction multiples value'!L6 -> 9.516129 | G29: ='Transaction multiples value'!L7 -> 35.119048 | H29: ='Transaction multiples value'!L8 -> 0.34 | I29: ='Transaction multiples value'!L9 -> 0.38
A30: Copper Energy Software | B30: ='Transaction multiples value'!M2 -> 4750 | C30: ='Transaction multiples value'!M3 -> 505 | D30: ='Transaction multiples value'!M4 -> 141 | E30: ='Transaction multiples value'!M5 -> 0.27920792 | F30: ='Transaction multiples value'!M6 -> 9.4059406 | G30: ='Transaction multiples value'!M7 -> 33.687943 | H30: ='Transaction multiples value'!M8 -> 0.39 | I30: ='Transaction multiples value'!M9 -> 0.46
A32: Summary statistics
A33: line | B33: Low | C33: Mean | D33: Median | E33: High | F33: Median: strategic | G33: Median: sponsor | H33: Median: 2025 onward
A34: EV / Revenue (x) | B34: ='Summary statistics'!B6 -> 8 | C34: ='Summary statistics'!C6 -> 8.861984 | D34: ='Summary statistics'!D6 -> 8.8068182 | E34: ='Summary statistics'!E6 -> 9.5833333 | F34: ='Summary statistics'!F6 -> 8.9970356 | G34: ='Summary statistics'!G6 -> 8.3664955 | H34: ='Summary statistics'!H6 -> 9.1347885
A35: EV / EBITDA (x) | B35: ='Summary statistics'!B7 -> 31.707317 | C35: ='Summary statistics'!C7 -> 35.308402 | D35: ='Summary statistics'!D7 -> 35.251832 | E35: ='Summary statistics'!E7 -> 38.77551 | F35: ='Summary statistics'!F7 -> 34.40735 | G35: ='Summary statistics'!G7 -> 36.931818 | H35: ='Summary statistics'!H7 -> 33.680706
A36: Premium, 1 day | B36: ='Summary statistics'!B8 -> 0.27 | C36: ='Summary statistics'!C8 -> 0.3475 | D36: ='Summary statistics'!D8 -> 0.35 | E36: ='Summary statistics'!E8 -> 0.45 | F36: ='Summary statistics'!F8 -> 0.37 | G36: ='Summary statistics'!G8 -> 0.29 | H36: ='Summary statistics'!H8 -> 0.35
A37: Premium, 30-day VWAP | B37: ='Summary statistics'!B9 -> 0.31 | C37: ='Summary statistics'!C9 -> 0.4025 | D37: ='Summary statistics'!D9 -> 0.395 | E37: ='Summary statistics'!E9 -> 0.52 | F37: ='Summary statistics'!F9 -> 0.43 | G37: ='Summary statistics'!G9 -> 0.34 | H37: ='Summary statistics'!H9 -> 0.39
A39: EV / EBITDA by target
A40: line | B40: Meridian Health IT | C40: Arbor Analytics | D40: Lumen Payroll | E40: Keystone Compliance | F40: Vega Logistics Cloud | G40: Rho Field Service | H40: Tau Property Software | I40: Nimbus Clinical | J40: Nu Manufacturing Suite | K40: Mu Insurance Platform | L40: Juniper Legal Tech | M40: Copper Energy Software
A41: EV / EBITDA (x) | B41: ='Transaction multiples value'!B7 -> 38.181818 | C41: ='Transaction multiples value'!C7 -> 37.5 | D41: ='Transaction multiples value'!D7 -> 33.695652 | E41: ='Transaction multiples value'!E7 -> 36.363636 | F41: ='Transaction multiples value'!F7 -> 37.333333 | G41: ='Transaction multiples value'!G7 -> 32.278481 | H41: ='Transaction multiples value'!H7 -> 38.77551 | I41: ='Transaction multiples value'!I7 -> 35.384615 | ... M41: ='Transaction multiples value'!M7 -> 33.687943
A60: Premium paid by target
A61: line | B61: Meridian Health IT | C61: Arbor Analytics | D61: Lumen Payroll | E61: Keystone Compliance | F61: Vega Logistics Cloud | G61: Rho Field Service | H61: Tau Property Software | I61: Nimbus Clinical | J61: Nu Manufacturing Suite | K61: Mu Insurance Platform | L61: Juniper Legal Tech | M61: Copper Energy Software
A62: Premium, 1 day | B62: ='Transaction multiples value'!B8 -> 0.38 | C62: ='Transaction multiples value'!C8 -> 0.27 | D62: ='Transaction multiples value'!D8 -> 0.31 | E62: ='Transaction multiples value'!E8 -> 0.32 | F62: ='Transaction multiples value'!F8 -> 0.45 | G62: ='Transaction multiples value'!G8 -> 0.41 | H62: ='Transaction multiples value'!H8 -> 0.28 | I62: ='Transaction multiples value'!I8 -> 0.36 | ... M62: ='Transaction multiples value'!M8 -> 0.39
A63: Premium, 30-day VWAP | B63: ='Transaction multiples value'!B9 -> 0.44 | C63: ='Transaction multiples value'!C9 -> 0.33 | D63: ='Transaction multiples value'!D9 -> 0.36 | E63: ='Transaction multiples value'!E9 -> 0.39 | F63: ='Transaction multiples value'!F9 -> 0.52 | G63: ='Transaction multiples value'!G9 -> 0.47 | H63: ='Transaction multiples value'!H9 -> 0.31 | I63: ='Transaction multiples value'!I9 -> 0.42 | ... M63: ='Transaction multiples value'!M9 -> 0.46
A82: Helix Software: subject inputs (edit any cell) | B82: Inputs: edit the blue cells on the 'Helix Software (subject)' sheet; this table follows them.
...

Sheet Helix Software (subject)
A1: line | B1: value
A2: LTM revenue | B2: 520
A3: LTM EBITDA | B3: 140
A4: Net debt | B4: 200
A5: Diluted shares (M) | B5: 60
A6: Current share price ($) | B6: 58

Sheet Transaction multiples value
A1: line | B1: Meridian Health IT | C1: Arbor Analytics | D1: Lumen Payroll | E1: Keystone Compliance | F1: Vega Logistics Cloud | G1: Rho Field Service | H1: Tau Property Software | I1: Nimbus Clinical | J1: Nu Manufacturing Suite | K1: Mu Insurance Platform | L1: Juniper Legal Tech | M1: Copper Energy Software
A2: Enterprise value | B2: =4200 -> 4200 | C2: =1650 -> 1650 | D2: =3100 -> 3100 | E2: =2400 -> 2400 | F2: =5600 -> 5600 | G2: =5100 -> 5100 | H2: =1900 -> 1900 | I2: =6900 -> 6900 | J2: =7800 -> 7800 | K2: =3300 -> 3300 | L2: =2950 -> 2950 | M2: =4750 -> 4750
A3: Target LTM revenue | B3: =460 -> 460 | C3: =190 -> 190 | D3: =355 -> 355 | E3: =300 -> 300 | F3: =640 -> 640 | G3: =610 -> 610 | H3: =205 -> 205 | I3: =720 -> 720 | J3: =880 -> 880 | K3: =410 -> 410 | L3: =310 -> 310 | M3: =505 -> 505
A4: Target LTM EBITDA | B4: =110 -> 110 | C4: =44 -> 44 | D4: =92 -> 92 | E4: =66 -> 66 | F4: =150 -> 150 | G4: =158 -> 158 | H4: =49 -> 49 | I4: =195 -> 195 | J4: =246 -> 246 | K4: =98 -> 98 | L4: =84 -> 84 | M4: =141 -> 141
A5: EBITDA margin | B5: =(B4/B3) -> 0.23913043 | C5: =(C4/C3) -> 0.23157895 | D5: =(D4/D3) -> 0.25915493 | E5: =(E4/E3) -> 0.22 | F5: =(F4/F3) -> 0.234375 | G5: =(G4/G3) -> 0.25901639 | H5: =(H4/H3) -> 0.23902439 | I5: =(I4/I3) -> 0.27083333 | ... M5: =(M4/M3) -> 0.27920792
A6: EV / Revenue (x) | B6: =(B2/B3) -> 9.1304348 | C6: =(C2/C3) -> 8.6842105 | D6: =(D2/D3) -> 8.7323944 | E6: =(E2/E3) -> 8 | F6: =(F2/F3) -> 8.75 | G6: =(G2/G3) -> 8.3606557 | H6: =(H2/H3) -> 9.2682927 | I6: =(I2/I3) -> 9.5833333 | ... M6: =(M2/M3) -> 9.4059406
A7: EV / EBITDA (x) | B7: =(B2/B4) -> 38.181818 | C7: =(C2/C4) -> 37.5 | D7: =(D2/D4) -> 33.695652 | E7: =(E2/E4) -> 36.363636 | F7: =(F2/F4) -> 37.333333 | G7: =(G2/G4) -> 32.278481 | H7: =(H2/H4) -> 38.77551 | I7: =(I2/I4) -> 35.384615 | ... M7: =(M2/M4) -> 33.687943
A8: Premium, 1 day | B8: =0.38 -> 0.38 | C8: =0.27 -> 0.27 | D8: =0.31 -> 0.31 | E8: =0.32 -> 0.32 | F8: =0.45 -> 0.45 | G8: =0.41 -> 0.41 | H8: =0.28 -> 0.28 | I8: =0.36 -> 0.36 | J8: =0.36 -> 0.36 | K8: =0.3 -> 0.3 | L8: =0.34 -> 0.34 | M8: =0.39 -> 0.39
A9: Premium, 30-day VWAP | B9: =0.44 -> 0.44 | C9: =0.33 -> 0.33 | D9: =0.36 -> 0.36 | E9: =0.39 -> 0.39 | F9: =0.52 -> 0.52 | G9: =0.47 -> 0.47 | H9: =0.31 -> 0.31 | I9: =0.42 -> 0.42 | J9: =0.4 -> 0.4 | K9: =0.35 -> 0.35 | L9: =0.38 -> 0.38 | M9: =0.46 -> 0.46

Sheet Transaction multiples terms
A1: line | B1: Meridian Health IT | C1: Arbor Analytics | D1: Lumen Payroll | E1: Keystone Compliance | F1: Vega Logistics Cloud | G1: Rho Field Service | H1: Tau Property Software | I1: Nimbus Clinical | J1: Nu Manufacturing Suite | K1: Mu Insurance Platform | L1: Juniper Legal Tech | M1: Copper Energy Software
A2: Enterprise value | B2: Vantage Systems · strategic · cash · May 22 | C2: Crestline Partners · sponsor · cash · Sep 22 | D2: Northgate Software · strategic · cash & stock · Feb 23 | E2: Halcyon Capital · sponsor · cash · Jun 23 | F2: Orbital Group · strategic · stock · Oct 23 | G2: Pike Holdings · strategic · cash · Mar 24 | H2: Sable Equity · sponsor · cash · Jul 24 | I2: Summit Technologies · strategic · cash · Nov 24 | J2: Kappa Industries · strategic · cash & stock · Feb 25 | K2: Iota Partners · sponsor · cash · Jun 25 | L2: Beacon Software · strategic · cash · Nov 25 | M2: Atlas Global · strategic · cash · Apr 26
A3: Target LTM revenue
A4: Target LTM EBITDA
A5: EBITDA margin
A6: EV / Revenue (x)
A7: EV / EBITDA (x)
A8: Premium, 1 day
A9: Premium, 30-day VWAP

Sheet Summary statistics
A1: line | B1: Low | C1: Mean | D1: Median | E1: High | F1: Median: strategic | G1: Median: sponsor | H1: Median: 2025 onward
A2: Enterprise value | B2: =MIN('Transaction multiples value'!B2:M2) -> 1650 | C2: =AVERAGE('Transaction multiples value'!B2:M2) -> 4137.5 | D2: =MEDIAN('Transaction multiples value'!B2:M2) -> 3750 | E2: =MAX('Transaction multiples value'!B2:M2) -> 7800 | F2: =MEDIAN('Transaction multiples value'!B2,'Transaction multiples value'!D2,'Transaction multiples value'!F2,'Transaction multiples value'!G2,'Transaction multiples value'!I2,'Transaction multiples value'!J2,'Transaction multiples value'!L2,'Transaction multiples value'!M2) -> 4925 | G2: =MEDIAN('Transaction multiples value'!C2,'Transaction multiples value'!E2,'Transaction multiples value'!H2,'Transaction multiples value'!K2) -> 2150 | H2: =MEDIAN('Transaction multiples value'!J2:M2) -> 4025
A3: Target LTM revenue | B3: =MIN('Transaction multiples value'!B3:M3) -> 190 | C3: =AVERAGE('Transaction multiples value'!B3:M3) -> 465.41667 | D3: =MEDIAN('Transaction multiples value'!B3:M3) -> 435 | E3: =MAX('Transaction multiples value'!B3:M3) -> 880 | F3: =MEDIAN('Transaction multiples value'!B3,'Transaction multiples value'!D3,'Transaction multiples value'!F3,'Transaction multiples value'!G3,'Transaction multiples value'!I3,'Transaction multiples value'!J3,'Transaction multiples value'!L3,'Transaction multiples value'!M3) -> 557.5 | G3: =MEDIAN('Transaction multiples value'!C3,'Transaction multiples value'!E3,'Transaction multiples value'!H3,'Transaction multiples value'!K3) -> 252.5 | H3: =MEDIAN('Transaction multiples value'!J3:M3) -> 457.5
A4: Target LTM EBITDA | B4: =MIN('Transaction multiples value'!B4:M4) -> 44 | C4: =AVERAGE('Transaction multiples value'!B4:M4) -> 119.41667 | D4: =MEDIAN('Transaction multiples value'!B4:M4) -> 104 | E4: =MAX('Transaction multiples value'!B4:M4) -> 246 | F4: =MEDIAN('Transaction multiples value'!B4,'Transaction multiples value'!D4,'Transaction multiples value'!F4,'Transaction multiples value'!G4,'Transaction multiples value'!I4,'Transaction multiples value'!J4,'Transaction multiples value'!L4,'Transaction multiples value'!M4) -> 145.5 | G4: =MEDIAN('Transaction multiples value'!C4,'Transaction multiples value'!E4,'Transaction multiples value'!H4,'Transaction multiples value'!K4) -> 57.5 | H4: =MEDIAN('Transaction multiples value'!J4:M4) -> 119.5
A5: EBITDA margin | B5: =MIN('Transaction multiples value'!B5:M5) -> 0.22 | C5: =AVERAGE('Transaction multiples value'!B5:M5) -> 0.25182158 | D5: =MEDIAN('Transaction multiples value'!B5:M5) -> 0.24907341 | E5: =MAX('Transaction multiples value'!B5:M5) -> 0.27954545 | F5: =MEDIAN('Transaction multiples value'!B5,'Transaction multiples value'!D5,'Transaction multiples value'!F5,'Transaction multiples value'!G5,'Transaction multiples value'!I5,'Transaction multiples value'!J5,'Transaction multiples value'!L5,'Transaction multiples value'!M5) -> 0.26499413 | G5: =MEDIAN('Transaction multiples value'!C5,'Transaction multiples value'!E5,'Transaction multiples value'!H5,'Transaction multiples value'!K5) -> 0.23530167 | H5: =MEDIAN('Transaction multiples value'!J5:M5) -> 0.27508783
A6: EV / Revenue (x) | B6: =MIN('Transaction multiples value'!B6:M6) -> 8 | C6: =AVERAGE('Transaction multiples value'!B6:M6) -> 8.861984 | D6: =MEDIAN('Transaction multiples value'!B6:M6) -> 8.8068182 | E6: =MAX('Transaction multiples value'!B6:M6) -> 9.5833333 | F6: =MEDIAN('Transaction multiples value'!B6,'Transaction multiples value'!D6,'Transaction multiples value'!F6,'Transaction multiples value'!G6,'Transaction multiples value'!I6,'Transaction multiples value'!J6,'Transaction multiples value'!L6,'Transaction multiples value'!M6) -> 8.9970356 | G6: =MEDIAN('Transaction multiples value'!C6,'Transaction multiples value'!E6,'Transaction multiples value'!H6,'Transaction multiples value'!K6) -> 8.3664955 | H6: =MEDIAN('Transaction multiples value'!J6:M6) -> 9.1347885
A7: EV / EBITDA (x) | B7: =MIN('Transaction multiples value'!B7:M7) -> 31.707317 | C7: =AVERAGE('Transaction multiples value'!B7:M7) -> 35.308402 | D7: =MEDIAN('Transaction multiples value'!B7:M7) -> 35.251832 | E7: =MAX('Transaction multiples value'!B7:M7) -> 38.77551 | F7: =MEDIAN('Transaction multiples value'!B7,'Transaction multiples value'!D7,'Transaction multiples value'!F7,'Transaction multiples value'!G7,'Transaction multiples value'!I7,'Transaction multiples value'!J7,'Transaction multiples value'!L7,'Transaction multiples value'!M7) -> 34.40735 | G7: =MEDIAN('Transaction multiples value'!C7,'Transaction multiples value'!E7,'Transaction multiples value'!H7,'Transaction multiples value'!K7) -> 36.931818 | H7: =MEDIAN('Transaction multiples value'!J7:M7) -> 33.680706
A8: Premium, 1 day | B8: =MIN('Transaction multiples value'!B8:M8) -> 0.27 | C8: =AVERAGE('Transaction multiples value'!B8:M8) -> 0.3475 | D8: =MEDIAN('Transaction multiples value'!B8:M8) -> 0.35 | E8: =MAX('Transaction multiples value'!B8:M8) -> 0.45 | F8: =MEDIAN('Transaction multiples value'!B8,'Transaction multiples value'!D8,'Transaction multiples value'!F8,'Transaction multiples value'!G8,'Transaction multiples value'!I8,'Transaction multiples value'!J8,'Transaction multiples value'!L8,'Transaction multiples value'!M8) -> 0.37 | G8: =MEDIAN('Transaction multiples value'!C8,'Transaction multiples value'!E8,'Transaction multiples value'!H8,'Transaction multiples value'!K8) -> 0.29 | H8: =MEDIAN('Transaction multiples value'!J8:M8) -> 0.35
A9: Premium, 30-day VWAP | B9: =MIN('Transaction multiples value'!B9:M9) -> 0.31 | C9: =AVERAGE('Transaction multiples value'!B9:M9) -> 0.4025 | D9: =MEDIAN('Transaction multiples value'!B9:M9) -> 0.395 | E9: =MAX('Transaction multiples value'!B9:M9) -> 0.52 | F9: =MEDIAN('Transaction multiples value'!B9,'Transaction multiples value'!D9,'Transaction multiples value'!F9,'Transaction multiples value'!G9,'Transaction multiples value'!I9,'Transaction multiples value'!J9,'Transaction multiples value'!L9,'Transaction multiples value'!M9) -> 0.43 | G9: =MEDIAN('Transaction multiples value'!C9,'Transaction multiples value'!E9,'Transaction multiples value'!H9,'Transaction multiples value'!K9) -> 0.34 | H9: =MEDIAN('Transaction multiples value'!J9:M9) -> 0.39

Sheet Implied valuation of Helix
A1: line | B1: Low | C1: Mean | D1: Median | E1: High | F1: Median: strategic | G1: Median: sponsor | H1: Median: 2025 onward
A2: Implied EV at EV / Revenue | B2: =('Summary statistics'!B6*'Helix Software (subject)'!B2) -> 4160 | C2: =('Summary statistics'!C6*'Helix Software (subject)'!B2) -> 4608.2317 | D2: =('Summary statistics'!D6*'Helix Software (subject)'!B2) -> 4579.5455 | E2: =('Summary statistics'!E6*'Helix Software (subject)'!B2) -> 4983.3333 | F2: =('Summary statistics'!F6*'Helix Software (subject)'!B2) -> 4678.4585 | G2: =('Summary statistics'!G6*'Helix Software (subject)'!B2) -> 4350.5777 | H2: =('Summary statistics'!H6*'Helix Software (subject)'!B2) -> 4750.09
A3: Implied EV at EV / EBITDA | B3: =('Summary statistics'!B7*'Helix Software (subject)'!B3) -> 4439.0244 | C3: =('Summary statistics'!C7*'Helix Software (subject)'!B3) -> 4943.1763 | D3: =('Summary statistics'!D7*'Helix Software (subject)'!B3) -> 4935.2564 | E3: =('Summary statistics'!E7*'Helix Software (subject)'!B3) -> 5428.5714 | F3: =('Summary statistics'!F7*'Helix Software (subject)'!B3) -> 4817.029 | G3: =('Summary statistics'!G7*'Helix Software (subject)'!B3) -> 5170.4545 | H3: =('Summary statistics'!H7*'Helix Software (subject)'!B3) -> 4715.2989
A4: Implied equity value at EV / Revenue | B4: =(B2-'Helix Software (subject)'!B4) -> 3960 | C4: =(C2-'Helix Software (subject)'!B4) -> 4408.2317 | D4: =(D2-'Helix Software (subject)'!B4) -> 4379.5455 | E4: =(E2-'Helix Software (subject)'!B4) -> 4783.3333 | F4: =(F2-'Helix Software (subject)'!B4) -> 4478.4585 | G4: =(G2-'Helix Software (subject)'!B4) -> 4150.5777 | H4: =(H2-'Helix Software (subject)'!B4) -> 4550.09
A5: Implied equity value at EV / EBITDA | B5: =(B3-'Helix Software (subject)'!B4) -> 4239.0244 | C5: =(C3-'Helix Software (subject)'!B4) -> 4743.1763 | D5: =(D3-'Helix Software (subject)'!B4) -> 4735.2564 | E5: =(E3-'Helix Software (subject)'!B4) -> 5228.5714 | F5: =(F3-'Helix Software (subject)'!B4) -> 4617.029 | G5: =(G3-'Helix Software (subject)'!B4) -> 4970.4545 | H5: =(H3-'Helix Software (subject)'!B4) -> 4515.2989
A6: Implied price at EV / Revenue ($) | B6: =(B4/'Helix Software (subject)'!B5) -> 66 | C6: =(C4/'Helix Software (subject)'!B5) -> 73.470528 | D6: =(D4/'Helix Software (subject)'!B5) -> 72.992424 | E6: =(E4/'Helix Software (subject)'!B5) -> 79.722222 | F6: =(F4/'Helix Software (subject)'!B5) -> 74.640975 | G6: =(G4/'Helix Software (subject)'!B5) -> 69.176294 | H6: =(H4/'Helix Software (subject)'!B5) -> 75.834833
A7: Implied price at EV / EBITDA ($) | B7: =(B5/'Helix Software (subject)'!B5) -> 70.650407 | C7: =(C5/'Helix Software (subject)'!B5) -> 79.052938 | D7: =(D5/'Helix Software (subject)'!B5) -> 78.92094 | E7: =(E5/'Helix Software (subject)'!B5) -> 87.142857 | F7: =(F5/'Helix Software (subject)'!B5) -> 76.950483 | G7: =(G5/'Helix Software (subject)'!B5) -> 82.840909 | H7: =(H5/'Helix Software (subject)'!B5) -> 75.254981
A8: Implied price at 1-day premium ($) | B8: =('Helix Software (subject)'!B6*(1+'Summary statistics'!B8)) -> 73.66 | C8: =('Helix Software (subject)'!B6*(1+'Summary statistics'!C8)) -> 78.155 | D8: =('Helix Software (subject)'!B6*(1+'Summary statistics'!D8)) -> 78.3 | E8: =('Helix Software (subject)'!B6*(1+'Summary statistics'!E8)) -> 84.1 | F8: =('Helix Software (subject)'!B6*(1+'Summary statistics'!F8)) -> 79.46 | G8: =('Helix Software (subject)'!B6*(1+'Summary statistics'!G8)) -> 74.82 | H8: =('Helix Software (subject)'!B6*(1+'Summary statistics'!H8)) -> 78.3
A9: Implied price at 30-day premium ($) | B9: =('Helix Software (subject)'!B6*(1+'Summary statistics'!B9)) -> 75.98 | C9: =('Helix Software (subject)'!B6*(1+'Summary statistics'!C9)) -> 81.345 | D9: =('Helix Software (subject)'!B6*(1+'Summary statistics'!D9)) -> 80.91 | E9: =('Helix Software (subject)'!B6*(1+'Summary statistics'!E9)) -> 88.16 | F9: =('Helix Software (subject)'!B6*(1+'Summary statistics'!F9)) -> 82.94 | G9: =('Helix Software (subject)'!B6*(1+'Summary statistics'!G9)) -> 77.72 | H9: =('Helix Software (subject)'!B6*(1+'Summary statistics'!H9)) -> 80.62
A10: Current price ($) | B10: ='Helix Software (subject)'!B6 -> 58 | C10: ='Helix Software (subject)'!B6 -> 58 | D10: ='Helix Software (subject)'!B6 -> 58 | E10: ='Helix Software (subject)'!B6 -> 58 | F10: ='Helix Software (subject)'!B6 -> 58 | G10: ='Helix Software (subject)'!B6 -> 58 | H10: ='Helix Software (subject)'!B6 -> 58
A11: Implied premium: EV / Revenue | B11: =((B6/B10)-1) -> 0.13793103 | C11: =((C6/C10)-1) -> 0.26673324 | D11: =((D6/D10)-1) -> 0.25849007 | E11: =((E6/E10)-1) -> 0.37452107 | F11: =((F6/F10)-1) -> 0.28691336 | G11: =((G6/G10)-1) -> 0.19269473 | H11: =((H6/H10)-1) -> 0.30749713
A12: Implied premium: EV / EBITDA | B12: =((B7/B10)-1) -> 0.21811046 | C12: =((C7/C10)-1) -> 0.36298169 | D12: =((D7/D10)-1) -> 0.36070587 | E12: =((E7/E10)-1) -> 0.50246305 | F12: =((F7/F10)-1) -> 0.32673247 | G12: =((G7/G10)-1) -> 0.42829154 | H12: =((H7/H10)-1) -> 0.29749968

Sheet Selected transactions
A1: ID | B1: name | C1: acquirer | D1: target | E1: announced | F1: year | G1: type | H1: consideration | I1: ev | J1: target_revenue | K1: target_ebitda | L1: premium_1d | M1: premium_30d | N1: terms
A2: d01 | B2: Meridian Health IT | C2: Vantage Systems | D2: Meridian Health IT | E2: 44696 | F2: 2022 | G2: strategic | H2: cash | I2: 4200 | J2: 460 | K2: 110 | L2: 0.38 | M2: 0.44 | N2: Vantage Systems · strategic · cash · May 22
A3: d02 | B3: Arbor Analytics | C3: Crestline Partners | D3: Arbor Analytics | E3: 44819 | F3: 2022 | G3: sponsor | H3: cash | I3: 1650 | J3: 190 | K3: 44 | L3: 0.27 | M3: 0.33 | N3: Crestline Partners · sponsor · cash · Sep 22
A4: d03 | B4: Lumen Payroll | C4: Northgate Software | D4: Lumen Payroll | E4: 44972 | F4: 2023 | G4: strategic | H4: cash and stock | I4: 3100 | J4: 355 | K4: 92 | L4: 0.31 | M4: 0.36 | N4: Northgate Software · strategic · cash & stock · Feb 23
A5: d04 | B5: Keystone Compliance | C5: Halcyon Capital | D5: Keystone Compliance | E5: 45092 | F5: 2023 | G5: sponsor | H5: cash | I5: 2400 | J5: 300 | K5: 66 | L5: 0.32 | M5: 0.39 | N5: Halcyon Capital · sponsor · cash · Jun 23
A6: d05 | B6: Vega Logistics Cloud | C6: Orbital Group | D6: Vega Logistics Cloud | E6: 45214 | F6: 2023 | G6: strategic | H6: stock | I6: 5600 | J6: 640 | K6: 150 | L6: 0.45 | M6: 0.52 | N6: Orbital Group · strategic · stock · Oct 23
A7: d06 | B7: Rho Field Service | C7: Pike Holdings | D7: Rho Field Service | E7: 45366 | F7: 2024 | G7: strategic | H7: cash | I7: 5100 | J7: 610 | K7: 158 | L7: 0.41 | M7: 0.47 | N7: Pike Holdings · strategic · cash · Mar 24
A8: d07 | B8: Tau Property Software | C8: Sable Equity | D8: Tau Property Software | E8: 45488 | F8: 2024 | G8: sponsor | H8: cash | I8: 1900 | J8: 205 | K8: 49 | L8: 0.28 | M8: 0.31 | N8: Sable Equity · sponsor · cash · Jul 24
A9: d08 | B9: Nimbus Clinical | C9: Summit Technologies | D9: Nimbus Clinical | E9: 45611 | F9: 2024 | G9: strategic | H9: cash | I9: 6900 | J9: 720 | K9: 195 | L9: 0.36 | M9: 0.42 | N9: Summit Technologies · strategic · cash · Nov 24
A10: d09 | B10: Nu Manufacturing Suite | C10: Kappa Industries | D10: Nu Manufacturing Suite | E10: 45703 | F10: 2025 | G10: strategic | H10: cash and stock | I10: 7800 | J10: 880 | K10: 246 | L10: 0.36 | M10: 0.4 | N10: Kappa Industries · strategic · cash & stock · Feb 25
A11: d10 | B11: Mu Insurance Platform | C11: Iota Partners | D11: Mu Insurance Platform | E11: 45823 | F11: 2025 | G11: sponsor | H11: cash | I11: 3300 | J11: 410 | K11: 98 | L11: 0.3 | M11: 0.35 | N11: Iota Partners · sponsor · cash · Jun 25
A12: d11 | B12: Juniper Legal Tech | C12: Beacon Software | D12: Juniper Legal Tech | E12: 45976 | F12: 2025 | G12: strategic | H12: cash | I12: 2950 | J12: 310 | K12: 84 | L12: 0.34 | M12: 0.38 | N12: Beacon Software · strategic · cash · Nov 25
A13: d12 | B13: Copper Energy Software | C13: Atlas Global | D13: Copper Energy Software | E13: 46127 | F13: 2026 | G13: strategic | H13: cash | I13: 4750 | J13: 505 | K13: 141 | L13: 0.39 | M13: 0.46 | N13: Atlas Global · strategic · cash · Apr 26

Sheet Statistics
A1: ID | B1: name
A2: low | B2: Low
A3: mean | B3: Mean
A4: median | B4: Median
A5: high | B5: High
A6: median_strategic | B6: Median: strategic
A7: median_sponsor | B7: Median: sponsor
A8: median_recent | B8: Median: 2025 onward

Sheet Helix Software (subject) lines
A1: ID | B1: name | C1: format
A2: revenue | B2: LTM revenue
A3: ebitda | B3: LTM EBITDA
A4: net_debt | B4: Net debt
A5: shares | B5: Diluted shares (M)
A6: price | B6: Current share price ($)

Sheet Transaction multiples lines
A1: ID | B1: name | C1: format
A2: ev | B2: Enterprise value
A3: revenue | B3: Target LTM revenue
A4: ebitda | B4: Target LTM EBITDA
A5: ebitda_margin | B5: EBITDA margin | C5: percent
A6: ev_revenue | B6: EV / Revenue (x)
A7: ev_ebitda | B7: EV / EBITDA (x)
A8: premium_1d | B8: Premium, 1 day | C8: percent
A9: premium_30d | B9: Premium, 30-day VWAP | C9: percent

Sheet Implied valuation of Helix line
A1: ID | B1: name | C1: format
A2: ev_from_revenue | B2: Implied EV at EV / Revenue
A3: ev_from_ebitda | B3: Implied EV at EV / EBITDA
A4: equity_from_revenue | B4: Implied equity value at EV / Revenue
A5: equity_from_ebitda | B5: Implied equity value at EV / EBITDA
A6: price_from_revenue | B6: Implied price at EV / Revenue ($)
A7: price_from_ebitda | B7: Implied price at EV / EBITDA ($)
A8: price_from_premium | B8: Implied price at 1-day premium ($)
A9: price_from_premium_30d | B9: Implied price at 30-day premium ($)
A10: current_price | B10: Current price ($)
A11: premium_from_revenue | B11: Implied premium: EV / Revenue | C11: percent
A12: premium_from_ebitda | B12: Implied premium: EV / EBITDA | C12: percent

Sheet Rules
A1: Table | B1: Target | C1: When | D1: Formula | E1: Status
A2: multiples | B2: value | C2: line = ev | D2: deal.ev | E2: ok
A3: multiples | B3: value | C3: line = revenue | D3: deal.target_revenue | E3: ok
A4: multiples | B4: value | C4: line = ebitda | D4: deal.target_ebitda | E4: ok
A5: multiples | B5: value | C5: line = ebitda_margin | D5: ebitda / revenue | E5: ok
A6: multiples | B6: value | C6: line = ev_revenue | D6: ev / revenue | E6: ok
A7: multiples | B7: value | C7: line = ev_ebitda | D7: ev / ebitda | E7: ok
A8: multiples | B8: value | C8: line = premium_1d | D8: deal.premium_1d | E8: ok
A9: multiples | B9: value | C9: line = premium_30d | D9: deal.premium_30d | E9: ok
A10: summary | B10: value | C10: stat = low | D10: MIN(multiples.value) | E10: ok
A11: summary | B11: value | C11: stat = mean | D11: AVG(multiples.value) | E11: ok
A12: summary | B12: value | C12: stat = median | D12: MEDIAN(multiples.value) | E12: ok
... A27: implied | B27: value | C27: line = premium_from_ebitda | D27: price_from_ebitda / current_price - 1 | E27: ok
A29: Rules are what the model is made of; the cell formulas on the other sheets were compiled from them. Inputs are blue, formulas black.
