Workbook

Sheet AI cycle vs prior cycles
A1: 2026E big-4 capex
A2: line | B2: FY2026
A3: Big-4 hyperscaler capex ($B) | B3: ='Scale hyperscaler capex vs GDP'!I2 -> 747.5
A5: 2026E capex, % of GDP
A6: line | B6: FY2026
A7: Capex as % of US GDP | B7: ='Scale hyperscaler capex vs GDP'!I6 -> 0.02334114
A9: 2027E big-4 capex
A10: line | B10: FY2027
A11: Big-4 hyperscaler capex ($B) | B11: ='Scale hyperscaler capex vs GDP'!J2 -> 1009.125
A13: 2027E capex, % of GDP
A14: line | B14: FY2027
A15: Capex as % of US GDP | B15: ='Scale hyperscaler capex vs GDP'!J6 -> 0.030153625
A17: Scale: peak annual investment, % of US GDP
A18: line | B18: Housing boom (2005) | C18: Railroads (Gilded Age peak) | D18: Electrification (1930) | E18: Interstate highways (1964) | F18: Telecom / fiber (2000) | G18: Apollo program (1966) | H18: AI hyperscaler capex 2025 | I18: AI hyperscaler capex 2026E | J18: AI hyperscaler capex 2027E
A19: Peak annual spend, % of US GDP | B19: ='Scale and speed peak investment'!B2 -> 0.066 | C19: ='Scale and speed peak investment'!C2 -> 0.06 | D19: ='Scale and speed peak investment'!D2 -> 0.026 | E19: ='Scale and speed peak investment'!E2 -> 0.02 | F19: ='Scale and speed peak investment'!F2 -> 0.012 | G19: ='Scale and speed peak investment'!G2 -> 0.007 | H19: ='Scale and speed peak investment'!H2 -> 0.013442623 | I19: ='Scale and speed peak investment'!I2 -> 0.02334114 | J19: ='Scale and speed peak investment'!J2 -> 0.030153625
A38: AI capex as % of GDP, 2019–2027E
A39: line | B39: FY2019 | C39: FY2020 | D39: FY2021 | E39: FY2022 | F39: FY2023 | G39: FY2024 | H39: FY2025 | I39: FY2026 | J39: FY2027
A40: Capex as % of US GDP | B40: ='Scale hyperscaler capex vs GDP'!B6 -> 0.0032497679 | C40: ='Scale hyperscaler capex vs GDP'!C6 -> 0.0045893041 | D40: ='Scale hyperscaler capex vs GDP'!D6 -> 0.0053629492 | E40: ='Scale hyperscaler capex vs GDP'!E6 -> 0.0058445803 | F40: ='Scale hyperscaler capex vs GDP'!F6 -> 0.005302839 | G40: ='Scale hyperscaler capex vs GDP'!G6 -> 0.0078122323 | H40: ='Scale hyperscaler capex vs GDP'!H6 -> 0.013442623 | I40: ='Scale hyperscaler capex vs GDP'!I6 -> 0.02334114 | J40: ='Scale hyperscaler capex vs GDP'!J6 -> 0.030153625
A59: Speed: years to ~40% US adoption
A60: line | B60: Generative AI (ChatGPT, Nov 2022) | C60: Internet (commercial, 1995) | D60: Personal computer (IBM PC, 1981)
A61: Years to reach ~40% adoption | B61: ='Speed adoption vs the PC and th'!B3 -> 2 | C61: ='Speed adoption vs the PC and th'!C3 -> 5 | D61: ='Speed adoption vs the PC and th'!D3 -> 12
A80: Size: bellwether market cap as % of GDP, by cycle year
A81: line | B81: Yr 0 | C81: Yr 1 | D81: Yr 2 | E81: Yr 3 | F81: Yr 4 | G81: Yr 5 | H81: Yr 6 | I81: Yr 7
A82: Cisco market cap, % of GDP | B82: ='Size Nvidia vs Cisco, aligned b'!B6 -> 0.0011518325 | C82: ='Size Nvidia vs Cisco, aligned b'!C6 -> 0.0042487303 | D82: ='Size Nvidia vs Cisco, aligned b'!D6 -> 0.0064467242 | E82: ='Size Nvidia vs Cisco, aligned b'!E6 -> 0.011729008 | F82: ='Size Nvidia vs Cisco, aligned b'!F6 -> 0.022780604 | G82: ='Size Nvidia vs Cisco, aligned b'!G6 -> 0.047478295 | H82: ='Size Nvidia vs Cisco, aligned b'!H6 -> 0.013069363 | I82: ='Size Nvidia vs Cisco, aligned b'!I6 -> 0.0089795172
A83: Nvidia market cap, % of GDP | B83: ='Size Nvidia vs Cisco, aligned b'!B7 -> 0.013842427 | C83: ='Size Nvidia vs Cisco, aligned b'!C7 -> 0.044009956 | D83: ='Size Nvidia vs Cisco, aligned b'!D7 -> 0.11272914 | E83: ='Size Nvidia vs Cisco, aligned b'!E7 -> 0.14852459 | F83: ='Size Nvidia vs Cisco, aligned b'!F7 -> 0.16924278 | G83: ='Size Nvidia vs Cisco, aligned b'!G7 | H83: ='Size Nvidia vs Cisco, aligned b'!H7 | I83: ='Size Nvidia vs Cisco, aligned b'!I7
A102: Every cell on this sheet refers to the statement sheets; edit inputs there (blue) and this dashboard follows.

Sheet Scale
A1: 2026 capex guidance by company, midpoint $B (edit any cell) | B1: Inputs: edit the blue cells on the '2026 capex guidance by company' sheet; this table follows them.
A2: company | B2: 2026 capex guidance, midpoint ($B) | C2: Share of big-4 total
A3: Amazon | B3: ='2026 capex guidance by company'!B2 -> 220 | C3: ='2026 capex guidance by company'!B3 -> 0.29431438
A4: Alphabet | B4: ='2026 capex guidance by company'!C2 -> 200 | C4: ='2026 capex guidance by company'!C3 -> 0.26755853
A5: Microsoft | B5: ='2026 capex guidance by company'!D2 -> 190 | C5: ='2026 capex guidance by company'!D3 -> 0.2541806
A6: Meta | B6: ='2026 capex guidance by company'!E2 -> 137.5 | C6: ='2026 capex guidance by company'!E3 -> 0.18394649
A8: 2026 guidance by company ($B)
A9: line | B9: Amazon | C9: Alphabet | D9: Microsoft | E9: Meta
A10: 2026 capex guidance, midpoint ($B) | B10: ='2026 capex guidance by company'!B2 -> 220 | C10: ='2026 capex guidance by company'!C2 -> 200 | D10: ='2026 capex guidance by company'!D2 -> 190 | E10: ='2026 capex guidance by company'!E2 -> 137.5
A29: Hyperscaler capex vs GDP (edit 2027 growth, GDP growth or history) | B29: Inputs: edit the blue cells on the 'Scale hyperscaler capex vs GDP' sheet; this table follows them.
A30: line | B30: FY2019 | C30: FY2020 | D30: FY2021 | E30: FY2022 | F30: FY2023 | G30: FY2024 | H30: FY2025 | I30: FY2026 | J30: FY2027
A31: Big-4 hyperscaler capex ($B) | B31: ='Scale hyperscaler capex vs GDP'!B2 -> 70 | C31: ='Scale hyperscaler capex vs GDP'!C2 -> 98 | D31: ='Scale hyperscaler capex vs GDP'!D2 -> 127 | E31: ='Scale hyperscaler capex vs GDP'!E2 -> 152 | F31: ='Scale hyperscaler capex vs GDP'!F2 -> 147 | G31: ='Scale hyperscaler capex vs GDP'!G2 -> 228 | H31: ='Scale hyperscaler capex vs GDP'!H2 -> 410 | I31: ='Scale hyperscaler capex vs GDP'!I2 -> 747.5 | J31: ='Scale hyperscaler capex vs GDP'!J2 -> 1009.125
A32: Capex growth YoY | B32: ='Scale hyperscaler capex vs GDP'!B3 | C32: ='Scale hyperscaler capex vs GDP'!C3 -> 0.4 | D32: ='Scale hyperscaler capex vs GDP'!D3 -> 0.29591837 | E32: ='Scale hyperscaler capex vs GDP'!E3 -> 0.19685039 | F32: ='Scale hyperscaler capex vs GDP'!F3 -> -0.032894737 | G32: ='Scale hyperscaler capex vs GDP'!G3 -> 0.55102041 | H32: ='Scale hyperscaler capex vs GDP'!H3 -> 0.79824561 | I32: ='Scale hyperscaler capex vs GDP'!I3 -> 0.82317073 | J32: ='Scale hyperscaler capex vs GDP'!J3 -> 0.35
A33: US nominal GDP ($B) | B33: ='Scale hyperscaler capex vs GDP'!B4 -> 21540 | C33: ='Scale hyperscaler capex vs GDP'!C4 -> 21354 | D33: ='Scale hyperscaler capex vs GDP'!D4 -> 23681 | E33: ='Scale hyperscaler capex vs GDP'!E4 -> 26007 | F33: ='Scale hyperscaler capex vs GDP'!F4 -> 27721 | G33: ='Scale hyperscaler capex vs GDP'!G4 -> 29185 | H33: ='Scale hyperscaler capex vs GDP'!H4 -> 30500 | I33: ='Scale hyperscaler capex vs GDP'!I4 -> 32025 | J33: ='Scale hyperscaler capex vs GDP'!J4 -> 33466.125
A34: Nominal GDP growth | B34: ='Scale hyperscaler capex vs GDP'!B5 | C34: ='Scale hyperscaler capex vs GDP'!C5 -> -0.0086350975 | D34: ='Scale hyperscaler capex vs GDP'!D5 -> 0.10897256 | E34: ='Scale hyperscaler capex vs GDP'!E5 -> 0.098222203 | F34: ='Scale hyperscaler capex vs GDP'!F5 -> 0.065905333 | G34: ='Scale hyperscaler capex vs GDP'!G5 -> 0.052811948 | H34: ='Scale hyperscaler capex vs GDP'!H5 -> 0.045057392 | I34: ='Scale hyperscaler capex vs GDP'!I5 -> 0.05 | J34: ='Scale hyperscaler capex vs GDP'!J5 -> 0.045
A35: Capex as % of US GDP | B35: ='Scale hyperscaler capex vs GDP'!B6 -> 0.0032497679 | C35: ='Scale hyperscaler capex vs GDP'!C6 -> 0.0045893041 | D35: ='Scale hyperscaler capex vs GDP'!D6 -> 0.0053629492 | E35: ='Scale hyperscaler capex vs GDP'!E6 -> 0.0058445803 | F35: ='Scale hyperscaler capex vs GDP'!F6 -> 0.005302839 | G35: ='Scale hyperscaler capex vs GDP'!G6 -> 0.0078122323 | H35: ='Scale hyperscaler capex vs GDP'!H6 -> 0.013442623 | I35: ='Scale hyperscaler capex vs GDP'!I6 -> 0.02334114 | J35: ='Scale hyperscaler capex vs GDP'!J6 -> 0.030153625
A37: Big-4 hyperscaler capex ($B)
A38: line | B38: FY2019 | C38: FY2020 | D38: FY2021 | E38: FY2022 | F38: FY2023 | G38: FY2024 | H38: FY2025 | I38: FY2026 | J38: FY2027
A39: Big-4 hyperscaler capex ($B) | B39: ='Scale hyperscaler capex vs GDP'!B2 -> 70 | C39: ='Scale hyperscaler capex vs GDP'!C2 -> 98 | D39: ='Scale hyperscaler capex vs GDP'!D2 -> 127 | E39: ='Scale hyperscaler capex vs GDP'!E2 -> 152 | F39: ='Scale hyperscaler capex vs GDP'!F2 -> 147 | G39: ='Scale hyperscaler capex vs GDP'!G2 -> 228 | H39: ='Scale hyperscaler capex vs GDP'!H2 -> 410 | I39: ='Scale hyperscaler capex vs GDP'!I2 -> 747.5 | J39: ='Scale hyperscaler capex vs GDP'!J2 -> 1009.125
A58: Capex % of GDP and growth
A59: line | B59: FY2019 | C59: FY2020 | D59: FY2021 | E59: FY2022 | F59: FY2023 | G59: FY2024 | H59: FY2025 | I59: FY2026 | J59: FY2027
A60: Capex as % of US GDP | B60: ='Scale hyperscaler capex vs GDP'!B6 -> 0.0032497679 | C60: ='Scale hyperscaler capex vs GDP'!C6 -> 0.0045893041 | D60: ='Scale hyperscaler capex vs GDP'!D6 -> 0.0053629492 | E60: ='Scale hyperscaler capex vs GDP'!E6 -> 0.0058445803 | F60: ='Scale hyperscaler capex vs GDP'!F6 -> 0.005302839 | G60: ='Scale hyperscaler capex vs GDP'!G6 -> 0.0078122323 | H60: ='Scale hyperscaler capex vs GDP'!H6 -> 0.013442623 | I60: ='Scale hyperscaler capex vs GDP'!I6 -> 0.02334114 | J60: ='Scale hyperscaler capex vs GDP'!J6 -> 0.030153625
A61: Capex growth YoY | B61: ='Scale hyperscaler capex vs GDP'!B3 | C61: ='Scale hyperscaler capex vs GDP'!C3 -> 0.4 | D61: ='Scale hyperscaler capex vs GDP'!D3 -> 0.29591837 | E61: ='Scale hyperscaler capex vs GDP'!E3 -> 0.19685039 | F61: ='Scale hyperscaler capex vs GDP'!F3 -> -0.032894737 | G61: ='Scale hyperscaler capex vs GDP'!G3 -> 0.55102041 | H61: ='Scale hyperscaler capex vs GDP'!H3 -> 0.79824561 | I61: ='Scale hyperscaler capex vs GDP'!I3 -> 0.82317073 | J61: ='Scale hyperscaler capex vs GDP'!J3 -> 0.35
A80: Peak investment by cycle (edit prior-cycle estimates) | B80: Inputs: edit the blue cells on the 'Scale and speed peak investment' sheet; this table follows them.
A81: cycle | B81: Peak annual spend, % of US GDP | C81: Fastest build-up, pp of GDP added per year | D81: AI 2027E ÷ this peak (x)
A82: Housing boom (2005) | B82: ='Scale and speed peak investment'!B2 -> 0.066 | C82: ='Scale and speed peak investment'!B3 -> 0.5 | D82: ='Scale and speed peak investment'!B4 -> 0.45687311
A83: Railroads (Gilded Age peak) | B83: ='Scale and speed peak investment'!C2 -> 0.06 | C83: ='Scale and speed peak investment'!C3 | D83: ='Scale and speed peak investment'!C4 -> 0.50256042
A84: Electrification (1930) | B84: ='Scale and speed peak investment'!D2 -> 0.026 | C84: ='Scale and speed peak investment'!D3 | D84: ='Scale and speed peak investment'!D4 -> 1.1597548
A85: Interstate highways (1964) | B85: ='Scale and speed peak investment'!E2 -> 0.02 | C85: ='Scale and speed peak investment'!E3 | D85: ='Scale and speed peak investment'!E4 -> 1.5076813
A86: Telecom / fiber (2000) | B86: ='Scale and speed peak investment'!F2 -> 0.012 | C86: ='Scale and speed peak investment'!F3 -> 0.15 | D86: ='Scale and speed peak investment'!F4 -> 2.5128021
A87: Apollo program (1966) | B87: ='Scale and speed peak investment'!G2 -> 0.007 | C87: ='Scale and speed peak investment'!G3 | D87: ='Scale and speed peak investment'!G4 -> 4.3076608
A88: AI hyperscaler capex 2025 | B88: ='Scale and speed peak investment'!H2 -> 0.013442623 | C88: ='Scale and speed peak investment'!H3 | D88: ='Scale and speed peak investment'!H4 -> 2.2431356
A89: AI hyperscaler capex 2026E | B89: ='Scale and speed peak investment'!I2 -> 0.02334114 | C89: ='Scale and speed peak investment'!I3 | D89: ='Scale and speed peak investment'!I4 -> 1.291866
A90: AI hyperscaler capex 2027E | B90: ='Scale and speed peak investment'!J2 -> 0.030153625 | C90: ='Scale and speed peak investment'!J3 -> 0.83555013 | D90: ='Scale and speed peak investment'!J4 -> 1
A92: Speed of build-up: pp of GDP added per year at the fastest stretch
A93: line | B93: Telecom / fiber (2000) | C93: Housing boom (2005) | D93: AI hyperscaler capex 2027E
A94: Fastest build-up, pp of GDP added per year | B94: ='Scale and speed peak investment'!F3 -> 0.15 | C94: ='Scale and speed peak investment'!B3 -> 0.5 | D94: ='Scale and speed peak investment'!J3 -> 0.83555013
A113: Every cell on this sheet refers to the statement sheets; edit inputs there (blue) and this dashboard follows.

Sheet Speed
A1: Adoption, US adults 18–64 (edit any input) | B1: Inputs: edit the blue cells on the 'Speed adoption vs the PC and th' sheet; this table follows them.
A2: tech | B2: US adults using it, 2–3 yrs after launch | C2: Years to reach ~40% adoption | D2: Adoption 20 yrs after launch | E2: Times slower than GenAI to ~40% (x)
A3: Generative AI (ChatGPT, Nov 2022) | B3: ='Speed adoption vs the PC and th'!B2 -> 0.446 | C3: ='Speed adoption vs the PC and th'!B3 -> 2 | D3: ='Speed adoption vs the PC and th'!B4 | E3: ='Speed adoption vs the PC and th'!B5 -> 1
A4: Internet (commercial, 1995) | B4: ='Speed adoption vs the PC and th'!C2 -> 0.21 | C4: ='Speed adoption vs the PC and th'!C3 -> 5 | D4: ='Speed adoption vs the PC and th'!C4 -> 0.75 | E4: ='Speed adoption vs the PC and th'!C5 -> 2.5
A5: Personal computer (IBM PC, 1981) | B5: ='Speed adoption vs the PC and th'!D2 -> 0.2 | C5: ='Speed adoption vs the PC and th'!D3 -> 12 | D5: ='Speed adoption vs the PC and th'!D4 -> 0.66 | E5: ='Speed adoption vs the PC and th'!D5 -> 6
A7: Share of US adults using it 2–3 years after launch
A8: line | B8: Generative AI (ChatGPT, Nov 2022) | C8: Internet (commercial, 1995) | D8: Personal computer (IBM PC, 1981)
A9: US adults using it, 2–3 yrs after launch | B9: ='Speed adoption vs the PC and th'!B2 -> 0.446 | C9: ='Speed adoption vs the PC and th'!C2 -> 0.21 | D9: ='Speed adoption vs the PC and th'!D2 -> 0.2
A28: Years to ~40% adoption
A29: line | B29: Generative AI (ChatGPT, Nov 2022) | C29: Internet (commercial, 1995) | D29: Personal computer (IBM PC, 1981)
A30: Years to reach ~40% adoption | B30: ='Speed adoption vs the PC and th'!B3 -> 2 | C30: ='Speed adoption vs the PC and th'!C3 -> 5 | D30: ='Speed adoption vs the PC and th'!D3 -> 12
A49: Months to 100M users (edit) | B49: Inputs: edit the blue cells on the 'Speed months to 100M users' sheet; this table follows them.
A50: product | B50: Months to 100M users | C50: Times slower than ChatGPT (x)
A51: ChatGPT | B51: ='Speed months to 100M users'!B2 -> 2 | C51: ='Speed months to 100M users'!B3 -> 1
A52: TikTok | B52: ='Speed months to 100M users'!C2 -> 9 | C52: ='Speed months to 100M users'!C3 -> 4.5
A53: Instagram | B53: ='Speed months to 100M users'!D2 -> 30 | C53: ='Speed months to 100M users'!D3 -> 15
A55: Months to 100M users
A56: line | B56: ChatGPT | C56: TikTok | D56: Instagram
A57: Months to 100M users | B57: ='Speed months to 100M users'!B2 -> 2 | C57: ='Speed months to 100M users'!C2 -> 9 | D57: ='Speed months to 100M users'!D2 -> 30
A76: Every cell on this sheet refers to the statement sheets; edit inputs there (blue) and this dashboard follows.

Sheet Size
A1: Bellwether market cap by cycle year ($B)
A2: line | B2: Yr 0 | C2: Yr 1 | D2: Yr 2 | E2: Yr 3 | F2: Yr 4 | G2: Yr 5 | H2: Yr 6 | I2: Yr 7
A3: Cisco market cap ($B), yr 0 = FY1995 | B3: ='Size Nvidia vs Cisco, aligned b'!B2 -> 8.8 | C3: ='Size Nvidia vs Cisco, aligned b'!C2 -> 34.3 | D3: ='Size Nvidia vs Cisco, aligned b'!D2 -> 55.3 | E3: ='Size Nvidia vs Cisco, aligned b'!E2 -> 106.3 | F3: ='Size Nvidia vs Cisco, aligned b'!F2 -> 219.4 | G3: ='Size Nvidia vs Cisco, aligned b'!G2 -> 486.7 | H3: ='Size Nvidia vs Cisco, aligned b'!H2 -> 138.3 | I3: ='Size Nvidia vs Cisco, aligned b'!I2 -> 98.2
A4: Nvidia market cap ($B), yr 0 = 2022 | B4: ='Size Nvidia vs Cisco, aligned b'!B3 -> 360 | C4: ='Size Nvidia vs Cisco, aligned b'!C3 -> 1220 | D4: ='Size Nvidia vs Cisco, aligned b'!D3 -> 3290 | E4: ='Size Nvidia vs Cisco, aligned b'!E3 -> 4530 | F4: ='Size Nvidia vs Cisco, aligned b'!F3 -> 5420 | G4: ='Size Nvidia vs Cisco, aligned b'!G3 | H4: ='Size Nvidia vs Cisco, aligned b'!H3 | I4: ='Size Nvidia vs Cisco, aligned b'!I3
A23: Market cap as % of US GDP
A24: line | B24: Yr 0 | C24: Yr 1 | D24: Yr 2 | E24: Yr 3 | F24: Yr 4 | G24: Yr 5 | H24: Yr 6 | I24: Yr 7
A25: Cisco market cap, % of GDP | B25: ='Size Nvidia vs Cisco, aligned b'!B6 -> 0.0011518325 | C25: ='Size Nvidia vs Cisco, aligned b'!C6 -> 0.0042487303 | D25: ='Size Nvidia vs Cisco, aligned b'!D6 -> 0.0064467242 | E25: ='Size Nvidia vs Cisco, aligned b'!E6 -> 0.011729008 | F25: ='Size Nvidia vs Cisco, aligned b'!F6 -> 0.022780604 | G25: ='Size Nvidia vs Cisco, aligned b'!G6 -> 0.047478295 | H25: ='Size Nvidia vs Cisco, aligned b'!H6 -> 0.013069363 | I25: ='Size Nvidia vs Cisco, aligned b'!I6 -> 0.0089795172
A26: Nvidia market cap, % of GDP | B26: ='Size Nvidia vs Cisco, aligned b'!B7 -> 0.013842427 | C26: ='Size Nvidia vs Cisco, aligned b'!C7 -> 0.044009956 | D26: ='Size Nvidia vs Cisco, aligned b'!D7 -> 0.11272914 | E26: ='Size Nvidia vs Cisco, aligned b'!E7 -> 0.14852459 | F26: ='Size Nvidia vs Cisco, aligned b'!F7 -> 0.16924278 | G26: ='Size Nvidia vs Cisco, aligned b'!G7 | H26: ='Size Nvidia vs Cisco, aligned b'!H7 | I26: ='Size Nvidia vs Cisco, aligned b'!I7
A45: Nvidia vs Cisco, aligned by years from cycle start (edit market caps) | B45: Inputs: edit the blue cells on the 'Size Nvidia vs Cisco, aligned b' sheet; this table follows them.
A46: line | B46: Yr 0 | C46: Yr 1 | D46: Yr 2 | E46: Yr 3 | F46: Yr 4 | G46: Yr 5 | H46: Yr 6 | I46: Yr 7
A47: Cisco market cap ($B), yr 0 = FY1995 | B47: ='Size Nvidia vs Cisco, aligned b'!B2 -> 8.8 | C47: ='Size Nvidia vs Cisco, aligned b'!C2 -> 34.3 | D47: ='Size Nvidia vs Cisco, aligned b'!D2 -> 55.3 | E47: ='Size Nvidia vs Cisco, aligned b'!E2 -> 106.3 | F47: ='Size Nvidia vs Cisco, aligned b'!F2 -> 219.4 | G47: ='Size Nvidia vs Cisco, aligned b'!G2 -> 486.7 | H47: ='Size Nvidia vs Cisco, aligned b'!H2 -> 138.3 | I47: ='Size Nvidia vs Cisco, aligned b'!I2 -> 98.2
A48: Nvidia market cap ($B), yr 0 = 2022 | B48: ='Size Nvidia vs Cisco, aligned b'!B3 -> 360 | C48: ='Size Nvidia vs Cisco, aligned b'!C3 -> 1220 | D48: ='Size Nvidia vs Cisco, aligned b'!D3 -> 3290 | E48: ='Size Nvidia vs Cisco, aligned b'!E3 -> 4530 | F48: ='Size Nvidia vs Cisco, aligned b'!F3 -> 5420 | G48: ='Size Nvidia vs Cisco, aligned b'!G3 | H48: ='Size Nvidia vs Cisco, aligned b'!H3 | I48: ='Size Nvidia vs Cisco, aligned b'!I3
A49: US GDP, Cisco year ($B) | B49: ='Size Nvidia vs Cisco, aligned b'!B4 -> 7640 | C49: ='Size Nvidia vs Cisco, aligned b'!C4 -> 8073 | D49: ='Size Nvidia vs Cisco, aligned b'!D4 -> 8578 | E49: ='Size Nvidia vs Cisco, aligned b'!E4 -> 9063 | F49: ='Size Nvidia vs Cisco, aligned b'!F4 -> 9631 | G49: ='Size Nvidia vs Cisco, aligned b'!G4 -> 10251 | H49: ='Size Nvidia vs Cisco, aligned b'!H4 -> 10582 | I49: ='Size Nvidia vs Cisco, aligned b'!I4 -> 10936
A50: US GDP, Nvidia year ($B) | B50: ='Size Nvidia vs Cisco, aligned b'!B5 -> 26007 | C50: ='Size Nvidia vs Cisco, aligned b'!C5 -> 27721 | D50: ='Size Nvidia vs Cisco, aligned b'!D5 -> 29185 | E50: ='Size Nvidia vs Cisco, aligned b'!E5 -> 30500 | F50: ='Size Nvidia vs Cisco, aligned b'!F5 -> 32025 | G50: ='Size Nvidia vs Cisco, aligned b'!G5 | H50: ='Size Nvidia vs Cisco, aligned b'!H5 | I50: ='Size Nvidia vs Cisco, aligned b'!I5
A51: Cisco market cap, % of GDP | B51: ='Size Nvidia vs Cisco, aligned b'!B6 -> 0.0011518325 | C51: ='Size Nvidia vs Cisco, aligned b'!C6 -> 0.0042487303 | D51: ='Size Nvidia vs Cisco, aligned b'!D6 -> 0.0064467242 | E51: ='Size Nvidia vs Cisco, aligned b'!E6 -> 0.011729008 | F51: ='Size Nvidia vs Cisco, aligned b'!F6 -> 0.022780604 | G51: ='Size Nvidia vs Cisco, aligned b'!G6 -> 0.047478295 | H51: ='Size Nvidia vs Cisco, aligned b'!H6 -> 0.013069363 | I51: ='Size Nvidia vs Cisco, aligned b'!I6 -> 0.0089795172
A52: Nvidia market cap, % of GDP | B52: ='Size Nvidia vs Cisco, aligned b'!B7 -> 0.013842427 | C52: ='Size Nvidia vs Cisco, aligned b'!C7 -> 0.044009956 | D52: ='Size Nvidia vs Cisco, aligned b'!D7 -> 0.11272914 | E52: ='Size Nvidia vs Cisco, aligned b'!E7 -> 0.14852459 | F52: ='Size Nvidia vs Cisco, aligned b'!F7 -> 0.16924278 | G52: ='Size Nvidia vs Cisco, aligned b'!G7 | H52: ='Size Nvidia vs Cisco, aligned b'!H7 | I52: ='Size Nvidia vs Cisco, aligned b'!I7
A53: Nvidia ÷ Cisco at same cycle year (x) | B53: ='Size Nvidia vs Cisco, aligned b'!B8 -> 40.909091 | C53: ='Size Nvidia vs Cisco, aligned b'!C8 -> 35.568513 | D53: ='Size Nvidia vs Cisco, aligned b'!D8 -> 59.493671 | E53: ='Size Nvidia vs Cisco, aligned b'!E8 -> 42.61524 | F53: ='Size Nvidia vs Cisco, aligned b'!F8 -> 24.703737 | G53: ='Size Nvidia vs Cisco, aligned b'!G8 | H53: ='Size Nvidia vs Cisco, aligned b'!H8 | I53: ='Size Nvidia vs Cisco, aligned b'!I8
A55: Every cell on this sheet refers to the statement sheets; edit inputs there (blue) and this dashboard follows.

Sheet Scale hyperscaler capex vs GDP
A1: line | B1: FY2019 | C1: FY2020 | D1: FY2021 | E1: FY2022 | F1: FY2023 | G1: FY2024 | H1: FY2025 | I1: FY2026 | J1: FY2027
A2: Big-4 hyperscaler capex ($B) | B2: 70 | C2: 98 | D2: 127 | E2: 152 | F2: 147 | G2: 228 | H2: 410 | I2: =SUM('2026 capex guidance by company'!B2:E2) -> 747.5 | J2: =(I2*(1+J3)) -> 1009.125
A3: Capex growth YoY | B3: =IFERROR(((B2/0)-1),"") | C3: =IFERROR(((C2/B2)-1),"") -> 0.4 | D3: =IFERROR(((D2/C2)-1),"") -> 0.29591837 | E3: =IFERROR(((E2/D2)-1),"") -> 0.19685039 | F3: =IFERROR(((F2/E2)-1),"") -> -0.032894737 | G3: =IFERROR(((G2/F2)-1),"") -> 0.55102041 | H3: =IFERROR(((H2/G2)-1),"") -> 0.79824561 | I3: =IFERROR(((I2/H2)-1),"") -> 0.82317073 | J3: 0.35
A4: US nominal GDP ($B) | B4: 21540 | C4: 21354 | D4: 23681 | E4: 26007 | F4: 27721 | G4: 29185 | H4: 30500 | I4: =(H4*(1+I5)) -> 32025 | J4: =(I4*(1+J5)) -> 33466.125
A5: Nominal GDP growth | B5: =IFERROR(((B4/0)-1),"") | C5: =IFERROR(((C4/B4)-1),"") -> -0.0086350975 | D5: =IFERROR(((D4/C4)-1),"") -> 0.10897256 | E5: =IFERROR(((E4/D4)-1),"") -> 0.098222203 | F5: =IFERROR(((F4/E4)-1),"") -> 0.065905333 | G5: =IFERROR(((G4/F4)-1),"") -> 0.052811948 | H5: =IFERROR(((H4/G4)-1),"") -> 0.045057392 | I5: 0.05 | J5: 0.045
A6: Capex as % of US GDP | B6: =(B2/B4) -> 0.0032497679 | C6: =(C2/C4) -> 0.0045893041 | D6: =(D2/D4) -> 0.0053629492 | E6: =(E2/E4) -> 0.0058445803 | F6: =(F2/F4) -> 0.005302839 | G6: =(G2/G4) -> 0.0078122323 | H6: =(H2/H4) -> 0.013442623 | I6: =(I2/I4) -> 0.02334114 | J6: =(J2/J4) -> 0.030153625

Sheet 2026 capex guidance by company
A1: line | B1: Amazon | C1: Alphabet | D1: Microsoft | E1: Meta
A2: 2026 capex guidance, midpoint ($B) | B2: 220 | C2: 200 | D2: 190 | E2: 137.5
A3: Share of big-4 total | B3: =(B2/SUM(B2:E2)) -> 0.29431438 | C3: =(C2/SUM(B2:E2)) -> 0.26755853 | D3: =(D2/SUM(B2:E2)) -> 0.2541806 | E3: =(E2/SUM(B2:E2)) -> 0.18394649

Sheet Speed adoption vs the PC and th
A1: line | B1: Generative AI (ChatGPT, Nov 2022) | C1: Internet (commercial, 1995) | D1: Personal computer (IBM PC, 1981)
A2: US adults using it, 2–3 yrs after launch | B2: 0.446 | C2: 0.21 | D2: 0.2
A3: Years to reach ~40% adoption | B3: 2 | C3: 5 | D3: 12
A4: Adoption 20 yrs after launch | C4: 0.75 | D4: 0.66
A5: Times slower than GenAI to ~40% (x) | B5: =(B3/B3) -> 1 | C5: =(C3/B3) -> 2.5 | D5: =(D3/B3) -> 6

Sheet Speed months to 100M users
A1: line | B1: ChatGPT | C1: TikTok | D1: Instagram
A2: Months to 100M users | B2: 2 | C2: 9 | D2: 30
A3: Times slower than ChatGPT (x) | B3: =(B2/B2) -> 1 | C3: =(C2/B2) -> 4.5 | D3: =(D2/B2) -> 15

Sheet Size Nvidia vs Cisco, aligned b
A1: line | B1: Yr 0 | C1: Yr 1 | D1: Yr 2 | E1: Yr 3 | F1: Yr 4 | G1: Yr 5 | H1: Yr 6 | I1: Yr 7
A2: Cisco market cap ($B), yr 0 = FY1995 | B2: 8.8 | C2: 34.3 | D2: 55.3 | E2: 106.3 | F2: 219.4 | G2: 486.7 | H2: 138.3 | I2: 98.2
A3: Nvidia market cap ($B), yr 0 = 2022 | B3: 360 | C3: 1220 | D3: 3290 | E3: 4530 | F3: 5420
A4: US GDP, Cisco year ($B) | B4: 7640 | C4: 8073 | D4: 8578 | E4: 9063 | F4: 9631 | G4: 10251 | H4: 10582 | I4: 10936
A5: US GDP, Nvidia year ($B) | B5: ='Scale hyperscaler capex vs GDP'!E4 -> 26007 | C5: ='Scale hyperscaler capex vs GDP'!F4 -> 27721 | D5: ='Scale hyperscaler capex vs GDP'!G4 -> 29185 | E5: ='Scale hyperscaler capex vs GDP'!H4 -> 30500 | F5: ='Scale hyperscaler capex vs GDP'!I4 -> 32025
A6: Cisco market cap, % of GDP | B6: =IFERROR((B2/B4),"") -> 0.0011518325 | C6: =IFERROR((C2/C4),"") -> 0.0042487303 | D6: =IFERROR((D2/D4),"") -> 0.0064467242 | E6: =IFERROR((E2/E4),"") -> 0.011729008 | F6: =IFERROR((F2/F4),"") -> 0.022780604 | G6: =IFERROR((G2/G4),"") -> 0.047478295 | H6: =IFERROR((H2/H4),"") -> 0.013069363 | I6: =IFERROR((I2/I4),"") -> 0.0089795172
A7: Nvidia market cap, % of GDP | B7: =IFERROR((B3/B5),"") -> 0.013842427 | C7: =IFERROR((C3/C5),"") -> 0.044009956 | D7: =IFERROR((D3/D5),"") -> 0.11272914 | E7: =IFERROR((E3/E5),"") -> 0.14852459 | F7: =IFERROR((F3/F5),"") -> 0.16924278 | G7: =IFERROR((G3/G5),"") | H7: =IFERROR((H3/H5),"") | I7: =IFERROR((I3/I5),"")
A8: Nvidia ÷ Cisco at same cycle year (x) | B8: =IF(ISBLANK(B3),"",(B3/B2)) -> 40.909091 | C8: =IF(ISBLANK(C3),"",(C3/C2)) -> 35.568513 | D8: =IF(ISBLANK(D3),"",(D3/D2)) -> 59.493671 | E8: =IF(ISBLANK(E3),"",(E3/E2)) -> 42.61524 | F8: =IF(ISBLANK(F3),"",(F3/F2)) -> 24.703737 | G8: =IF(ISBLANK(G3),"",(G3/G2)) | H8: =IF(ISBLANK(H3),"",(H3/H2)) | I8: =IF(ISBLANK(I3),"",(I3/I2))

Sheet Scale and speed peak investment
A1: line | B1: Housing boom (2005) | C1: Railroads (Gilded Age peak) | D1: Electrification (1930) | E1: Interstate highways (1964) | F1: Telecom / fiber (2000) | G1: Apollo program (1966) | H1: AI hyperscaler capex 2025 | I1: AI hyperscaler capex 2026E | J1: AI hyperscaler capex 2027E
A2: Peak annual spend, % of US GDP | B2: 0.066 | C2: 0.06 | D2: 0.026 | E2: 0.02 | F2: 0.012 | G2: 0.007 | H2: ='Scale hyperscaler capex vs GDP'!H6 -> 0.013442623 | I2: ='Scale hyperscaler capex vs GDP'!I6 -> 0.02334114 | J2: ='Scale hyperscaler capex vs GDP'!J6 -> 0.030153625
A3: Fastest build-up, pp of GDP added per year | B3: 0.5 | F3: 0.15 | J3: =((('Scale hyperscaler capex vs GDP'!J6-'Scale hyperscaler capex vs GDP'!H6)/2)*100) -> 0.83555013
A4: AI 2027E ÷ this peak (x) | B4: =IFERROR((J2/B2),"") -> 0.45687311 | C4: =IFERROR((J2/C2),"") -> 0.50256042 | D4: =IFERROR((J2/D2),"") -> 1.1597548 | E4: =IFERROR((J2/E2),"") -> 1.5076813 | F4: =IFERROR((J2/F2),"") -> 2.5128021 | G4: =IFERROR((J2/G2),"") -> 4.3076608 | H4: =IFERROR((J2/H2),"") -> 2.2431356 | I4: =IFERROR((J2/I2),"") -> 1.291866 | J4: =IFERROR((J2/J2),"") -> 1

Sheet Periods
A1: ID | B1: Name | C1: Start | D1: End | E1: Frame | F1: Year | G1: Quarter | H1: Index
A2: fy2019 | B2: FY2019 | C2: 43466 | D2: 43830 | E2: hist | F2: 2019 | G2: Q1 2019 | H2: 0
A3: fy2020 | B3: FY2020 | C3: 43831 | D3: 44196 | E3: hist | F3: 2020 | G3: Q1 2020 | H3: 1
A4: fy2021 | B4: FY2021 | C4: 44197 | D4: 44561 | E4: hist | F4: 2021 | G4: Q1 2021 | H4: 2
A5: fy2022 | B5: FY2022 | C5: 44562 | D5: 44926 | E5: hist | F5: 2022 | G5: Q1 2022 | H5: 3
A6: fy2023 | B6: FY2023 | C6: 44927 | D6: 45291 | E6: hist | F6: 2023 | G6: Q1 2023 | H6: 4
A7: fy2024 | B7: FY2024 | C7: 45292 | D7: 45657 | E7: hist | F7: 2024 | G7: Q1 2024 | H7: 5
A8: fy2025 | B8: FY2025 | C8: 45658 | D8: 46022 | E8: hist | F8: 2025 | G8: Q1 2025 | H8: 6
A9: fy2026 | B9: FY2026 | C9: 46023 | D9: 46387 | E9: fcst | F9: 2026 | G9: Q1 2026 | H9: 7
A10: fy2027 | B10: FY2027 | C10: 46388 | D10: 46752 | E10: fcst | F10: 2027 | G10: Q1 2027 | H10: 8

Sheet Hyperscalers
A1: ID | B1: name
A2: amazon | B2: Amazon
A3: alphabet | B3: Alphabet
A4: microsoft | B4: Microsoft
A5: meta | B5: Meta

Sheet Investment cycles
A1: ID | B1: name
A2: housing | B2: Housing boom (2005)
A3: railroads | B3: Railroads (Gilded Age peak)
A4: electrification | B4: Electrification (1930)
A5: highways | B5: Interstate highways (1964)
A6: telecom | B6: Telecom / fiber (2000)
A7: apollo | B7: Apollo program (1966)
A8: ai_2025 | B8: AI hyperscaler capex 2025
A9: ai_2026 | B9: AI hyperscaler capex 2026E
A10: ai_2027 | B10: AI hyperscaler capex 2027E

Sheet Technologies
A1: ID | B1: name
A2: genai | B2: Generative AI (ChatGPT, Nov 2022)
A3: internet | B3: Internet (commercial, 1995)
A4: pc | B4: Personal computer (IBM PC, 1981)

Sheet Consumer products
A1: ID | B1: name
A2: chatgpt | B2: ChatGPT
A3: tiktok | B3: TikTok
A4: instagram | B4: Instagram

Sheet Years from cycle start
A1: ID | B1: name
A2: y0 | B2: Yr 0
A3: y1 | B3: Yr 1
A4: y2 | B4: Yr 2
A5: y3 | B5: Yr 3
A6: y4 | B6: Yr 4
A7: y5 | B7: Yr 5
A8: y6 | B8: Yr 6
A9: y7 | B9: Yr 7

Sheet Scale hyperscaler capex vs GDP 
A1: ID | B1: name | C1: format
A2: hyperscaler_capex | B2: Big-4 hyperscaler capex ($B)
A3: capex_growth | B3: Capex growth YoY | C3: percent
A4: gdp | B4: US nominal GDP ($B)
A5: gdp_growth | B5: Nominal GDP growth | C5: percent
A6: capex_pct_gdp | B6: Capex as % of US GDP | C6: percent

Sheet 2026 capex guidance by company 
A1: ID | B1: name | C1: format
A2: capex_2026 | B2: 2026 capex guidance, midpoint ($B)
A3: share | B3: Share of big-4 total | C3: percent

Sheet Speed adoption vs the PC an (2)
A1: ID | B1: name | C1: format
A2: early_adoption | B2: US adults using it, 2–3 yrs after launch | C2: percent
A3: years_to_40 | B3: Years to reach ~40% adoption
A4: adoption_20yr | B4: Adoption 20 yrs after launch | C4: percent
A5: slower_x | B5: Times slower than GenAI to ~40% (x)

Sheet Speed months to 100M users line
A1: ID | B1: name | C1: format
A2: months_to_100m | B2: Months to 100M users
A3: slower_x | B3: Times slower than ChatGPT (x)

Sheet Size Nvidia vs Cisco, align (2)
A1: ID | B1: name | C1: format
A2: cisco_mcap | B2: Cisco market cap ($B), yr 0 = FY1995
A3: nvda_mcap | B3: Nvidia market cap ($B), yr 0 = 2022
A4: cisco_gdp | B4: US GDP, Cisco year ($B)
A5: nvda_gdp | B5: US GDP, Nvidia year ($B)
A6: cisco_pct | B6: Cisco market cap, % of GDP | C6: percent
A7: nvda_pct | B7: Nvidia market cap, % of GDP | C7: percent
A8: nvda_vs_cisco | B8: Nvidia ÷ Cisco at same cycle year (x)

Sheet Scale and speed peak invest (2)
A1: ID | B1: name | C1: format
A2: peak_pct_gdp | B2: Peak annual spend, % of US GDP | C2: percent
A3: build_speed | B3: Fastest build-up, pp of GDP added per year
A4: ai_multiple | B4: AI 2027E ÷ this peak (x)

Sheet Rules
A1: Table | B1: Target | C1: When | D1: Formula | E1: Status
A2: capex | B2: value | C2: line = hyperscaler_capex, frame = fcst | D2: PREV(hyperscaler_capex) * (1 + capex_growth) | E2: ok
A3: capex | B3: value | C3: line = hyperscaler_capex, period = fy2026 | D3: SUM(guidance.capex_2026) | E3: ok
A4: capex | B4: value | C4: line = capex_growth | D4: IFERROR(hyperscaler_capex / PREV(hyperscaler_capex) - 1, BLANK) | E4: ok
A5: capex | B5: value | C5: line = gdp, frame = fcst | D5: PREV(gdp) * (1 + gdp_growth) | E5: ok
A6: capex | B6: value | C6: line = gdp_growth, frame = hist | D6: IFERROR(gdp / PREV(gdp) - 1, BLANK) | E6: ok
A7: capex | B7: value | C7: line = capex_pct_gdp | D7: hyperscaler_capex / gdp | E7: ok
A8: guidance | B8: value | C8: line = share | D8: capex_2026 / SUM(capex_2026[company=all]) | E8: ok
A9: speed | B9: value | C9: line = slower_x | D9: years_to_40 / years_to_40[tech=genai] | E9: ok
A10: users | B10: value | C10: line = slower_x | D10: months_to_100m / months_to_100m[product=chatgpt] | E10: ok
A11: size | B11: value | C11: line = nvda_gdp, yr = y0 | D11: capex.gdp[period=fy2022] | E11: ok
A12: size | B12: value | C12: line = nvda_gdp, yr = y1 | D12: capex.gdp[period=fy2023] | E12: ok
... A23: cycle_peaks | B23: value | C23: line = ai_multiple | D23: IFERROR(peak_pct_gdp[cycle=ai_2027] / peak_pct_gdp, BLANK) | E23: ok
A25: Rules are what the model is made of; the cell formulas on the other sheets were compiled from them. Inputs are blue, formulas black.
