Workbook

Sheet Meta comparable companies
A1: Market data as of 2026-09-21 (edit any cell) | B1: Inputs: edit the blue cells on the 'Market data' sheet; this table follows them.
A2: company | B2: Share price ($) | C2: Shares outstanding (M) | D2: Cash and investments | E2: Total debt
A3: Meta Platforms | B3: ='Market data'!B2 -> 741.25 | C3: ='Market data'!B3 -> 2550 | D3: ='Market data'!B4 -> 90260 | E3: ='Market data'!B5 -> 112320
A4: Alphabet | B4: ='Market data'!C2 -> 354.97 | C4: ='Market data'!C3 -> 12230 | D4: ='Market data'!C4 -> 242470 | E4: ='Market data'!C5 -> 120790
A5: Amazon | B5: ='Market data'!D2 -> 258.45 | C5: ='Market data'!D3 -> 10790 | D5: ='Market data'!D4 -> 122990 | E5: ='Market data'!D5 -> 251640
A6: Microsoft | B6: ='Market data'!E2 -> 501.61 | C6: ='Market data'!E3 -> 7430 | D6: ='Market data'!E4 -> 76840 | E6: ='Market data'!E5 -> 128810
A7: Netflix | B7: ='Market data'!F2 -> 71.79 | C7: ='Market data'!F3 -> 4160 | D7: ='Market data'!F4 -> 9130 | E7: ='Market data'!F5 -> 16650
A8: Pinterest | B8: ='Market data'!G2 -> 19.36 | C8: ='Market data'!G3 -> 566.31 | D8: ='Market data'!G4 -> 1270 | E8: ='Market data'!G5 -> 1200
A9: The Trade Desk | B9: ='Market data'!H2 -> 13.88 | C9: ='Market data'!H3 -> 472.8 | D9: ='Market data'!H4 -> 1490 | E9: ='Market data'!H5 -> 434.11
A11: Financial performance, LTM and NTM / forward proxy | B11: Inputs: edit the blue cells on the 'Comps' sheet; this table follows them.
A12: company | B12: Revenue LTM | C12: Revenue NTM / forward proxy | D12: Revenue growth LTM | E12: Revenue growth NTM | F12: EBITDA LTM | G12: EBITDA NTM / forward proxy | H12: EBITDA margin LTM | I12: EBITDA margin NTM | J12: EPS LTM ($) | K12: EPS NTM ($)
A13: Meta Platforms | B13: ='Comps'!B6 -> 228250 | C13: ='Comps'!B7 -> 277941 | D13: ='Comps'!B12 -> 0.13576426 | E13: ='Comps'!B13 -> 0.21770427 | F13: ='Comps'!B8 -> 109660 | G13: ='Comps'!B9 -> 180713 | H13: ='Comps'!B14 -> 0.48043812 | I13: ='Comps'!B15 -> 0.65018475 | J13: ='Comps'!B10 -> 26.54 | K13: ='Comps'!B11 -> 32.16
A14: Alphabet | B14: ='Comps'!C6 -> 445870 | C14: ='Comps'!C7 -> 552163 | D14: ='Comps'!C12 -> 0.10682759 | E14: ='Comps'!C13 -> 0.2383946 | F14: ='Comps'!C8 -> 173160 | G14: ='Comps'!C9 -> 294248 | H14: ='Comps'!C14 -> 0.38836432 | I14: ='Comps'!C15 -> 0.53290061 | J14: ='Comps'!C10 -> 19.93 | K14: ='Comps'!C11 -> 13.38
A15: Amazon | B15: ='Comps'!D6 -> 775680 | C15: ='Comps'!D7 -> 882911 | D15: ='Comps'!D12 -> 0.081961725 | E15: ='Comps'!D13 -> 0.13824129 | F15: ='Comps'!D8 -> 168910 | G15: ='Comps'!D9 -> 273394 | H15: ='Comps'!D14 -> 0.21775732 | I15: ='Comps'!D15 -> 0.30965069 | J15: ='Comps'!D10 -> 12.44 | K15: ='Comps'!D11 -> 9.2
A16: Microsoft | B16: ='Comps'!E6 -> 331840 | C16: ='Comps'!E7 -> 389938 | D16: ='Comps'!E12 -> 0.17789042 | E16: ='Comps'!E13 -> 0.17507835 | F16: ='Comps'!E8 -> 194240 | G16: ='Comps'!E9 -> 238986 | H16: ='Comps'!E14 -> 0.58534233 | I16: ='Comps'!E15 -> 0.61288205 | J16: ='Comps'!E10 -> 17.95 | K16: ='Comps'!E11 -> 19.76
A17: Netflix | B17: ='Comps'!F6 -> 48310 | C17: ='Comps'!F7 -> 54154 | D17: ='Comps'!F12 -> 0.069207445 | E17: ='Comps'!F13 -> 0.12096874 | F17: ='Comps'!F8 -> 14730 | G17: ='Comps'!F9 -> 20052 | H17: ='Comps'!F14 -> 0.30490582 | I17: ='Comps'!F15 -> 0.37027736 | J17: ='Comps'!F10 -> 3.17 | K17: ='Comps'!F11 -> 3.46
A18: Pinterest | B18: ='Comps'!G6 -> 4560 | C18: ='Comps'!G7 -> 4767 | D18: ='Comps'!G12 -> 0.080056845 | E18: ='Comps'!G13 -> 0.045394737 | F18: ='Comps'!G8 -> 316.56 | G18: ='Comps'!G9 -> 1704 | H18: ='Comps'!G14 -> 0.069421053 | I18: ='Comps'!G15 -> 0.35745752 | J18: ='Comps'!G10 -> 0.44 | K18: ='Comps'!G11 -> 2.26
A19: The Trade Desk | B19: ='Comps'!H6 -> 2990 | C19: ='Comps'!H7 -> 2553 | D19: ='Comps'!H12 -> 0.032458564 | E19: ='Comps'!H13 -> -0.14615385 | F19: ='Comps'!H8 -> 697.98 | G19: ='Comps'!H9 -> 719.6 | H19: ='Comps'!H14 -> 0.23343813 | I19: ='Comps'!H15 -> 0.28186447 | J19: ='Comps'!H10 -> 0.85 | K19: ='Comps'!H11 -> 0.94
A21: Valuation and trading multiples
A22: company | B22: Market cap | C22: Net debt (cash) | D22: Enterprise value | E22: EV / Revenue LTM | F22: EV / Revenue NTM | G22: EV / EBITDA LTM | H22: EV / EBITDA NTM | I22: P / E LTM | J22: P / E NTM
A23: Meta Platforms | B23: ='Comps'!B2 -> 1890187.5 | C23: ='Comps'!B3 -> 22060 | D23: ='Comps'!B4 -> 1912247.5 | E23: ='Comps'!B16 -> 8.3778642 | F23: ='Comps'!B17 -> 6.8800483 | G23: ='Comps'!B18 -> 17.437967 | H23: ='Comps'!B19 -> 10.581682 | I23: ='Comps'!B20 -> 27.92954 | J23: ='Comps'!B21 -> 23.048818
A24: Alphabet | B24: ='Comps'!C2 -> 4341283.1 | C24: ='Comps'!C3 -> -121680 | D24: ='Comps'!C4 -> 4219603.1 | E24: ='Comps'!C16 -> 9.463752 | F24: ='Comps'!C17 -> 7.6419519 | G24: ='Comps'!C18 -> 24.368232 | H24: ='Comps'!C19 -> 14.340295 | I24: ='Comps'!C20 -> 17.810838 | J24: ='Comps'!C21 -> 26.529895
A25: Amazon | B25: ='Comps'!D2 -> 2788675.5 | C25: ='Comps'!D3 -> 128650 | D25: ='Comps'!D4 -> 2917325.5 | E25: ='Comps'!D16 -> 3.760991 | F25: ='Comps'!D17 -> 3.3042124 | G25: ='Comps'!D18 -> 17.271479 | H25: ='Comps'!D19 -> 10.670774 | I25: ='Comps'!D20 -> 20.775723 | J25: ='Comps'!D21 -> 28.092391
A26: Microsoft | B26: ='Comps'!E2 -> 3726962.3 | C26: ='Comps'!E3 -> 51970 | D26: ='Comps'!E4 -> 3778932.3 | E26: ='Comps'!E16 -> 11.387814 | F26: ='Comps'!E17 -> 9.6911106 | G26: ='Comps'!E18 -> 19.454964 | H26: ='Comps'!E19 -> 15.812358 | I26: ='Comps'!E20 -> 27.944847 | J26: ='Comps'!E21 -> 25.385121
A27: Netflix | B27: ='Comps'!F2 -> 298646.4 | C27: ='Comps'!F3 -> 7520 | D27: ='Comps'!F4 -> 306166.4 | E27: ='Comps'!F16 -> 6.3375367 | F27: ='Comps'!F17 -> 5.6536248 | G27: ='Comps'!F18 -> 20.785227 | H27: ='Comps'!F19 -> 15.268622 | I27: ='Comps'!F20 -> 22.646688 | J27: ='Comps'!F21 -> 20.748555
A28: Pinterest | B28: ='Comps'!G2 -> 10963.762 | C28: ='Comps'!G3 -> -70 | D28: ='Comps'!G4 -> 10893.762 | E28: ='Comps'!G16 -> 2.3889828 | F28: ='Comps'!G17 -> 2.2852447 | G28: ='Comps'!G18 -> 34.412944 | H28: ='Comps'!G19 -> 6.3930526 | I28: ='Comps'!G20 -> 44 | J28: ='Comps'!G21 -> 8.5663717
A29: The Trade Desk | B29: ='Comps'!H2 -> 6562.464 | C29: ='Comps'!H3 -> -1055.89 | D29: ='Comps'!H4 -> 5506.574 | E29: ='Comps'!H16 -> 1.8416635 | F29: ='Comps'!H17 -> 2.1569033 | G29: ='Comps'!H18 -> 7.8893006 | H29: ='Comps'!H19 -> 7.6522707 | I29: ='Comps'!H20 -> 16.329412 | J29: ='Comps'!H21 -> 14.765957
A31: Peer statistics (Meta excluded)
A32: stat | B32: Revenue growth LTM | C32: Revenue growth NTM | D32: EBITDA margin LTM | E32: EBITDA margin NTM | F32: EV / Revenue LTM | G32: EV / Revenue NTM | H32: EV / EBITDA LTM | I32: EV / EBITDA NTM | J32: P / E LTM | K32: P / E NTM
A33: low | B33: ='Peer stats'!B12 -> 0.032458564 | C33: ='Peer stats'!B13 -> -0.14615385 | D33: ='Peer stats'!B14 -> 0.069421053 | E33: ='Peer stats'!B15 -> 0.28186447 | F33: ='Peer stats'!B16 -> 1.8416635 | G33: ='Peer stats'!B17 -> 2.1569033 | H33: ='Peer stats'!B18 -> 7.8893006 | I33: ='Peer stats'!B19 -> 6.3930526 | J33: ='Peer stats'!B20 -> 16.329412 | K33: ='Peer stats'!B21 -> 8.5663717
A34: mean | B34: ='Peer stats'!C12 -> 0.091400432 | C34: ='Peer stats'!C13 -> 0.095320645 | D34: ='Peer stats'!C14 -> 0.2998715 | E34: ='Peer stats'!C15 -> 0.41083878 | F34: ='Peer stats'!C16 -> 5.8634567 | G34: ='Peer stats'!C17 -> 5.1221746 | H34: ='Peer stats'!C18 -> 20.697025 | I34: ='Peer stats'!C19 -> 11.689562 | J34: ='Peer stats'!C20 -> 24.917918 | K34: ='Peer stats'!C21 -> 20.681382
A35: median | B35: ='Peer stats'!D12 -> 0.081009285 | C35: ='Peer stats'!D13 -> 0.12960501 | D35: ='Peer stats'!D14 -> 0.26917197 | E35: ='Peer stats'!D15 -> 0.36386744 | F35: ='Peer stats'!D16 -> 5.0492639 | G35: ='Peer stats'!D17 -> 4.4789186 | H35: ='Peer stats'!D18 -> 20.120096 | I35: ='Peer stats'!D19 -> 12.505534 | J35: ='Peer stats'!D20 -> 21.711206 | K35: ='Peer stats'!D21 -> 23.066838
A36: high | B36: ='Peer stats'!E12 -> 0.17789042 | C36: ='Peer stats'!E13 -> 0.2383946 | D36: ='Peer stats'!E14 -> 0.58534233 | E36: ='Peer stats'!E15 -> 0.61288205 | F36: ='Peer stats'!E16 -> 11.387814 | G36: ='Peer stats'!E17 -> 9.6911106 | H36: ='Peer stats'!E18 -> 34.412944 | I36: ='Peer stats'!E19 -> 15.812358 | J36: ='Peer stats'!E20 -> 44 | K36: ='Peer stats'!E21 -> 28.092391
A38: Implied Meta valuation
A39: line | B39: low | C39: mean | D39: median | E39: high
A40: Price at peer EV / Revenue LTM ($) | B40: ='Implied'!B2 -> 156.19596 | C40: ='Implied'!C2 -> 516.18588 | D40: ='Implied'!D2 -> 443.30764 | E40: ='Implied'!E2 -> 1010.67
A41: Price at peer EV / Revenue NTM ($) | B41: ='Implied'!B3 -> 226.44386 | C41: ='Implied'!C3 -> 549.64798 | D41: ='Implied'!D3 -> 479.53534 | E41: ='Implied'!E3 -> 1047.6459
A42: Price at peer EV / EBITDA LTM ($) | B42: ='Implied'!B4 -> 330.61988 | C42: ='Implied'!C4 -> 881.40224 | D42: ='Implied'!D4 -> 856.59205 | E42: ='Implied'!E4 -> 1471.2406
A43: Price at peer EV / EBITDA NTM ($) | B43: ='Implied'!B5 -> 444.41087 | C43: ='Implied'!C5 -> 819.76307 | D43: ='Implied'!D5 -> 877.58926 | E43: ='Implied'!E5 -> 1111.9368
A44: Price at peer P / E LTM ($) | B44: ='Implied'!B6 -> 433.38259 | C44: ='Implied'!C6 -> 661.32154 | D44: ='Implied'!D6 -> 576.2154 | E44: ='Implied'!E6 -> 1167.76
...

Sheet Market data
A1: line | B1: Meta Platforms | C1: Alphabet | D1: Amazon | E1: Microsoft | F1: Netflix | G1: Pinterest | H1: The Trade Desk
A2: Share price ($) | B2: 741.25 | C2: 354.97 | D2: 258.45 | E2: 501.61 | F2: 71.79 | G2: 19.36 | H2: 13.88
A3: Shares outstanding (M) | B3: 2550 | C3: 12230 | D3: 10790 | E3: 7430 | F3: 4160 | G3: 566.31 | H3: 472.8
A4: Cash and investments | B4: 90260 | C4: 242470 | D4: 122990 | E4: 76840 | F4: 9130 | G4: 1270 | H4: 1490
A5: Total debt | B5: 112320 | C5: 120790 | D5: 251640 | E5: 128810 | F5: 16650 | G5: 1200 | H5: 434.11

Sheet Comps
A1: line | B1: Meta Platforms | C1: Alphabet | D1: Amazon | E1: Microsoft | F1: Netflix | G1: Pinterest | H1: The Trade Desk
A2: Market cap | B2: =('Market data'!B2*'Market data'!B3) -> 1890187.5 | C2: =('Market data'!C2*'Market data'!C3) -> 4341283.1 | D2: =('Market data'!D2*'Market data'!D3) -> 2788675.5 | E2: =('Market data'!E2*'Market data'!E3) -> 3726962.3 | F2: =('Market data'!F2*'Market data'!F3) -> 298646.4 | G2: =('Market data'!G2*'Market data'!G3) -> 10963.762 | H2: =('Market data'!H2*'Market data'!H3) -> 6562.464
A3: Net debt (cash) | B3: =('Market data'!B5-'Market data'!B4) -> 22060 | C3: =('Market data'!C5-'Market data'!C4) -> -121680 | D3: =('Market data'!D5-'Market data'!D4) -> 128650 | E3: =('Market data'!E5-'Market data'!E4) -> 51970 | F3: =('Market data'!F5-'Market data'!F4) -> 7520 | G3: =('Market data'!G5-'Market data'!G4) -> -70 | H3: =('Market data'!H5-'Market data'!H4) -> -1055.89
A4: Enterprise value | B4: =(B2+B3) -> 1912247.5 | C4: =(C2+C3) -> 4219603.1 | D4: =(D2+D3) -> 2917325.5 | E4: =(E2+E3) -> 3778932.3 | F4: =(F2+F3) -> 306166.4 | G4: =(G2+G3) -> 10893.762 | H4: =(H2+H3) -> 5506.574
A5: Revenue, prior year | B5: 200966 | C5: 402836 | D5: 716920 | E5: 281724 | F5: 45183 | G5: 4222 | H5: 2896
A6: Revenue LTM | B6: 228250 | C6: 445870 | D6: 775680 | E6: 331840 | F6: 48310 | G6: 4560 | H6: 2990
A7: Revenue NTM / forward proxy | B7: 277941 | C7: 552163 | D7: 882911 | E7: 389938 | F7: 54154 | G7: 4767 | H7: 2553
A8: EBITDA LTM | B8: 109660 | C8: 173160 | D8: 168910 | E8: 194240 | F8: 14730 | G8: 316.56 | H8: 697.98
A9: EBITDA NTM / forward proxy | B9: 180713 | C9: 294248 | D9: 273394 | E9: 238986 | F9: 20052 | G9: 1704 | H9: 719.6
A10: EPS LTM ($) | B10: 26.54 | C10: 19.93 | D10: 12.44 | E10: 17.95 | F10: 3.17 | G10: 0.44 | H10: 0.85
A11: EPS NTM ($) | B11: 32.16 | C11: 13.38 | D11: 9.2 | E11: 19.76 | F11: 3.46 | G11: 2.26 | H11: 0.94
A12: Revenue growth LTM | B12: =((B6/B5)-1) -> 0.13576426 | C12: =((C6/C5)-1) -> 0.10682759 | D12: =((D6/D5)-1) -> 0.081961725 | E12: =((E6/E5)-1) -> 0.17789042 | F12: =((F6/F5)-1) -> 0.069207445 | G12: =((G6/G5)-1) -> 0.080056845 | H12: =((H6/H5)-1) -> 0.032458564
A13: Revenue growth NTM | B13: =((B7/B6)-1) -> 0.21770427 | C13: =((C7/C6)-1) -> 0.2383946 | D13: =((D7/D6)-1) -> 0.13824129 | E13: =((E7/E6)-1) -> 0.17507835 | F13: =((F7/F6)-1) -> 0.12096874 | G13: =((G7/G6)-1) -> 0.045394737 | H13: =((H7/H6)-1) -> -0.14615385
A14: EBITDA margin LTM | B14: =(B8/B6) -> 0.48043812 | C14: =(C8/C6) -> 0.38836432 | D14: =(D8/D6) -> 0.21775732 | E14: =(E8/E6) -> 0.58534233 | F14: =(F8/F6) -> 0.30490582 | G14: =(G8/G6) -> 0.069421053 | H14: =(H8/H6) -> 0.23343813
A15: EBITDA margin NTM | B15: =(B9/B7) -> 0.65018475 | C15: =(C9/C7) -> 0.53290061 | D15: =(D9/D7) -> 0.30965069 | E15: =(E9/E7) -> 0.61288205 | F15: =(F9/F7) -> 0.37027736 | G15: =(G9/G7) -> 0.35745752 | H15: =(H9/H7) -> 0.28186447
A16: EV / Revenue LTM | B16: =(B4/B6) -> 8.3778642 | C16: =(C4/C6) -> 9.463752 | D16: =(D4/D6) -> 3.760991 | E16: =(E4/E6) -> 11.387814 | F16: =(F4/F6) -> 6.3375367 | G16: =(G4/G6) -> 2.3889828 | H16: =(H4/H6) -> 1.8416635
A17: EV / Revenue NTM | B17: =(B4/B7) -> 6.8800483 | C17: =(C4/C7) -> 7.6419519 | D17: =(D4/D7) -> 3.3042124 | E17: =(E4/E7) -> 9.6911106 | F17: =(F4/F7) -> 5.6536248 | G17: =(G4/G7) -> 2.2852447 | H17: =(H4/H7) -> 2.1569033
A18: EV / EBITDA LTM | B18: =(B4/B8) -> 17.437967 | C18: =(C4/C8) -> 24.368232 | D18: =(D4/D8) -> 17.271479 | E18: =(E4/E8) -> 19.454964 | F18: =(F4/F8) -> 20.785227 | G18: =(G4/G8) -> 34.412944 | H18: =(H4/H8) -> 7.8893006
A19: EV / EBITDA NTM | B19: =(B4/B9) -> 10.581682 | C19: =(C4/C9) -> 14.340295 | D19: =(D4/D9) -> 10.670774 | E19: =(E4/E9) -> 15.812358 | F19: =(F4/F9) -> 15.268622 | G19: =(G4/G9) -> 6.3930526 | H19: =(H4/H9) -> 7.6522707
A20: P / E LTM | B20: =('Market data'!B2/B10) -> 27.92954 | C20: =('Market data'!C2/C10) -> 17.810838 | D20: =('Market data'!D2/D10) -> 20.775723 | E20: =('Market data'!E2/E10) -> 27.944847 | F20: =('Market data'!F2/F10) -> 22.646688 | G20: =('Market data'!G2/G10) -> 44 | H20: =('Market data'!H2/H10) -> 16.329412
A21: P / E NTM | B21: =('Market data'!B2/B11) -> 23.048818 | C21: =('Market data'!C2/C11) -> 26.529895 | D21: =('Market data'!D2/D11) -> 28.092391 | E21: =('Market data'!E2/E11) -> 25.385121 | F21: =('Market data'!F2/F11) -> 20.748555 | G21: =('Market data'!G2/G11) -> 8.5663717 | H21: =('Market data'!H2/H11) -> 14.765957

Sheet Peer stats
A1: line | B1: low | C1: mean | D1: median | E1: high
A2: Market cap | B2: =MIN('Comps'!C2:H2) -> 6562.464 | C2: =AVERAGE('Comps'!C2:H2) -> 1862182.3 | D2: =MEDIAN('Comps'!C2:H2) -> 1543660.9 | E2: =MAX('Comps'!C2:H2) -> 4341283.1
A3: Net debt (cash) | B3: =MIN('Comps'!C3:H3) -> -121680 | C3: =AVERAGE('Comps'!C3:H3) -> 10889.018 | D3: =MEDIAN('Comps'!C3:H3) -> 3725 | E3: =MAX('Comps'!C3:H3) -> 128650
A4: Enterprise value | B4: =MIN('Comps'!C4:H4) -> 5506.574 | C4: =AVERAGE('Comps'!C4:H4) -> 1873071.3 | D4: =MEDIAN('Comps'!C4:H4) -> 1611745.9 | E4: =MAX('Comps'!C4:H4) -> 4219603.1
A5: Revenue, prior year | B5: =MIN('Comps'!C5:H5) -> 2896 | C5: =AVERAGE('Comps'!C5:H5) -> 242296.83 | D5: =MEDIAN('Comps'!C5:H5) -> 163453.5 | E5: =MAX('Comps'!C5:H5) -> 716920
A6: Revenue LTM | B6: =MIN('Comps'!C6:H6) -> 2990 | C6: =AVERAGE('Comps'!C6:H6) -> 268208.33 | D6: =MEDIAN('Comps'!C6:H6) -> 190075 | E6: =MAX('Comps'!C6:H6) -> 775680
A7: Revenue NTM / forward proxy | B7: =MIN('Comps'!C7:H7) -> 2553 | C7: =AVERAGE('Comps'!C7:H7) -> 314414.33 | D7: =MEDIAN('Comps'!C7:H7) -> 222046 | E7: =MAX('Comps'!C7:H7) -> 882911
A8: EBITDA LTM | B8: =MIN('Comps'!C8:H8) -> 316.56 | C8: =AVERAGE('Comps'!C8:H8) -> 92009.09 | D8: =MEDIAN('Comps'!C8:H8) -> 91820 | E8: =MAX('Comps'!C8:H8) -> 194240
A9: EBITDA NTM / forward proxy | B9: =MIN('Comps'!C9:H9) -> 719.6 | C9: =AVERAGE('Comps'!C9:H9) -> 138183.93 | D9: =MEDIAN('Comps'!C9:H9) -> 129519 | E9: =MAX('Comps'!C9:H9) -> 294248
A10: EPS LTM ($) | B10: =MIN('Comps'!C10:H10) -> 0.44 | C10: =AVERAGE('Comps'!C10:H10) -> 9.13 | D10: =MEDIAN('Comps'!C10:H10) -> 7.805 | E10: =MAX('Comps'!C10:H10) -> 19.93
A11: EPS NTM ($) | B11: =MIN('Comps'!C11:H11) -> 0.94 | C11: =AVERAGE('Comps'!C11:H11) -> 8.1666667 | D11: =MEDIAN('Comps'!C11:H11) -> 6.33 | E11: =MAX('Comps'!C11:H11) -> 19.76
A12: Revenue growth LTM | B12: =MIN('Comps'!C12:H12) -> 0.032458564 | C12: =AVERAGE('Comps'!C12:H12) -> 0.091400432 | D12: =MEDIAN('Comps'!C12:H12) -> 0.081009285 | E12: =MAX('Comps'!C12:H12) -> 0.17789042
A13: Revenue growth NTM | B13: =MIN('Comps'!C13:H13) -> -0.14615385 | C13: =AVERAGE('Comps'!C13:H13) -> 0.095320645 | D13: =MEDIAN('Comps'!C13:H13) -> 0.12960501 | E13: =MAX('Comps'!C13:H13) -> 0.2383946
... A21: P / E NTM | B21: =MIN('Comps'!C21:H21) -> 8.5663717 | C21: =AVERAGE('Comps'!C21:H21) -> 20.681382 | D21: =MEDIAN('Comps'!C21:H21) -> 23.066838 | E21: =MAX('Comps'!C21:H21) -> 28.092391

Sheet Implied
A1: line | B1: low | C1: mean | D1: median | E1: high
A2: Price at peer EV / Revenue LTM ($) | B2: =((('Peer stats'!B16*'Comps'!B6)-'Comps'!B3)/'Market data'!B3) -> 156.19596 | C2: =((('Peer stats'!C16*'Comps'!B6)-'Comps'!B3)/'Market data'!B3) -> 516.18588 | D2: =((('Peer stats'!D16*'Comps'!B6)-'Comps'!B3)/'Market data'!B3) -> 443.30764 | E2: =((('Peer stats'!E16*'Comps'!B6)-'Comps'!B3)/'Market data'!B3) -> 1010.67
A3: Price at peer EV / Revenue NTM ($) | B3: =((('Peer stats'!B17*'Comps'!B7)-'Comps'!B3)/'Market data'!B3) -> 226.44386 | C3: =((('Peer stats'!C17*'Comps'!B7)-'Comps'!B3)/'Market data'!B3) -> 549.64798 | D3: =((('Peer stats'!D17*'Comps'!B7)-'Comps'!B3)/'Market data'!B3) -> 479.53534 | E3: =((('Peer stats'!E17*'Comps'!B7)-'Comps'!B3)/'Market data'!B3) -> 1047.6459
A4: Price at peer EV / EBITDA LTM ($) | B4: =((('Peer stats'!B18*'Comps'!B8)-'Comps'!B3)/'Market data'!B3) -> 330.61988 | C4: =((('Peer stats'!C18*'Comps'!B8)-'Comps'!B3)/'Market data'!B3) -> 881.40224 | D4: =((('Peer stats'!D18*'Comps'!B8)-'Comps'!B3)/'Market data'!B3) -> 856.59205 | E4: =((('Peer stats'!E18*'Comps'!B8)-'Comps'!B3)/'Market data'!B3) -> 1471.2406
A5: Price at peer EV / EBITDA NTM ($) | B5: =((('Peer stats'!B19*'Comps'!B9)-'Comps'!B3)/'Market data'!B3) -> 444.41087 | C5: =((('Peer stats'!C19*'Comps'!B9)-'Comps'!B3)/'Market data'!B3) -> 819.76307 | D5: =((('Peer stats'!D19*'Comps'!B9)-'Comps'!B3)/'Market data'!B3) -> 877.58926 | E5: =((('Peer stats'!E19*'Comps'!B9)-'Comps'!B3)/'Market data'!B3) -> 1111.9368
A6: Price at peer P / E LTM ($) | B6: =('Peer stats'!B20*'Comps'!B10) -> 433.38259 | C6: =('Peer stats'!C20*'Comps'!B10) -> 661.32154 | D6: =('Peer stats'!D20*'Comps'!B10) -> 576.2154 | E6: =('Peer stats'!E20*'Comps'!B10) -> 1167.76
A7: Price at peer P / E NTM ($) | B7: =('Peer stats'!B21*'Comps'!B11) -> 275.49451 | C7: =('Peer stats'!C21*'Comps'!B11) -> 665.11325 | D7: =('Peer stats'!D21*'Comps'!B11) -> 741.82952 | E7: =('Peer stats'!E21*'Comps'!B11) -> 903.4513
A8: Upside / (downside) at EV / EBITDA NTM | B8: =((B5/'Market data'!B2)-1) -> -0.40045751 | C8: =((C5/'Market data'!B2)-1) -> 0.10591982 | D8: =((D5/'Market data'!B2)-1) -> 0.18393155 | E8: =((E5/'Market data'!B2)-1) -> 0.50008332

Sheet Forecast
A1: line | B1: FY2025 | C1: FY2026 | D1: FY2027 | E1: FY2028
A2: revenue | B2: 200966 | C2: 254118 | D2: =(C2*(1+D5)) -> 306059.72 | E2: =(D2*(1+E5)) -> 361640.16
A3: ebitda | B3: 122319 | C3: 144647 | D3: =(D2*D6) -> 180697.66 | E3: =(E2*E6) -> 222227.88
A4: ebitda margin | B4: =(B3/B2) -> 0.6086552 | C4: =(C3/C2) -> 0.56921194 | D4: =(D3/D2) -> 0.5904 | E4: =(E3/E2) -> 0.6145
A5: growth | D5: 0.2044 | E5: 0.1816
A6: margin target | D6: 0.5904 | E6: 0.6145

Sheet Periods
A1: ID | B1: Name | C1: Start | D1: End | E1: Frame | F1: Year | G1: Quarter | H1: Index
A2: fy2025 | B2: FY2025 | C2: 45658 | D2: 46022 | E2: hist | F2: 2025 | G2: Q1 2025 | H2: 0
A3: fy2026 | B3: FY2026 | C3: 46023 | D3: 46387 | E3: fcst | F3: 2026 | G3: Q1 2026 | H3: 1
A4: fy2027 | B4: FY2027 | C4: 46388 | D4: 46752 | E4: fcst | F4: 2027 | G4: Q1 2027 | H4: 2
A5: fy2028 | B5: FY2028 | C5: 46753 | D5: 47118 | E5: fcst | F5: 2028 | G5: Q1 2028 | H5: 3

Sheet Companies
A1: ID | B1: name | C1: ticker | D1: group | E1: peer
A2: meta | B2: Meta Platforms | C2: META | D2: digital_platforms | E2: 0
A3: googl | B3: Alphabet | C3: GOOGL | D3: digital_platforms | E3: 1
A4: amzn | B4: Amazon | C4: AMZN | D4: mega_cap_platforms | E4: 1
A5: msft | B5: Microsoft | C5: MSFT | D5: mega_cap_platforms | E5: 1
A6: nflx | B6: Netflix | C6: NFLX | D6: consumer_internet | E6: 1
A7: pins | B7: Pinterest | C7: PINS | D7: digital_ads | E7: 1
A8: ttd | B8: The Trade Desk | C8: TTD | D8: digital_ads | E8: 1

Sheet Stats
A1: ID
A2: low
A3: mean
A4: median
A5: high

Sheet Market data lines
A1: ID | B1: name | C1: format
A2: price | B2: Share price ($)
A3: shares | B3: Shares outstanding (M)
A4: cash | B4: Cash and investments
A5: debt | B5: Total debt

Sheet Comps lines
A1: ID | B1: name | C1: format
A2: market_cap | B2: Market cap
A3: net_debt | B3: Net debt (cash)
A4: ev | B4: Enterprise value
A5: revenue_prior | B5: Revenue, prior year
A6: revenue_ltm | B6: Revenue LTM
A7: revenue_ntm | B7: Revenue NTM / forward proxy
A8: ebitda_ltm | B8: EBITDA LTM
A9: ebitda_ntm | B9: EBITDA NTM / forward proxy
A10: eps_ltm | B10: EPS LTM ($)
A11: eps_ntm | B11: EPS NTM ($)
A12: rev_growth_ltm | B12: Revenue growth LTM | C12: percent
A13: rev_growth_ntm | B13: Revenue growth NTM | C13: percent
A14: ebitda_margin_ltm | B14: EBITDA margin LTM | C14: percent
A15: ebitda_margin_ntm | B15: EBITDA margin NTM | C15: percent
A16: ev_revenue_ltm | B16: EV / Revenue LTM
A17: ev_revenue_ntm | B17: EV / Revenue NTM
A18: ev_ebitda_ltm | B18: EV / EBITDA LTM
A19: ev_ebitda_ntm | B19: EV / EBITDA NTM
A20: pe_ltm | B20: P / E LTM
A21: pe_ntm | B21: P / E NTM

Sheet Implied lines
A1: ID | B1: name | C1: format
A2: price_ev_revenue_ltm | B2: Price at peer EV / Revenue LTM ($)
A3: price_ev_revenue_ntm | B3: Price at peer EV / Revenue NTM ($)
A4: price_ev_ebitda_ltm | B4: Price at peer EV / EBITDA LTM ($)
A5: price_ev_ebitda_ntm | B5: Price at peer EV / EBITDA NTM ($)
A6: price_pe_ltm | B6: Price at peer P / E LTM ($)
A7: price_pe_ntm | B7: Price at peer P / E NTM ($)
A8: upside_ev_ebitda_ntm | B8: Upside / (downside) at EV / EBITDA NTM | C8: percent

Sheet Forecast lines
A1: ID | B1: name | C1: format
A2: revenue | B2: revenue
A3: ebitda | B3: ebitda
A4: ebitda_margin | B4: ebitda margin | C4: percent
A5: growth | B5: growth | C5: percent
A6: margin_target | B6: margin target | C6: percent

Sheet Rules
A1: Table | B1: Target | C1: When | D1: Formula | E1: Status
A2: comps | B2: value | C2: line = market_cap | D2: market_data.price * market_data.shares | E2: ok
A3: comps | B3: value | C3: line = net_debt | D3: market_data.debt - market_data.cash | E3: ok
A4: comps | B4: value | C4: line = ev | D4: market_cap + net_debt | E4: ok
A5: comps | B5: value | C5: line = rev_growth_ltm | D5: revenue_ltm / revenue_prior - 1 | E5: ok
A6: comps | B6: value | C6: line = rev_growth_ntm | D6: revenue_ntm / revenue_ltm - 1 | E6: ok
A7: comps | B7: value | C7: line = ebitda_margin_ltm | D7: ebitda_ltm / revenue_ltm | E7: ok
A8: comps | B8: value | C8: line = ebitda_margin_ntm | D8: ebitda_ntm / revenue_ntm | E8: ok
A9: comps | B9: value | C9: line = ev_revenue_ltm | D9: ev / revenue_ltm | E9: ok
A10: comps | B10: value | C10: line = ev_revenue_ntm | D10: ev / revenue_ntm | E10: ok
A11: comps | B11: value | C11: line = ev_ebitda_ltm | D11: ev / ebitda_ltm | E11: ok
A12: comps | B12: value | C12: line = ev_ebitda_ntm | D12: ev / ebitda_ntm | E12: ok
... A28: forecast | B28: value | C28: line = ebitda_margin | D28: ebitda / revenue | E28: ok
A30: Rules are what the model is made of; the cell formulas on the other sheets were compiled from them. Inputs are blue, formulas black.
